{"text_format":"1","workbook":"xlsx","n_sheets":7,"sheets":["Бланк Замовлення","Вінтаж+","Міленіум+","Розрахунок Вінтаж","Декоративна решітка","Фасади кухонних корпусів станд","Фасади кухонних корпусів ПРО"],"not_rendered":{"charts":0,"images":1,"macros":1,"external_links":0,"defined_names":9,"comments":0,"pivot_tables":0},"unopened":[],"bounds":{"document_bytes":16777216,"sheet_cells":100000,"rows_first":2000,"rows_last":500,"rows_between":2000,"halvings":0,"cell_chars":16384,"cell_head_chars":4096},"cells_cut":0,"cells_raw":0,"read":"whole","date_system":"1900"}

{"sheet":"Бланк Замовлення","index":0,"n_rows":477,"n_cols":25,"rows_kept":477,"cut":false,"hidden":false,"merged":[[246,6,246,9],[202,8,202,9],[203,8,203,9],[204,8,204,9],[205,8,205,9],[206,8,206,9],[207,8,207,9],[208,8,208,9],[209,8,209,9],[219,8,219,9],[210,8,210,9],[211,8,211,9],[212,8,212,9],[213,8,213,9],[214,8,214,9],[215,8,215,9],[216,8,216,9],[217,8,217,9],[218,8,218,9],[202,5,202,6],[212,5,212,6],[11,3,12,3],[11,10,12,10],[161,1,161,2],[162,1,162,2],[163,1,163,2],[164,1,164,2],[165,1,165,2],[168,1,168,2],[163,5,163,6],[162,5,162,6],[161,5,161,6],[160,5,160,6],[167,5,167,6],[166,5,166,6],[168,3,168,4],[123,1,123,2],[133,5,133,6],[128,1,128,2],[128,3,128,4],[116,0,117,9],[128,5,128,6],[125,1,125,2],[125,3,125,4],[125,5,125,6],[123,3,123,4],[227,0,228,0],[227,1,228,3],[227,4,228,5],[229,0,230,0],[229,1,230,3],[182,1,182,2],[183,1,183,2],[182,3,182,4],[183,3,183,4],[182,5,182,6],[183,5,183,6],[208,5,208,6],[204,3,204,4],[224,4,224,5],[225,0,226,0],[225,1,226,3],[225,4,226,5],[209,5,209,6],[210,3,210,4],[177,5,177,6],[175,3,175,4],[176,3,176,4],[177,3,177,4],[178,3,178,4],[179,3,179,4],[180,3,180,4],[181,3,181,4],[181,5,181,6],[180,5,180,6],[179,5,179,6],[178,5,178,6],[210,5,210,6],[184,5,184,6],[191,5,191,6],[199,5,199,6],[200,3,200,4],[200,5,200,6],[199,3,199,4],[192,3,192,4],[192,5,192,6],[193,3,193,4],[202,1,202,2],[203,1,203,2],[204,1,204,2],[205,1,205,2],[206,1,206,2],[207,1,207,2],[208,1,208,2],[224,1,224,3],[216,3,216,4],[209,1,209,2],[210,1,210,2],[215,1,215,2],[216,1,216,2],[209,3,209,4],[202,3,202,4],[190,8,191,9],[233,0,234,0],[233,1,234,3],[233,4,234,5],[235,0,236,0],[235,1,236,3],[235,4,236,5],[213,3,213,4],[213,5,213,6],[215,5,215,6],[201,3,201,4],[201,5,201,6],[197,8,197,9],[198,8,198,9],[199,8,199,9],[200,8,200,9],[201,8,201,9],[193,8,193,9],[194,8,194,9],[195,8,195,9],[196,8,196,9],[229,4,230,5],[218,1,218,2],[219,1,219,2],[237,0,238,0],[237,1,238,3],[237,4,238,5],[231,0,232,0],[231,1,232,3],[231,4,232,5],[217,1,217,2],[203,3,203,4],[203,5,203,6],[204,5,204,6],[205,3,205,4],[205,5,205,6],[206,3,206,4],[206,5,206,6],[207,3,207,4],[207,5,207,6],[208,3,208,4],[216,5,216,6],[224,6,224,8],[220,8,220,9],[221,8,221,9],[239,0,240,0],[241,0,242,0],[243,0,244,0],[239,1,240,3],[239,4,240,5],[241,1,242,3],[241,4,242,5],[243,1,244,3],[243,4,244,5],[153,9,154,9],[151,5,151,8],[200,1,200,2],[201,1,201,2],[176,1,176,2],[177,1,177,2],[178,1,178,2],[179,1,179,2],[180,1,180,2],[181,1,181,2],[184,1,184,2],[194,1,194,2],[195,1,195,2],[196,1,196,2],[197,1,197,2],[158,1,158,2],[159,1,159,2],[160,1,160,2],[158,5,158,6],[165,5,165,6],[164,5,164,6],[153,7,154,7],[153,8,154,8],[154,5,154,6],[10,0,10,1],[10,2,10,4],[63,0,69,10],[83,0,86,10],[104,0,115,10],[211,1,211,2],[212,1,212,2],[213,1,213,2],[214,1,214,2],[171,1,171,2],[172,1,172,2],[173,1,173,2],[174,1,174,2],[175,1,175,2],[166,1,166,2],[159,3,159,4],[159,5,159,6],[157,3,157,4],[157,5,157,6],[167,1,167,2],[157,1,157,2],[193,1,193,2],[198,1,198,2],[199,1,199,2],[131,1,131,2],[141,3,141,4],[141,1,141,2],[134,3,134,4],[148,1,148,2],[171,3,171,4],[172,3,172,4],[173,3,173,4],[174,3,174,4],[135,1,135,2],[135,3,135,4],[136,1,136,2],[136,3,136,4],[140,1,140,2],[140,3,140,4],[158,3,158,4],[160,3,160,4],[161,3,161,4],[162,3,162,4],[163,3,163,4],[164,3,164,4],[165,3,165,4],[154,3,154,4],[166,3,166,4],[137,5,137,6],[134,5,134,6],[138,1,138,2],[138,3,138,4],[139,1,139,2],[139,3,139,4],[135,5,135,6],[134,1,134,2],[137,1,137,2],[137,3,137,4],[48,4,48,8],[142,5,142,6],[153,1,154,2],[150,1,150,2],[150,3,150,4],[150,5,150,6],[138,5,138,6],[133,1,133,2],[133,3,133,4],[126,1,126,2],[126,3,126,4],[126,5,126,6],[131,3,131,4],[131,5,131,6],[129,1,129,2],[129,3,129,4],[129,5,129,6],[132,1,132,2],[132,3,132,4],[132,5,132,6],[136,5,136,6],[130,1,130,2],[130,3,130,4],[130,5,130,6],[127,3,127,4],[127,5,127,6],[50,8,50,10],[122,1,122,2],[52,3,52,4],[72,0,72,10],[73,0,73,10],[78,0,78,10],[61,0,61,10],[79,0,79,10],[127,1,127,2],[123,5,123,6],[124,1,124,2],[124,3,124,4],[124,5,124,6],[52,6,52,7],[50,6,50,7],[52,8,52,10],[52,0,52,2],[122,3,122,4],[122,5,122,6],[121,1,121,2],[121,3,121,4],[121,5,121,6],[10,5,10,10],[11,6,12,6],[11,7,12,7],[13,1,13,2],[14,1,14,2],[39,1,39,2],[119,9,120,9],[42,1,42,2],[119,0,120,0],[119,3,120,4],[119,1,120,2],[80,0,81,10],[88,0,90,10],[91,0,92,10],[93,0,94,10],[95,0,102,10],[103,0,103,9],[87,0,87,10],[43,0,43,10],[45,0,45,10],[50,0,50,2],[50,3,50,4],[46,4,46,8],[48,0,48,3],[9,8,9,10],[11,8,12,8],[11,9,12,9],[54,0,55,10],[56,0,56,10],[58,0,60,10],[74,0,75,10],[76,0,77,10],[11,0,12,0],[11,1,12,2],[24,1,24,2],[16,1,16,2],[17,1,17,2],[30,1,30,2],[31,1,31,2],[32,1,32,2],[7,5,9,7],[7,8,7,10],[8,8,8,10],[8,0,8,1],[8,2,8,4],[9,0,9,1],[9,2,9,4],[11,4,11,5],[0,5,6,10],[2,0,2,1],[1,0,1,4],[3,0,3,1],[4,0,4,1],[7,0,7,1],[7,2,7,4],[5,0,5,1],[5,2,5,4],[6,0,6,1],[6,2,6,4],[25,1,25,2],[26,1,26,2],[21,1,21,2],[22,1,22,2],[23,1,23,2],[20,1,20,2],[15,1,15,2],[18,1,18,2],[19,1,19,2],[27,1,27,2],[28,1,28,2],[29,1,29,2],[36,1,36,2],[37,1,37,2],[38,1,38,2],[33,1,33,2],[34,1,34,2],[35,1,35,2],[40,1,40,2],[41,1,41,2],[139,5,139,6],[140,5,140,6],[141,5,141,6],[146,1,146,2],[146,3,146,4],[146,5,146,6],[147,1,147,2],[147,3,147,4],[147,5,147,6],[145,5,145,6],[143,1,143,2],[143,3,143,4],[144,1,144,2],[144,3,144,4],[145,3,145,4],[142,1,142,2],[142,3,142,4],[46,0,46,3],[47,0,47,3],[47,4,47,8],[119,7,119,8],[119,5,120,6],[143,5,143,6],[144,5,144,6],[145,1,145,2],[148,5,148,6],[149,1,149,2],[149,3,149,4],[149,5,149,6],[152,4,152,8],[148,3,148,4],[153,3,153,6],[155,5,155,6],[156,3,156,4],[156,5,156,6],[155,1,155,2],[156,1,156,2],[155,3,155,4],[176,5,176,6],[175,5,175,6],[174,5,174,6],[170,5,170,6],[169,5,169,6],[168,5,168,6],[169,1,169,2],[170,1,170,2],[173,5,173,6],[172,5,172,6],[169,3,169,4],[171,5,171,6],[167,3,167,4],[170,3,170,4],[251,7,251,9],[2,2,2,4],[3,2,3,4],[4,2,4,4],[220,3,220,4],[220,5,220,6],[221,3,221,4],[221,5,221,6],[220,1,220,2],[221,1,221,2],[214,3,214,4],[214,5,214,6],[215,3,215,4],[219,3,219,4],[219,5,219,6],[211,3,211,4],[211,5,211,6],[212,3,212,4],[217,3,217,4],[217,5,217,6],[218,3,218,4],[218,5,218,6],[192,8,192,9],[70,0,70,10],[44,2,44,10],[44,0,44,1],[151,24,151,26],[197,3,197,4],[197,5,197,6],[198,3,198,4],[198,5,198,6],[193,5,193,6],[194,3,194,4],[194,5,194,6],[187,8,188,9],[187,0,188,7],[190,0,191,0],[190,3,190,6],[190,7,191,7],[190,1,191,2],[192,1,192,2],[196,3,196,4],[196,5,196,6],[195,3,195,4],[195,5,195,6],[191,3,191,4],[184,3,184,4],[153,0,154,0]]}
[]
["Замовлення № "]
["Замовник",null,null,null,null,null,null,null,null,null,null,null,"матеріал","товщина","покриття","Фрезеровка"]
["Адреса",null,null,null,null,null,null,null,null,null,null,null,"МДФ 18мм","18мм","Глянець","Т0"]
["Телефон",null,null,null,null,null,null,null,null,null,null,null,"МДФ 16мм","16мм","Напівмат","Т1"]
["Дата замовлення",null,null,null,null,null,null,null,null,null,null,null,"МДФ 19мм","19мм","Перламутр","Т2"]
["Матеріал",null,null,null,null,null,null,null,null,null,null,null,null,null,"Софт-тач light","Т3"]
["Тип покриття",null,null,null,null,"м.Калуш                               Івано-Франківська обл.          вул. Пилипа Орлика 2а",null,null,"моб. +38 050 506-70-60 (8)",null,null,null,null,null,"Софт-тач deep","Т4"]
["Колір",null,null,null,null,null,null,null,"моб. +38 096 506-70-60 (8)",null,null,null,null,null,null,"Т5"]
["Вид корпусу (за потреби)",null,null,null,null,null,null,null,"моб. +38 093 506-70-60 (8)"]
[null,null,null,null,null,"facades@miromark.com.ua",null,null,null,null,null,"видифасадів","Standart NEW"]
["№","Номенклатура",null,"Фрезерування","Розмір,мм",null,"К-сть,шт","Площа деталей,м2","Ціна       за м2","Сума,грн","Свердління","Софія + (Прямий фасад)","Pro NEW","Так"]
[null,null,null,null,"Довжина","Ширина",null,null,null,null,null,"Міленіум +","Standart OLD","Ні"]
[1,null,null,null,null,null,null,{"$f":"((E14*F14)/1000000)*G14","v":0},{"$f":"IF(B14=\"Міленіум +\",IF($C$8=\"Напівмат\",3009.6))+IF(B14=\"Міленіум +\",IF($C$8=\"Софт-тач light\",3317.6))+IF(B14=\"Міленіум +\",IF($C$8=\"Софт-тач deep\",3410.6))+IF(B14=\"Міленіум +\",IF($C$8=\"Глянець\",3291.6))+IF(B14=\"Міленіум +\",IF($C$8=\"Перламутр\",3763.2))+IF(B14=\"Софія + (Прямий фасад)\",IF($C$8=\"Напівмат\",2508))+IF(B14=\"Софія + (Прямий фасад)\",IF($C$8=\"Софт-тач light\",2816))+IF(B14=\"Софія + (Прямий фасад)\",IF($C$8=\"Софт-тач deep\",2909))+IF(B14=\"Софія + (Прямий фасад)\",IF($C$8=\"Глянець\",2743))+IF(B14=\"Софія + (Прямий фасад)\",IF($C$8=\"Перламутр\",3136))+IF(B14=\"Вінтаж +\",IF($C$8=\"Напівмат\",3260.4))+IF(B14=\"Вінтаж +\",IF($C$8=\"Софт-тач light\",3568.4))+IF(B14=\"Вінтаж +\",IF($C$8=\"Софт-тач deep\",3689.4))+IF(B14=\"Вінтаж +\",IF($C$8=\"Глянець\",0))+IF(B14=\"Вінтаж +\",IF($C$8=\"Перламутр\",0))+IF(B14=\"Мелвін\",IF($C$8=\"Напівмат\",3009.6))+IF(B14=\"Мелвін\",IF($C$8=\"Софт-тач light\",3317.6))+IF(B14=\"Мелвін\",IF($C$8=\"Софт-тач deep\",3438.6))+IF(B14=\"Мелвін\",IF($C$8=\"Глянець\",3291.6))+IF(B14=\"Мелвін\",IF($C$8=\"Перламутр\",3763.2))+IF(B14=\"Мілена\",IF($C$8=\"Напівмат\",3009.6))+IF(B14=\"Мілена\",IF($C$8=\"Софт-тач light\",3317.6))+IF(B14=\"Мілена\",IF($C$8=\"Софт-тач deep\",3438.56))+IF(B14=\"Мілена\",IF($C$8=\"Глянець\",3291.6))+IF(B14=\"Мілена\",IF($C$8=\"Перламутр\",3763.2))+IF(B14=\"Адель\",IF($C$8=\"Напівмат\",3009.6))+IF(B14=\"Адель\",IF($C$8=\"Софт-тач light\",3317.6))+IF(B14=\"Адель\",IF($C$8=\"Софт-тач deep\",3438.56))+IF(B14=\"Адель\",IF($C$8=\"Глянець\",3291.6))+IF(B14=\"Адель\",IF($C$8=\"Перламутр\",3763.2))+IF(B14=\"Емілія\",IF($C$8=\"Напівмат\",3009.6))+IF(B14=\"Емілія\",IF($C$8=\"Софт-тач light\",3317.6))+IF(B14=\"Емілія\",IF($C$8=\"Софт-тач deep\",3438.56))+IF(B14=\"Емілія\",IF($C$8=\"Глянець\",3291.6))+IF(B14=\"Емілія\",IF($C$8=\"Перламутр\",3763.2))+IF(B14=\"Візель\",IF($C$8=\"Напівмат\",3260.4))+IF(B14=\"Візель\",IF($C$8=\"Софт-тач light\",3568.4))+IF(B14=\"Візель\",IF($C$8=\"Софт-тач deep\",3689.4))+IF(B14=\"Візель\",IF($C$8=\"Глянець\",0))+IF(B14=\"Візель\",IF($C$8=\"Перламутр\",0))+IF(B14=\"Мішель\",IF($C$8=\"Напівмат\",3511.2))+IF(B14=\"Мішель\",IF($C$8=\"Софт-тач light\",3819.2))+IF(B14=\"Мішель\",IF($C$8=\"Софт-тач deep\",3940.2))+IF(B14=\"Мішель\",IF($C$8=\"Глянець\",0))+IF(B14=\"Мішель\",IF($C$8=\"Перламутр\",0))+IF(B14=\"Доміні\",IF($C$8=\"Напівмат\",3260.4))+IF(B14=\"Доміні\",IF($C$8=\"Софт-тач light\",3568.4))+IF(B14=\"Доміні\",IF($C$8=\"Софт-тач deep\",3689.4))+IF(B14=\"Доміні\",IF($C$8=\"Глянець\",0))+IF(B14=\"Доміні\",IF($C$8=\"Перламутр\",0))+IF(B14=\"Матільда\",IF($C$8=\"Напівмат\",3511.2))+IF(B14=\"Матільда\",IF($C$8=\"Софт-тач light\",3819.2))+IF(B14=\"Матільда\",IF($C$8=\"Софт-тач deep\",3940.2))+IF(B14=\"Матільда\",IF($C$8=\"Глянець\",3840.2))+IF(B14=\"Матільда\",IF($C$8=\"Перламутр\",4390.4))+IF(B14=\"Аманда\",IF($C$8=\"Напівмат\",2758.8))+IF(B14=\"Аманда\",IF($C$8=\"Софт-тач light\",3066.8))+IF(B14=\"Аманда\",IF($C$8=\"Софт-тач deep\",3187.8))+IF(B14=\"Аманда\",IF($C$8=\"Глянець\",3017.3))+IF(B14=\"Аманда\",IF($C$8=\"Перламутр\",3449.6))+IF(B14=\"Прованс\",IF($C$8=\"Напівмат\",3511.2))+IF(B14=\"Прованс\",IF($C$8=\"Софт-тач light\",3819.2))+IF(B14=\"Прованс\",IF($C$8=\"Софт-тач deep\",3940.2))+IF(B14=\"Прованс\",IF($C$8=\"Глянець\",3840.2))+IF(B14=\"Прованс\",IF($C$8=\"Перламутр\",4390.4))+IF(B14=\"Вілсон\",IF($C$8=\"Напівмат\",3511.2))+IF(B14=\"Вілсон\",IF($C$8=\"Софт-тач light\",3819.2))+IF(B14=\"Вілсон\",IF($C$8=\"Софт-тач deep\",3940.2))+IF(B14=\"Вілсон\",IF($C$8=\"Глянець\",0))+IF(B14=\"Вілсон\",IF($C$8=\"Перламутр\",0))+IF(B14=\"Вітрина Софія+ (без скла)\",IF($C$8=\"Напівмат\",2884))+IF(B14=\"Вітрина Софія+ (без скла)\",IF($C$8=\"Софт-тач light\",3192))+IF(B14=\"Вітрина Софія+ (без скла)\",IF($C$8=\"Софт-тач deep\",3313))+IF(B14=\"Вітрина Софія+ (без скла)\",IF($C$8=\"Глянець\",3154))+IF(B14=\"Вітрина Софія+ (без скла)\",IF($C$8=\"Перламутр\",3606.4))+IF(B14=\"Вітрина в зборі Софія+ (Дек. Решітка)\",IF($C$8=\"Напівмат\",5016))+IF(B14=\"Вітрина в зборі Софія+ (Дек. Решітка)\",IF($C$8=\"Софт-тач light\",5324))+IF(B14=\"Вітрина в зборі Софія+ (Дек. Решітка)\",IF($C$8=\"Софт-тач deep\",5445))+IF(B14=\"Вітрина в зборі Софія+ (Дек. Решітка)\",IF($C$8=\"Глянець\",5486))+IF(B14=\"Вітрина в зборі Софія+ (Дек. Решітка)\",IF($C$8=\"Перламутр\",6272))+IF(B14=\"Пілястра 1\",IF($C$8=\"Напівмат\",7110))+IF(B14=\"Пілястра 1\",IF($C$8=\"Софт-тач light\",7418))+IF(B14=\"Пілястра 1\",IF($C$8=\"Софт-тач deep\",7539))+IF(B14=\"Пілястра 1\",IF($C$8=\"Глянець\",7110))+IF(B14=\"Пілястра 1\",IF($C$8=\"Перламутр\",7110))+IF(B14=\"Пілястра 2\",IF($C$8=\"Напівмат\",7110))+IF(B14=\"Пілястра 2\",IF($C$8=\"Софт-тач light\",7418.2))+IF(B14=\"Пілястра 2\",IF($C$8=\"Софт-тач deep\",7539))+IF(B14=\"Пілястра 2\",IF($C$8=\"Глянець\",7110))+IF(B14=\"Пілястра 2\",IF($C$8=\"Перламутр\",7110))+IF(B14=\"Пілястра 3\",IF($C$8=\"Напівмат\",7110))+IF(B14=\"Пілястра 3\",IF($C$8=\"Софт-тач light\",7418.2))+IF(B14=\"Пілястра 3\",IF($C$8=\"Софт-тач deep\",7539.16))+IF(B14=\"Пілястра 3\",IF($C$8=\"Глянець\",7110))+IF(B14=\"Пілястра 3\",IF($C$8=\"Перламутр\",7110))+IF(B14=\"Пілястра 4\",IF($C$8=\"Напівмат\",7110))+IF(B14=\"Пілястра 4\",IF($C$8=\"Софт-тач light\",7418.2))+IF(B14=\"Пілястра 4\",IF($C$8=\"Софт-тач deep\",7539.16))+IF(B14=\"Пілястра 4\",IF($C$8=\"Глянець\",7110))+IF(B14=\"Пілястра 4\",IF($C$8=\"Перламутр\",7110))+IF(B14=\"Вітрина в зборі Софія+ (Скло Прозоре)\",IF($C$8=\"Напівмат\",3762))+IF(B14=\"Вітрина в зборі Софія+ (Скло Прозоре)\",IF($C$8=\"Софт-тач light\",4070))+IF(B14=\"Вітрина в зборі Софія+ (Скло Прозоре)\",IF($C$8=\"Софт-тач deep\",4191))+IF(B14=\"Вітрина в зборі Софія+ (Скло Прозоре)\",IF($C$8=\"Глянець\",4114))+IF(B14=\"Вітрина в зборі Софія+ (Скло Прозоре)\",IF($C$8=\"Перламутр\",4704))+IF(B14=\"Вітрина в зборі Софія+ (Скло Сатин)\",IF($C$8=\"Напівмат\",3762))+IF(B14=\"Вітрина в зборі Софія+ (Скло Сатин)\",IF($C$8=\"Софт-тач light\",4070))+IF(B14=\"Вітрина в зборі Софія+ (Скло Сатин)\",IF($C$8=\"Софт-тач deep\",4191))+IF(B14=\"Вітрина в зборі Софія+ (Скло Сатин)\",IF($C$8=\"Глянець\",4114))+IF(B14=\"Вітрина в зборі Софія+ (Скло Сатин)\",IF($C$8=\"Перламутр\",4704))+IF(B14=\"Вітрина з вибіркою Софія+ (без скла)\",IF($C$8=\"Напівмат\",3135))+IF(B14=\"Вітрина з вибіркою Софія+ (без скла)\",IF($C$8=\"Софт-тач light\",3443))+IF(B14=\"Вітрина з вибіркою Софія+ (без скла)\",IF($C$8=\"Софт-тач deep\",3564))+IF(B14=\"Вітрина з вибіркою Софія+ (без скла)\",IF($C$8=\"Глянець\",3428))+IF(B14=\"Вітрина з вибіркою Софія+ (без скла)\",IF($C$8=\"Перламутр\",3920))+IF(B14=\"Фарбування на замовлення\",IF($C$8=\"Напівмат\",1457))+IF(B14=\"Фарбування на замовлення\",IF($C$8=\"Софт-тач light\",1810))+IF(B14=\"Фарбування на замовлення\",IF($C$8=\"Софт-тач deep\",1931))+IF(B14=\"Фарбування на замовлення\",IF($C$8=\"Глянець\",1648))+IF(B14=\"Фарбування на замовлення\",IF($C$8=\"Перламутр\",1886))+IF(B14=\"Декоративна Решітка\",IF($C$8=\"Напівмат\",2372))+IF(B14=\"Декоративна Решітка\",IF($C$8=\"Софт-тач light\",2680))+IF(B14=\"Декоративна Решітка\",IF($C$8=\"Софт-тач deep\",2801))+IF(B14=\"Декоративна Решітка\",IF($C$8=\"Глянець\",2372))+IF(B14=\"Декоративна Решітка\",IF($C$8=\"Перламутр\",2372))+IF(B14=\"Послуга за виконання нестандартних фрезирувань\",IF($C$8=\"Напівмат\",450))+IF(B14=\"Послуга за виконання нестандартних фрезирувань\",IF($C$8=\"Глянець\",450))+IF(B14=\"Послуга за виконання нестандартних фрезирувань\",IF($C$8=\"Перламутр\",450))+IF(B14=\"Послуга за виконання нестандартних фрезирувань\",IF($C$8=\"Софт-тач light\",450))+IF(B14=\"Послуга за виконання нестандартних фрезирувань\",IF($C$8=\"Софт-тач deep\",450))","v":0},{"$f":"H14*I14","v":0},null,"Адель","Luxe OLD"]
[2,null,null,null,null,null,null,0,{"$f":"IF(B15=\"Міленіум +\",IF($C$8=\"Напівмат\",3009.6))+IF(B15=\"Міленіум +\",IF($C$8=\"Софт-тач light\",3317.6))+IF(B15=\"Міленіум +\",IF($C$8=\"Софт-тач deep\",3410.6))+IF(B15=\"Міленіум +\",IF($C$8=\"Глянець\",3291.6))+IF(B15=\"Міленіум +\",IF($C$8=\"Перламутр\",3763.2))+IF(B15=\"Софія + (Прямий фасад)\",IF($C$8=\"Напівмат\",2508))+IF(B15=\"Софія + (Прямий фасад)\",IF($C$8=\"Софт-тач light\",2816))+IF(B15=\"Софія + (Прямий фасад)\",IF($C$8=\"Софт-тач deep\",2909))+IF(B15=\"Софія + (Прямий фасад)\",IF($C$8=\"Глянець\",2743))+IF(B15=\"Софія + (Прямий фасад)\",IF($C$8=\"Перламутр\",3136))+IF(B15=\"Вінтаж +\",IF($C$8=\"Напівмат\",3260.4))+IF(B15=\"Вінтаж +\",IF($C$8=\"Софт-тач light\",3568.4))+IF(B15=\"Вінтаж +\",IF($C$8=\"Софт-тач deep\",3689.4))+IF(B15=\"Вінтаж +\",IF($C$8=\"Глянець\",0))+IF(B15=\"Вінтаж +\",IF($C$8=\"Перламутр\",0))+IF(B15=\"Мелвін\",IF($C$8=\"Напівмат\",3009.6))+IF(B15=\"Мелвін\",IF($C$8=\"Софт-тач light\",3317.6))+IF(B15=\"Мелвін\",IF($C$8=\"Софт-тач deep\",3438.6))+IF(B15=\"Мелвін\",IF($C$8=\"Глянець\",3291.6))+IF(B15=\"Мелвін\",IF($C$8=\"Перламутр\",3763.2))+IF(B15=\"Мілена\",IF($C$8=\"Напівмат\",3009.6))+IF(B15=\"Мілена\",IF($C$8=\"Софт-тач light\",3317.6))+IF(B15=\"Мілена\",IF($C$8=\"Софт-тач deep\",3438.56))+IF(B15=\"Мілена\",IF($C$8=\"Глянець\",3291.6))+IF(B15=\"Мілена\",IF($C$8=\"Перламутр\",3763.2))+IF(B15=\"Адель\",IF($C$8=\"Напівмат\",3009.6))+IF(B15=\"Адель\",IF($C$8=\"Софт-тач light\",3317.6))+IF(B15=\"Адель\",IF($C$8=\"Софт-тач deep\",3438.56))+IF(B15=\"Адель\",IF($C$8=\"Глянець\",3291.6))+IF(B15=\"Адель\",IF($C$8=\"Перламутр\",3763.2))+IF(B15=\"Емілія\",IF($C$8=\"Напівмат\",3009.6))+IF(B15=\"Емілія\",IF($C$8=\"Софт-тач light\",3317.6))+IF(B15=\"Емілія\",IF($C$8=\"Софт-тач deep\",3438.56))+IF(B15=\"Емілія\",IF($C$8=\"Глянець\",3291.6))+IF(B15=\"Емілія\",IF($C$8=\"Перламутр\",3763.2))+IF(B15=\"Візель\",IF($C$8=\"Напівмат\",3260.4))+IF(B15=\"Візель\",IF($C$8=\"Софт-тач light\",3568.4))+IF(B15=\"Візель\",IF($C$8=\"Софт-тач deep\",3689.4))+IF(B15=\"Візель\",IF($C$8=\"Глянець\",0))+IF(B15=\"Візель\",IF($C$8=\"Перламутр\",0))+IF(B15=\"Мішель\",IF($C$8=\"Напівмат\",3511.2))+IF(B15=\"Мішель\",IF($C$8=\"Софт-тач light\",3819.2))+IF(B15=\"Мішель\",IF($C$8=\"Софт-тач deep\",3940.2))+IF(B15=\"Мішель\",IF($C$8=\"Глянець\",0))+IF(B15=\"Мішель\",IF($C$8=\"Перламутр\",0))+IF(B15=\"Доміні\",IF($C$8=\"Напівмат\",3260.4))+IF(B15=\"Доміні\",IF($C$8=\"Софт-тач light\",3568.4))+IF(B15=\"Доміні\",IF($C$8=\"Софт-тач deep\",3689.4))+IF(B15=\"Доміні\",IF($C$8=\"Глянець\",0))+IF(B15=\"Доміні\",IF($C$8=\"Перламутр\",0))+IF(B15=\"Матільда\",IF($C$8=\"Напівмат\",3511.2))+IF(B15=\"Матільда\",IF($C$8=\"Софт-тач light\",3819.2))+IF(B15=\"Матільда\",IF($C$8=\"Софт-тач deep\",3940.2))+IF(B15=\"Матільда\",IF($C$8=\"Глянець\",3840.2))+IF(B15=\"Матільда\",IF($C$8=\"Перламутр\",4390.4))+IF(B15=\"Аманда\",IF($C$8=\"Напівмат\",2758.8))+IF(B15=\"Аманда\",IF($C$8=\"Софт-тач light\",3066.8))+IF(B15=\"Аманда\",IF($C$8=\"Софт-тач deep\",3187.8))+IF(B15=\"Аманда\",IF($C$8=\"Глянець\",3017.3))+IF(B15=\"Аманда\",IF($C$8=\"Перламутр\",3449.6))+IF(B15=\"Прованс\",IF($C$8=\"Напівмат\",3511.2))+IF(B15=\"Прованс\",IF($C$8=\"Софт-тач light\",3819.2))+IF(B15=\"Прованс\",IF($C$8=\"Софт-тач deep\",3940.2))+IF(B15=\"Прованс\",IF($C$8=\"Глянець\",3840.2))+IF(B15=\"Прованс\",IF($C$8=\"Перламутр\",4390.4))+IF(B15=\"Вілсон\",IF($C$8=\"Напівмат\",3511.2))+IF(B15=\"Вілсон\",IF($C$8=\"Софт-тач light\",3819.2))+IF(B15=\"Вілсон\",IF($C$8=\"Софт-тач deep\",3940.2))+IF(B15=\"Вілсон\",IF($C$8=\"Глянець\",0))+IF(B15=\"Вілсон\",IF($C$8=\"Перламутр\",0))+IF(B15=\"Вітрина Софія+ (без скла)\",IF($C$8=\"Напівмат\",2884))+IF(B15=\"Вітрина Софія+ (без скла)\",IF($C$8=\"Софт-тач light\",3192))+IF(B15=\"Вітрина Софія+ (без скла)\",IF($C$8=\"Софт-тач deep\",3313))+IF(B15=\"Вітрина Софія+ (без скла)\",IF($C$8=\"Глянець\",3154))+IF(B15=\"Вітрина Софія+ (без скла)\",IF($C$8=\"Перламутр\",3606.4))+IF(B15=\"Вітрина в зборі Софія+ (Дек. Решітка)\",IF($C$8=\"Напівмат\",5016))+IF(B15=\"Вітрина в зборі Софія+ (Дек. Решітка)\",IF($C$8=\"Софт-тач light\",5324))+IF(B15=\"Вітрина в зборі Софія+ (Дек. Решітка)\",IF($C$8=\"Софт-тач deep\",5445))+IF(B15=\"Вітрина в зборі Софія+ (Дек. Решітка)\",IF($C$8=\"Глянець\",5486))+IF(B15=\"Вітрина в зборі Софія+ (Дек. Решітка)\",IF($C$8=\"Перламутр\",6272))+IF(B15=\"Пілястра 1\",IF($C$8=\"Напівмат\",7110))+IF(B15=\"Пілястра 1\",IF($C$8=\"Софт-тач light\",7418))+IF(B15=\"Пілястра 1\",IF($C$8=\"Софт-тач deep\",7539))+IF(B15=\"Пілястра 1\",IF($C$8=\"Глянець\",7110))+IF(B15=\"Пілястра 1\",IF($C$8=\"Перламутр\",7110))+IF(B15=\"Пілястра 2\",IF($C$8=\"Напівмат\",7110))+IF(B15=\"Пілястра 2\",IF($C$8=\"Софт-тач light\",7418.2))+IF(B15=\"Пілястра 2\",IF($C$8=\"Софт-тач deep\",7539))+IF(B15=\"Пілястра 2\",IF($C$8=\"Глянець\",7110))+IF(B15=\"Пілястра 2\",IF($C$8=\"Перламутр\",7110))+IF(B15=\"Пілястра 3\",IF($C$8=\"Напівмат\",7110))+IF(B15=\"Пілястра 3\",IF($C$8=\"Софт-тач light\",7418.2))+IF(B15=\"Пілястра 3\",IF($C$8=\"Софт-тач deep\",7539.16))+IF(B15=\"Пілястра 3\",IF($C$8=\"Глянець\",7110))+IF(B15=\"Пілястра 3\",IF($C$8=\"Перламутр\",7110))+IF(B15=\"Пілястра 4\",IF($C$8=\"Напівмат\",7110))+IF(B15=\"Пілястра 4\",IF($C$8=\"Софт-тач light\",7418.2))+IF(B15=\"Пілястра 4\",IF($C$8=\"Софт-тач deep\",7539.16))+IF(B15=\"Пілястра 4\",IF($C$8=\"Глянець\",7110))+IF(B15=\"Пілястра 4\",IF($C$8=\"Перламутр\",7110))+IF(B15=\"Вітрина в зборі Софія+ (Скло Прозоре)\",IF($C$8=\"Напівмат\",3762))+IF(B15=\"Вітрина в зборі Софія+ (Скло Прозоре)\",IF($C$8=\"Софт-тач light\",4070))+IF(B15=\"Вітрина в зборі Софія+ (Скло Прозоре)\",IF($C$8=\"Софт-тач deep\",4191))+IF(B15=\"Вітрина в зборі Софія+ (Скло Прозоре)\",IF($C$8=\"Глянець\",4114))+IF(B15=\"Вітрина в зборі Софія+ (Скло Прозоре)\",IF($C$8=\"Перламутр\",4704))+IF(B15=\"Вітрина в зборі Софія+ (Скло Сатин)\",IF($C$8=\"Напівмат\",3762))+IF(B15=\"Вітрина в зборі Софія+ (Скло Сатин)\",IF($C$8=\"Софт-тач light\",4070))+IF(B15=\"Вітрина в зборі Софія+ (Скло Сатин)\",IF($C$8=\"Софт-тач deep\",4191))+IF(B15=\"Вітрина в зборі Софія+ (Скло Сатин)\",IF($C$8=\"Глянець\",4114))+IF(B15=\"Вітрина в зборі Софія+ (Скло Сатин)\",IF($C$8=\"Перламутр\",4704))+IF(B15=\"Вітрина з вибіркою Софія+ (без скла)\",IF($C$8=\"Напівмат\",3135))+IF(B15=\"Вітрина з вибіркою Софія+ (без скла)\",IF($C$8=\"Софт-тач light\",3443))+IF(B15=\"Вітрина з вибіркою Софія+ (без скла)\",IF($C$8=\"Софт-тач deep\",3564))+IF(B15=\"Вітрина з вибіркою Софія+ (без скла)\",IF($C$8=\"Глянець\",3428))+IF(B15=\"Вітрина з вибіркою Софія+ (без скла)\",IF($C$8=\"Перламутр\",3920))+IF(B15=\"Фарбування на замовлення\",IF($C$8=\"Напівмат\",1457))+IF(B15=\"Фарбування на замовлення\",IF($C$8=\"Софт-тач light\",1810))+IF(B15=\"Фарбування на замовлення\",IF($C$8=\"Софт-тач deep\",1931))+IF(B15=\"Фарбування на замовлення\",IF($C$8=\"Глянець\",1648))+IF(B15=\"Фарбування на замовлення\",IF($C$8=\"Перламутр\",1886))+IF(B15=\"Декоративна Решітка\",IF($C$8=\"Напівмат\",2372))+IF(B15=\"Декоративна Решітка\",IF($C$8=\"Софт-тач light\",2680))+IF(B15=\"Декоративна Решітка\",IF($C$8=\"Софт-тач deep\",2801))+IF(B15=\"Декоративна Решітка\",IF($C$8=\"Глянець\",2372))+IF(B15=\"Декоративна Решітка\",IF($C$8=\"Перламутр\",2372))+IF(B15=\"Послуга за виконання нестандартних фрезирувань\",IF($C$8=\"Напівмат\",450))+IF(B15=\"Послуга за виконання нестандартних фрезирувань\",IF($C$8=\"Глянець\",450))+IF(B15=\"Послуга за виконання нестандартних фрезирувань\",IF($C$8=\"Перламутр\",450))+IF(B15=\"Послуга за виконання нестандартних фрезирувань\",IF($C$8=\"Софт-тач light\",450))+IF(B15=\"Послуга за виконання нестандартних фрезирувань\",IF($C$8=\"Софт-тач deep\",450))","v":0},0,null,"Аманда"]
[3,null,null,null,null,null,null,0,0,0,null,"Візель"]
[4,null,null,null,null,null,null,0,0,0,null,"Вілсон"]
[5,null,null,null,null,null,null,0,0,0,null,"Вінтаж +"]
[6,null,null,null,null,null,null,0,0,0,null,"Вікі"]
[7,null,null,null,null,null,null,0,0,0,null,"Доміні"]
[8,null,null,null,null,null,null,{"$f":"((E21*F21)/1000000)*G21","v":0},0,0,null,"Емілія"]
[9,null,null,null,null,null,null,0,0,0,null,"Максі"]
[10,null,null,null,null,null,null,0,0,0,null,"Матільда"]
[11,null,null,null,null,null,null,0,0,0,null,"Мелвін"]
[12,null,null,null,null,null,null,0,0,0,null,"Мілена"]
[13,null,null,null,null,null,null,0,0,0,null,"Мішель"]
[14,null,null,null,null,null,null,0,0,0,null,"Прованс"]
[15,null,null,null,null,null,null,0,0,0,null,"Прованс з патиною"]
[16,null,null,null,null,null,null,0,0,0,null,"Валенсія +"]
[17,null,null,null,null,null,null,0,0,0,null,"Радіусне Закінчення Софія+ (Зовнішнє)"]
[18,null,null,null,null,null,null,0,0,0,null,"Радіусне Закінчення Софія+ (Внутрішнє Верх)"]
[19,null,null,null,null,null,null,0,0,0,null,"Радіусне Закінчення Софія+(Внутрішнє Низ)"]
[20,null,null,null,null,null,null,0,0,0,null,"Радіусне Закінчення Міленіум+ (Зовнішнє)"]
[21,null,null,null,null,null,null,0,0,0,null,"Радіусне Закінчення Візель (Зовнішнє)"]
[22,null,null,null,null,null,null,0,0,0,null,"Радіусне Закінчення Вінтаж+ (Зовнішнє)"]
[23,null,null,null,null,null,null,0,0,0,null,"Радіусний Цоколь"]
[24,null,null,null,null,null,null,0,0,0,null,"Вітрина Софія+ (без скла)"]
[25,null,null,null,null,null,null,0,0,0,null,"Вітрина з вибіркою Софія+ (без скла)"]
[26,null,null,null,null,null,null,0,0,0,null,"Вітрина в зборі Софія+ (Скло Прозоре)"]
[27,null,null,null,null,null,null,0,0,0,null,"Вітрина в зборі Софія+ (Скло Сатин)"]
[28,null,null,null,null,null,null,0,0,0,null,"Вітрина в зборі Софія+ (Дек. Решітка)"]
[29,null,null,null,null,null,null,0,0,0,null,"Пілястра 1"]
[30,null,null,null,null,null,null,0,0,0,null,"Пілястра 2"]
["Увага!!!Замовлення дається в роботу тільки після повної оплати.",null,null,null,null,null,null,null,null,null,null,"Пілястра 3"]
["Примітки:",null,null,null,null,null,null,null,null,null,null,"Пілястра 4"]
[null,null,null,null,null,null,null,null,null,null,null,"Декоративна Решітка"]
["Загальна площа деталей:",null,null,null,{"$f":"SUM(H14:H43)","v":0},null,null,null,null,null,null,"Послуга за виконання нестандартних фрезирувань"]
["Сума замовлення без знижки:",null,null,null,{"$f":"SUM(J14:J43)","v":0},null,null,null,null,null,null,"Карниз 2,8м"]
["Сума замовлення зі знижкою: %",null,null,null,null,null,null,null,null,null,null,"Карниз 1,4м"]
[null,null,null,null,null,null,null,null,null,null,null,"Карниз Люкс 2,8м"]
["Термін виконання замовлення:",null,null,"15 робочих днів",null,null,"Підпис (замовника):",null,null,null,null,"Карниз Люкс 1,4м"]
[null,null,null,null,null,null,null,null,null,null,null,"Фарбування на замовлення"]
["Орієнтовна дата доставки:",null,null,null,null,null,"Підпис (менеджера):",null,"Ковальчук Г.",null,null,"Радіусний Горизонтальний Фасад"]
[null,null,null,null,null,null,null,null,null,null,null,"S-подібний Фасад"]
["Інформація для споживачів",null,null,null,null,null,null,null,null,null,null,"Кріплення до цокольної планки 2,0м(4шт)"]
[null,null,null,null,null,null,null,null,null,null,null,"Кріплення до цокольної планки 2,6м(5шт)"]
["Загальні критерії оцінювання якості продукції"]
["Допустимі норми якості лицевої сторони деталей, які не вважаються браком:"]
["1) На всіх видах фрезерованих фасадів, всередині фрезерування і на торцях допускаються нерівності у вигляді шагрені, зумовлені внутрішньою структурою МДФ і неможливістю шліфування (вирівнювання) даної поверхні."]
[]
[]
["2) На лицевій стороні голограми (кругові подряпини) з глянцевим покриттям – допускаються, але тільки невидимі при денному світлі, при фронтальному огляді з відстані 0,5м протягом 10 секунд."]
["3) При повторному замовленні одного й того самого кольору існує можливість неспівпадіння відтінків!"]
["4) На радіусних виробах допуск на хорду + / - 3мм. Площинність + / - 3мм. Висоту, яка перпендикулярна площині +/- 3мм.\nЗвертаємо Вашу увагу, що радіусні вироби можуть мати відхилення від розмірів, зазначених у прайсі.\nТому рекомендуємо виготовляти сполучені з ними деталі тільки при отриманні Вами даного виробу.\n5). На радіусних фасадах профіль фрезерування може незначно відрізнятися від профілю на прямому фасаді. "]
[]
[]
[]
[]
[]
[]
["Допуски по викривленню (відхиленню по площинності):\n1). Довжиною та шириною більше 300мм і менше 600мм — 0,4мм.\n2). Довжиною більше 600мм і шириною менше 600мм — 2,0мм.\n3). Довжиною та шириною більше 600м — 3,5мм."]
["Недопустимо:"]
["1) Невідповідність кольору деталі каталогу RAL K7."]
["2) Нерівномірність розподілу фарби на деталі."]
["3) Малі подряпини загальною довжиною більше 5мм, які видимі при фронтальному перегляді з відстані 1м."]
[]
["4) Точкові включення (вкраплення), точкові здуття з радіусом більше 3 мм, видимі при фронтальному огляді з відстані 0,5 м протягом 10 секунд."]
[]
["5) На лицевій стороні голограми (кругові подряпини) з матовим покриттям."]
["6) Потьоки фарби та лаку товщиною більше 0,5мм."]
["7) Кратери, сколи, вм`ятини та проколи глибиною більше 2мм і довжиною більше 2мм (допускається не більше 2-ох на 0,3м2)"]
[]
["Внутрішня сторона:"]
["1) Відколи ламінату більше 1,5мм (не більше 2-ох сколів на виробі площею 0,3 м2); дрібні подряпини, видимі з відстані 0,5м при фронтальному огляді.\n2) Допускаються сліди реставрації сколів ламінату, не 2-ох на 0,3м2.\n3) При двосторонньому фарбуванні на тильній стороні виробу допускаються дрібні подряпини (до 2см), що не порушують цілісного сприйняття покриття."]
[]
[]
[]
["Гарантійні обов'язки та рекламації"]
["1) Виробник меблевих деталей приймає на себе гарантійні зобов'язання протягом 24 місяців з\nмоменту виготовлення виробів, при дотриманні умов транспортування, зберігання, збирання і правил\nексплуатації виробів."]
[]
[]
["2) Претензії за якістю приймаються в межах дії гарантійного терміну за місцем покупки виробів\nз пред'явленням бланка замовлення на вироби."]
[]
["3) У гарантійні зобов'язання входить усунення на виробах недоліків, які виникли з вини\nвиробника, або заміна виробів з виявленим виробничим браком."]
[]
["Гарантія не поширюється на дефекти, спричинені у наступний спосіб:\n• При наявності механічних пошкоджень, що виникли під час вантажно-розвантажувальних робіт, транспортуванні, зберіганні, монтажі.\n• При наявності на деталях слідів дії підвищених температур, агресивних рідин або абразивних матеріалів.\n• При наявності пошкоджень, викликаних природним зносом виробу.\n• При пошкодженнях, що виникли внаслідок порушення правил експлуатації або\nвикористання виробів не за призначенням.\n• У разі навмисного псування виробу."]
[]
[]
[]
[]
[]
[]
[]
["Правила експлуатації виробів МДФ"]
["Вироби МДФ зберігають свої експлуатаційні характеристики, при дотриманні наступних умов:\n- Температура експлуатації від +10 до +40 ° С.\n- Уникати потрапляння прямих сонячних променів.\n- Відносна вологість повітря 40-80%.\n- Перед початком роботи з готовими фасадами в холодний період часу (при низьких температурах) необхідно дати можливість продукції досягти температури (+18 º С) і перебувати в таких умовах як мінімум протягом однієї доби. Зберігати готову продукцію рекомендується в горизонтальному положенні.\n- Щоб уникнути пошкодження виробів в результаті впливу високих температур,необхідно залишати відстань між електричною або газовою плитою та меблями не менше 60 мм.\n- Знімати захисну плівку (при наявності такої), тільки після остаточної установки меблів.\n- Не використовувати в дизайні меблів освітлювальні прилади, розташовані від поверхні виробів на відстані менше 300 мм. - Можлива деформація і зміна кольору."]
[]
[]
[]
[]
[]
[]
[]
[]
[]
[]
[]
["Фасади на замовлення                                                                                                                                       Маршрутний лист для виробництва",null,null,null,null,null,null,null,null,null,null,null,null,"Матеріали","Характиристики"]
[null,null,null,null,null,null,null,null,null,null,null,null,null,"Білий/Білий"]
["1.Форматно-розкрійний центр",null,null,null,null,null,null,null,null,null,null,null,null,"Білий/Шліфований",null,null,"4. Зборочний цех"]
["№","Номенклатура",null,"Матеріал",null,"Характеристика",null,"Розмір деталі в різку,мм",null,"К-сть,шт",null,null,null,null,null,null,"№","Номенклатура",null,"Розмір після фрезеровки,мм",null,null,null,"К-сть,шт","Тип наповнення фасаду"]
[null,null,null,null,null,null,null,"Довжина","Ширина",null,null,null,null,null,null,null,null,null,null,"Довжина",null,"Ширина"]
[1,{"$f":"B14","v":0},null,{"$f":"IF(H122>0,$C$7,0)","v":0},null,{"$f":"IF(H122>0,$N$118,0)","v":0},null,{"$f":"IF(AND(E14>=$M$125,F14>=$M$125),E14+2,E14)","v":0},{"$f":"IF(AND(F14>=$M$125,E14>=$M$125),F14+2,F14)","v":0},{"$f":"G14","v":0},null,null,null,null,null,null,1,{"$f":"B14","v":0},null,{"$f":"E14-117","v":-117},null,{"$f":"F14-117","v":-117},null,{"$f":"G14","v":0},{"$f":"IF(T122>0,$C$10,0)","v":0}]
[2,0,null,{"$f":"IF(H123>0,$C$7,0)","v":0},null,0,null,0,0,0,null,null,null,null,null,null,2,0,null,{"$f":"E15-117","v":-117},null,{"$f":"F15-117","v":-117},null,0,{"$f":"IF(T123>0,$C$10,0)","v":0}]
[3,0,null,0,null,0,null,0,0,0,null,null,null,null,null,null,3,0,null,-117,null,-117,null,0,0]
[4,0,null,0,null,0,null,0,0,0,null,null,101,null,null,null,4,0,null,-117,null,-117,null,0,0]
[5,0,null,0,null,0,null,0,0,0,null,null,null,null,null,null,5,0,null,-117,null,-117,null,0,0]
[6,0,null,0,null,0,null,0,0,0,null,null,null,null,null,null,6,0,null,-117,null,-117,null,0,0]
[7,0,null,0,null,0,null,0,0,0,null,null,null,null,null,null,7,0,null,-117,null,-117,null,0,0]
[8,0,null,0,null,0,null,0,0,0,null,null,null,null,null,null,8,0,null,-117,null,-117,null,0,0]
[9,0,null,0,null,0,null,0,0,0,null,null,null,null,null,null,9,0,null,-117,null,-117,null,0,0]
[10,0,null,0,null,0,null,0,0,0,null,null,null,null,null,null,10,0,null,-117,null,-117,null,0,0]
[11,0,null,0,null,0,null,0,0,0,null,null,null,null,null,null,11,0,null,-117,null,-117,null,0,0]
[12,0,null,0,null,0,null,0,0,0,null,null,null,null,null,null,12,0,null,-117,null,-117,null,0,0]
[13,0,null,0,null,0,null,0,0,0,null,null,null,null,null,null,13,0,null,-117,null,-117,null,0,0]
[14,0,null,0,null,{"$f":"IF(H135>0,$N$118,0)","v":0},null,0,0,0,null,null,null,null,null,null,14,0,null,-117,null,-117,null,0,0]
[15,0,null,0,null,0,null,0,0,0,null,null,null,null,null,null,15,0,null,-117,null,-117,null,0,0]
[16,0,null,0,null,0,null,0,0,0,null,null,null,null,null,null,16,0,null,-117,null,-117,null,0,0]
[17,0,null,0,null,0,null,0,0,0,null,null,null,null,null,null,17,0,null,-117,null,-117,null,0,0]
[18,0,null,0,null,0,null,0,0,0,null,null,null,null,null,null,18,0,null,-117,null,-117,null,0,0]
[19,0,null,0,null,0,null,0,0,0,null,null,null,null,null,null,19,0,null,-117,null,-117,null,0,0]
[20,0,null,0,null,0,null,0,0,0,null,null,null,null,null,null,20,0,null,-117,null,-117,null,0,0]
[21,0,null,0,null,0,null,0,0,0,null,null,null,null,null,null,21,0,null,-117,null,-117,null,0,0]
[22,0,null,0,null,0,null,0,0,0,null,null,null,null,null,null,22,0,null,-117,null,-117,null,0,0]
[23,0,null,0,null,0,null,0,0,0,null,null,null,null,null,null,23,0,null,-117,null,-117,null,0,0]
[24,0,null,0,null,0,null,0,0,0,null,null,null,null,null,null,24,0,null,-117,null,-117,null,0,0]
[25,0,null,0,null,0,null,0,0,0,null,null,null,null,null,null,25,0,null,-117,null,-117,null,0,0]
[26,0,null,0,null,0,null,0,0,0,null,null,null,null,null,null,26,0,null,-117,null,-117,null,0,0]
[27,0,null,0,null,0,null,0,0,0,null,null,null,null,null,null,27,0,null,-117,null,-117,null,0,0]
[28,0,null,0,null,0,null,0,0,0,null,null,null,null,null,null,28,0,null,-117,null,-117]
[29,0,null,0,null,0,null,0,0,0,null,null,null,null,null,null,29,0,null,-117,null,-117]
[30,0,null,0,null,0,null,0,0,0,null,null,null,null,null,null,30,{"$f":"B41","v":0},null,-117,null,-117,null,{"$f":"G41","v":0},0]
[null,null,null,null,null,"Перевірив:___________________",null,null,null,{"$f":"SUM(J122:J151)","v":0},null,null,null,null,null,null,"Виконав:______________________________",null,null,null,null,null,null,{"$f":"SUM(X122:X151)","v":0},"Перевірив: Струтинський Ігор"]
["2.Фрезерувальний центр"]
["№","Номенклатура",null,"Розмір після фрезеровки,мм",null,null,null,"К-сть,шт","Тип Фрези","T"]
[null,null,null,"Довжина",null,"Ширина"]
[1,{"$f":"B14","v":0},null,{"$f":"E14","v":0},null,{"$f":"F14","v":0},null,{"$f":"G14","v":0},{"$f":"D14","v":0},{"$f":"K14","v":0}]
[2,0,null,0,null,0,null,0,{"$f":"D15","v":0},0]
[3,0,null,0,null,0,null,0,{"$f":"D16","v":0},0]
[4,0,null,0,null,0,null,0,0,0]
[5,0,null,0,null,0,null,0,0,0]
[6,0,null,0,null,0,null,0,0,0]
[7,0,null,0,null,0,null,0,0,0]
[8,0,null,{"$f":"E21","v":0},null,0,null,0,0,0]
[9,0,null,0,null,0,null,0,0,0]
[10,0,null,0,null,0,null,0,0,0]
[11,0,null,0,null,0,null,0,0,0]
[12,0,null,0,null,0,null,0,0,0]
[13,0,null,0,null,0,null,0,0,0]
[14,0,null,0,null,0,null,0,0,0]
[15,0,null,{"$f":"E28","v":0},null,0,null,0,0,0]
[16,0,null,0,null,0,null,0,0,0]
[17,0,null,0,null,0,null,0,0,0]
[18,0,null,0,null,0,null,0,0,0]
[19,0,null,0,null,0,null,0,0,0]
[20,0,null,0,null,0,null,0,0,0]
[21,0,null,0,null,0,null,0,0,0]
[22,0,null,0,null,0,null,0,0,0]
[23,0,null,0,null,0,null,0,0,0]
[24,0,null,{"$f":"E37","v":0},null,0,null,0,0,{"$f":"K37","v":0}]
[25,0,null,{"$f":"E38","v":0},null,0,null,0,0,0]
[26,0,null,0,null,0,null,0,0,0]
[27,0,null,0,null,0,null,0,0,0]
[28,0,null,0,null,0,null,0,0,0]
[29,0,null,0,null,0,null,0,0,0]
[30,0,null,0,null,0,null,0,0,0]
["Перевірив:______________________________",null,null,null,null,null,null,{"$f":"SUM(H156:H185)","v":0}]
[]
["Фасади на замовлення                                                                                                                                       Маршрутний лист для виробництва",null,null,null,null,null,null,null,{"$f":"C8&C9","v":""}]
[]
["3.Карусельний цех"]
["№","Номенклатура",null,"Розмір деталі,мм",null,null,null,"К-сть шт","Двостороннє фарбування"]
[null,null,null,"Довжина",null,"Ширина"]
[1,{"$f":"B14","v":0},null,{"$f":"E14","v":0},null,{"$f":"F14","v":0},null,{"$f":"G14","v":0}]
[2,0,null,{"$f":"E15","v":0},null,0,null,0]
[3,0,null,0,null,0,null,0]
[4,0,null,0,null,0,null,0]
[5,0,null,0,null,0,null,0]
[6,0,null,0,null,0,null,0]
[7,0,null,0,null,0,null,0]
[8,0,null,0,null,0,null,0]
[9,0,null,0,null,0,null,0]
[10,0,null,0,null,0,null,0]
[11,0,null,0,null,0,null,0]
[12,0,null,0,null,0,null,0]
[13,0,null,0,null,0,null,0]
[14,0,null,0,null,0,null,0]
[15,0,null,0,null,0,null,0]
[16,0,null,0,null,0,null,0]
[17,0,null,0,null,0,null,0]
[18,0,null,0,null,0,null,0]
[19,0,null,0,null,0,null,0]
[20,0,null,0,null,0,null,0]
[21,0,null,0,null,0,null,0]
[22,0,null,0,null,0,null,0]
[23,0,null,0,null,0,null,0]
[24,0,null,0,null,0,null,0]
[25,0,null,0,null,0,null,0]
[26,0,null,0,null,0,null,0]
[27,0,null,0,null,0,null,0]
[28,0,null,0,null,0,null,0]
[29,0,null,0,null,0,null,0]
[30,0,null,0,null,0,null,0]
["Перевірив:______________________________",null,null,null,null,null,null,{"$f":"SUM(H193:H222)","v":0}]
["4.Упаковочний цех"]
["№     пачки","Порядкові № деталей",null,null,"К-сть деталей       в пачці           ",null,"Загальна площа деталей:",null,null,{"$f":"E47","v":0}]
[1]
[]
[2]
[]
[3]
[]
[4,null,null,null,0]
[]
[5]
[]
[6]
[]
[7]
[]
[8]
[]
[9]
[]
[10]
[]
[]
["Виконав:______________________________",null,null,null,null,null,"Перевірив:_______________________"]
[]
[]
[]
[]
["Відправлення:_________________",null,null,null,null,null,null,"Підпис:__________________"]
[]
[]
[]
[]
[]
[]
["Колір"]
["RAL 1000"]
["RAL 1001"]
["RAL 1002"]
["RAL 1003"]
["RAL 1004"]
["RAL 1005"]
["RAL 1006"]
["RAL 1007"]
["RAL 1011"]
["RAL 1012"]
["RAL 1013"]
["RAL 1014"]
["RAL 1015"]
["RAL 1016"]
["RAL 1017"]
["RAL 1018"]
["RAL 1019"]
["RAL 1020"]
["RAL 1021"]
["RAL 1023"]
["RAL 1024"]
["RAL 1026"]
["RAL 1027"]
["RAL 1028"]
["RAL 1032"]
["RAL 1033"]
["RAL 1034"]
["RAL 1035 (можливе відхилення відтінку)"]
["RAL 1036 (можливе відхилення відтінку)"]
["RAL 1037"]
["RAL 2000"]
["RAL 2001"]
["RAL 2002"]
["RAL 2003"]
["RAL 2004"]
["RAL 2005"]
["RAL 2007"]
["RAL 2008"]
["RAL 2009"]
["RAL 2010"]
["RAL 2011"]
["RAL 2012"]
["RAL 2013 (можливе відхилення відтінку)"]
["RAL 3000"]
["RAL 3001"]
["RAL 3002"]
["RAL 3003"]
["RAL 3004"]
["RAL 3005"]
["RAL 3007"]
["RAL 3009"]
["RAL 3011"]
["RAL 3012"]
["RAL 3013"]
["RAL 3014"]
["RAL 3015"]
["RAL 3016"]
["RAL 3017"]
["RAL 3018"]
["RAL 3019"]
["RAL 3020"]
["RAL 3022"]
["RAL 3024"]
["RAL 3026"]
["RAL 3027"]
["RAL 3028"]
["RAL 3031"]
["RAL 3032 (можливе відхилення відтінку)"]
["RAL 3033 (можливе відхилення відтінку)"]
["RAL 4001"]
["RAL 4002"]
["RAL 4003"]
["RAL 4004"]
["RAL 4005"]
["RAL 4006"]
["RAL 4007"]
["RAL 4008"]
["RAL 4009"]
["RAL 4010"]
["RAL 4011 (можливе відхилення відтінку)"]
["RAL 4012 (можливе відхилення відтінку)"]
["RAL 5000"]
["RAL 5001"]
["RAL 5002"]
["RAL 5003"]
["RAL 5004"]
["RAL 5005"]
["RAL 5007"]
["RAL 5008"]
["RAL 5009"]
["RAL 5010"]
["RAL 5011"]
["RAL 5012"]
["RAL 5013"]
["RAL 5014"]
["RAL 5015"]
["RAL 5017"]
["RAL 5018"]
["RAL 5019"]
["RAL 5020"]
["RAL 5021"]
["RAL 5022"]
["RAL 5023"]
["RAL 5024"]
["RAL 5025 (можливе відхилення відтінку)"]
["RAL 5026 (можливе відхилення відтінку)"]
["RAL 6000"]
["RAL 6001"]
["RAL 6002"]
["RAL 6003"]
["RAL 6004"]
["RAL 6005"]
["RAL 6006"]
["RAL 6007"]
["RAL 6008"]
["RAL 6009"]
["RAL 6010"]
["RAL 6011"]
["RAL 6012"]
["RAL 6013"]
["RAL 6014"]
["RAL 6015"]
["RAL 6016"]
["RAL 6017"]
["RAL 6018"]
["RAL 6019"]
["RAL 6020"]
["RAL 6021"]
["RAL 6022"]
["RAL 6024"]
["RAL 6025"]
["RAL 6026"]
["RAL 6027"]
["RAL 6028"]
["RAL 6029"]
["RAL 6032"]
["RAL 6033"]
["RAL 6034"]
["RAL 6035 (можливе відхилення відтінку)"]
["RAL 6036 (можливе відхилення відтінку)"]
["RAL 6037"]
["RAL 6038"]
["RAL 7000"]
["RAL 7001"]
["RAL 7002"]
["RAL 7003"]
["RAL 7004"]
["RAL 7005"]
["RAL 7006"]
["RAL 7008"]
["RAL 7009"]
["RAL 7010"]
["RAL 7011"]
["RAL 7012"]
["RAL 7013"]
["RAL 7015"]
["RAL 7016"]
["RAL 7021"]
["RAL 7022"]
["RAL 7023"]
["RAL 7024"]
["RAL 7026"]
["RAL 7030"]
["RAL 7031"]
["RAL 7032"]
["RAL 7033"]
["RAL 7034"]
["RAL 7035"]
["RAL 7036"]
["RAL 7037"]
["RAL 7038"]
["RAL 7039"]
["RAL 7040"]
["RAL 7042"]
["RAL 7043"]
["RAL 7044"]
["RAL 7045"]
["RAL 7046"]
["RAL 7047"]
["RAL 7048 (можливе відхилення відтінку)"]
["RAL 8000"]
["RAL 8001"]
["RAL 8002"]
["RAL 8003"]
["RAL 8004"]
["RAL 8007"]
["RAL 8008"]
["RAL 8011"]
["RAL 8012"]
["RAL 8014"]
["RAL 8015"]
["RAL 8016"]
["RAL 8017"]
["RAL 8019"]
["RAL 8022"]
["RAL 8023"]
["RAL 8024"]
["RAL 8025"]
["RAL 8028"]
["RAL 8029 (можливе відхилення відтінку)"]
["RAL 9001"]
["RAL 9002"]
["RAL 9003"]
["RAL 9004"]
["RAL 9005"]
["RAL 9006 (можливе відхилення відтінку)"]
["RAL 9007 (можливе відхилення відтінку)"]
["RAL 9010"]
["RAL 9011"]
["RAL 9016"]
["RAL 9017"]
["RAL 9018"]
["RAL 9022 (можливе відхилення відтінку)"]
["RAL 9023 (можливе відхилення відтінку)"]
["Білий"]
["Чорний"]
["Срібло (доступно тільки в перламутрі)"]
["Золото (доступно тільки в перламутрі)"]

{"sheet":"Вінтаж+","index":1,"n_rows":63,"n_cols":11,"rows_kept":63,"cut":false,"hidden":true,"merged":[[2,1,22,1],[23,1,44,1],[45,1,48,1],[49,1,51,1],[53,2,54,5],[61,2,61,5],[62,2,62,5],[0,2,0,10],[45,2,46,2],[47,2,48,2],[25,2,26,2],[27,2,28,2],[33,2,34,2],[55,2,55,5],[56,2,57,5],[58,2,58,5],[41,2,43,2],[59,2,60,5]]}
[null,null,"Вінтаж + (тільки напівмат)"]
[null,null,"Номенклатура","Довжина, мм","Ширина, мм","К-сть на 1 комплект","Площа,м2","Ціна","Сума","Площа замовлення","К-сть, шт"]
[null,"Верхні секції","Кухонна секція Вінтаж верхня 20В 720мм (20В/720)",715,196,1,{"$f":"(D3*E3)/1000000*F3","v":0.14013999999999999},42.55,{"$f":"H3*J3","v":0},{"$f":"G3*K3","v":0},0]
[null,null,"Кухонна секція Вінтаж верхня 30В 720мм (30В/720)",715,296,1,{"$f":"(D4*E4)/1000000*F4","v":0.21163999999999999},42.55,{"$f":"H4*J4","v":0},{"$f":"G4*K4","v":0},0]
[null,null,"Кухонна секція Вінтаж верхня 30В 900мм (30В/900)",895,296,1,null,null,null,null,0]
[null,null,"Кухонна секція Вінтаж верхня 30В Закінчення Радіусне 720мм (30ВЗР/720)",715,448,1,0.32031999999999999,42.55,0,0,0]
[null,null,"Кухонна секція Вінтаж верхня 40В 720мм (40В/720)",715,396,1,0.28314,42.55,0,0,0]
[null,null,"Кухонна секція Вінтаж верхня 40В 900мм (40В/900)",895,396,1,0.35442000000000001,null,null,null,0]
[null,null,"Кухонна секція Вінтаж верхня 45В 720мм (45В/720)",715,446,1,0.31889000000000001,42.55,0,0,0]
[null,null,"Кухонна секція Вінтаж верхня 50В 360мм (50В/360)",356,496,1,0.17657600000000001,42.55,0,0,0]
[null,null,"Кухонна секція Вінтаж верхня 50В 720мм (50В/720)",715,496,1,0.35464000000000001,42.55,0,0,0]
[null,null,"Кухонна секція Вінтаж верхня 50В 900мм (50В/900",895,496,1,0.44391999999999998,null,null,null,0]
[null,null,"Кухонна секція Вінтаж верхня 60В 360мм (60В/360)",356,596,1,0.212176,42.55,0,0,0]
[null,null,"Кухонна секція Вінтаж верхня 60В 720мм (60В/720)",715,296,2,0.42327999999999999,42.55,0,0,0]
[null,null,"Кухонна секція Вінтаж верхня 60В 900мм (60В/900)",895,296,2,0.52983999999999998,null,null,null,0]
[null,null,"Кухонна секція Вінтаж верхня 60В Горизонтальна 720мм (60ВГ/720)",356,596,2,0.42435200000000001,42.55,0,{"$f":"G16*K16","v":0},0]
[null,null,"Кухонна секція Вінтаж верхня 60В Під витяжку телескоп 510мм (60ВВТ/510)",505,596,1,0.30098000000000003,42.55,0,0,0]
[null,null,"Кухонна секція Вінтаж верхня 80В 360мм (80В/360)",356,796,1,0.28337600000000002,42.55,0,0,0]
[null,null,"Кухонна секція Вінтаж верхня 80В 720мм (80В/720)",715,396,2,0.56628000000000001,42.55,0,0,0]
[null,null,"Кухонна секція Вінтаж верхня 80В 900мм (80В/900)",895,396,2,0.70884000000000003,null,null,null,0]
[null,null,"Кухонна секція Вінтаж верхня 80В Горизонтальна 720мм (80ВГ/720)",356,796,2,0.56675200000000003,42.55,0,0,0]
[null,null,"Кухонна секція Вінтаж верхня 90В Кут 900мм (90ВК/900)",895,396,1,0.35442000000000001,null,null,null,0]
[null,null,"Кухонна секція Вінтаж верхня 90В Кут 600х600 720мм (90ВК/720)",715,396,1,0.28314,42.55,0,0,0]
[null,"Нижні секції","Кухонна секція Вінтаж нижня 20Н Карго 820мм (20НК/820)",715,196,1,0.14013999999999999,42.55,0,0,0]
[null,null,"Кухонна секція Вінтаж нижня 30Н 820мм (30Н/820)",715,296,1,0.21163999999999999,42.55,0,0,0]
[null,null,"Кухонна секція Вінтаж нижня 30Н Закінчення Радіусне 820мм (30НЗР/820)",715,448,1,0.32031999999999999,42.55,0,0,0]
[null,null,null,720,250,1,0.18,42.55,0,0,0]
[null,null,"Кухонна секція Вінтаж нижня 40Н 3шх 820мм (40Н3ШХ/820)",356,396,1,0.14097599999999999,42.55,0,0,0]
[null,null,null,176,396,2,0.13939199999999999,42.55,0,0,0]
[null,null,"Кухонна секція Вінтаж нижня 40Н 820мм (40Н/820)",715,396,1,0.28314,42.55,0,0,0]
[null,null,"Кухонна секція Вінтаж нижня 45Н 820мм (45Н/820)",715,446,1,0.31889000000000001,42.55,0,0,0]
[null,null,"Кухонна секція Вінтаж нижня 50Н 820мм (50Н/820)",715,496,1,0.35464000000000001,42.55,0,0,0]
[null,null,"Кухонна секція Вінтаж нижня 60Н 2шх 820мм (60Н2ШХ/820)",356,596,2,0.42435200000000001,42.55,0,0,0]
[null,null,"Кухонна секція Вінтаж нижня 60Н 3шх 820мм (60Н3ШХ/820)",356,596,1,0.212176,42.55,0,0,0]
[null,null,null,176,596,2,0.20979200000000001,42.55,0,0,0]
[null,null,"Кухонна секція Вінтаж нижня 60Н 820мм (60Н/820)",715,296,2,0.42327999999999999,42.55,0,0,0]
[null,null,"Кухонна секція Вінтаж нижня 60Н Духовка 820мм (60НД/820)",110,596,1,6.5559999999999993E-2,42.55,0,0,0]
[null,null,"Кухонна секція Вінтаж нижня 60Н Мийка 820мм (60НМ/820)",715,296,2,0.42327999999999999,42.55,0,0,0]
[null,null,"Кухонна секція Вінтаж нижня 80Н 2шх 820мм (80Н2ШХ/820)",356,796,2,0.56675200000000003,42.55,0,0,0]
[null,null,"Кухонна секція Вінтаж нижня 80Н 820мм (80Н/820)",715,396,2,0.56628000000000001,42.55,0,0,0]
[null,null,"Кухонна секція Вінтаж нижня 80Н Мийка 820мм (80НМ/820)",715,396,2,0.56628000000000001,42.55,0,0,0]
[null,null,"Кухонна секція Вінтаж нижня 90Н Кут Прямий 820мм (90НКП/820)",715,396,1,0.28314,42.55,0,0,0]
[null,null,null,720,34,1,2.4479999999999998E-2,42.55,0,0,0]
[null,null,null,720,550,1,0.39600000000000002,42.55,0,0,0]
[null,null,"Кухонна секція Вінтаж нижня 90Н Кут Трапеція 45° 850х850 820мм (90НКТ/820)",715,466,1,0.33318999999999999,42.55,0,0,0]
[null,"Пенали","Кухонна секція Вінтаж пенал 60P 2156мм (60P/2156)",1332,596,1,0.79387200000000002,42.55,0,0,0]
[null,null,null,715,596,1,0.42614000000000002,42.55,0,0,0]
[null,null,"Кухонна секція Вінтаж пенал 60P Духовка 2156мм (60РД/2156)",356,596,1,0.212176,42.55,0,0,0]
[null,null,null,715,596,1,0.42614000000000002,42.55,0,0,0]
[null,"Інше","Кухонна секція Вінтаж Пілястра 5ВНП 720мм (5ВНП/720)",720,50,1,3.5999999999999997E-2,42.55,0,0,0]
[null,null,"Фасад посудомийки Вiнтаж 450х715мм (45ФП/720)",715,446,1,0.31889000000000001,42.55,0,0,0]
[null,null,"Фасад посудомийки Вiнтаж 600х715мм (60ФП/720)",715,596,1,0.42614000000000002,42.55,0,0,0]
[]
[null,null,"Загальна площа замовлення в м2 (min 1m2)"]
[]
[null,null,{"$f":"SUM(J3:J52)","v":0}]
[null,null,"Ціна за м2"]
[]
[]
[null,null,"Загальна сума, Євро"]
[]
[null,null,{"$f":"C59*C56","v":0}]
[null,null,"*Сума без врахування індивідуальних знижок"]

{"sheet":"Міленіум+","index":2,"n_rows":81,"n_cols":9,"rows_kept":81,"cut":false,"hidden":true,"merged":[[0,2,0,8],[2,1,31,1],[32,1,59,1],[60,1,67,1],[68,1,69,1],[35,2,36,2],[44,2,45,2],[52,2,54,2],[55,2,57,2],[60,2,61,2],[71,2,72,5],[73,2,73,5],[62,2,63,2],[64,2,65,2],[66,2,67,2],[74,2,75,5],[76,2,76,5],[77,2,78,5],[79,2,79,5],[80,2,80,5]]}
[null,null,"Міленіум +"]
[null,null,"Номенклатура","Довжина/мм","Ширина/мм","К-сть на 1 комплект","Площа,м2","Площа замовлення","К-сть"]
[null,"Верхні секції","Кухонна секція Міленіум верхня 20В 720мм (20В/720) ЛІВА",715,196,1,{"$f":"(D3*E3)/1000000*F3","v":0.14013999999999999},{"$f":"G3*I3","v":0}]
[null,null,"Кухонна секція Міленіум верхня 20В 720мм (20В/720) ПРАВА",715,196,1,{"$f":"(D4*E4)/1000000*F4","v":0.14013999999999999},0]
[null,null,"Кухонна секція Міленіум верхня 30В 720мм (30В/720) ЛІВА",715,296,1,0.21163999999999999,0]
[null,null,"Кухонна секція Міленіум верхня 30В 720мм (30В/720) ПРАВА",715,296,1,0.21163999999999999,0]
[null,null,"Кухонна секція Міленіум верхня 30В 900мм (30В/900) ЛІВА",895,296,1,0.26491999999999999,0]
[null,null,"Кухонна секція Міленіум верхня 30В 900мм (30В/900) ПРАВА",895,296,1,0.26491999999999999,0]
[null,null,"Кухонна секція Міленіум верхня 40В 720мм (40В/720) ЛІВА",715,396,1,0.28314,0]
[null,null,"Кухонна секція Міленіум верхня 40В 720мм (40В/720) ПРАВА",715,396,1,0.28314,0]
[null,null,"Кухонна секція Міленіум верхня 40В 900мм (40В/900) ЛІВА",895,396,1,0.35442000000000001,0]
[null,null,"Кухонна секція Міленіум верхня 40В 900мм (40В/900) ПРАВА",895,396,1,{"$f":"(D12*E12)/1000000*F12","v":0.35442000000000001},{"$f":"G12*I12","v":0}]
[null,null,"Кухонна секція Міленіум верхня 45В 720мм (45В/720) ЛІВА",715,446,1,0.31889000000000001,0]
[null,null,"Кухонна секція Міленіум верхня 45В 720мм (45В/720) ПРАВА",715,446,1,0.31889000000000001,0]
[null,null,"Кухонна секція Міленіум верхня 50В 360мм (50В/360)",356,496,1,0.17657600000000001,0]
[null,null,"Кухонна секція Міленіум верхня 50В 720мм (50В/720) ЛІВА",715,496,1,0.35464000000000001,0]
[null,null,"Кухонна секція Міленіум верхня 50В 720мм (50В/720) ПРАВА",715,496,1,0.35464000000000001,0]
[null,null,"Кухонна секція Міленіум верхня 50В 900мм (50В/900) ЛІВА",895,496,1,0.44391999999999998,0]
[null,null,"Кухонна секція Міленіум верхня 50В 900мм (50В/900) ПРАВА",895,496,1,0.44391999999999998,0]
[null,null,"Кухонна секція Міленіум верхня 60В 360мм (60В/360)",356,596,1,0.212176,0]
[null,null,"Кухонна секція Міленіум верхня 60В 720мм (60В/720)",715,296,2,0.42327999999999999,0]
[null,null,"Кухонна секція Міленіум верхня 60В 900мм (60В/900)",895,296,2,0.52983999999999998,0]
[null,null,"Кухонна секція Міленіум верхня 60В Горизонтальна 720мм (60ВГ/720)",356,596,2,0.42435200000000001,0]
[null,null,"Кухонна секція Міленіум верхня 60В Під витяжку Телескоп 510мм (60ВВТ/510)",506,596,1,0.30157600000000001,0]
[null,null,"Кухонна секція Міленіум верхня 80В 360мм (80В/360)",356,796,1,0.28337600000000002,0]
[null,null,"Кухонна секція Міленіум верхня 80В 720мм (80В/720)",715,396,2,0.56628000000000001,0]
[null,null,"Кухонна секція Міленіум верхня 80В 900мм (80В/900)",895,396,2,0.70884000000000003,0]
[null,null,"Кухонна секція Міленіум верхня 80В Горизонтальна 720мм (80ВГ/720)",356,796,2,0.56675200000000003,0]
[null,null,"Кухонна секція Міленіум верхня 90В Кут 600х600 720мм (90ВК/720) ЛІВИЙ",715,396,1,0.28314,0]
[null,null,"Кухонна секція Міленіум верхня 90В Кут 600х600 720мм (90ВК/720) ПРАВИЙ",715,396,1,0.28314,0]
[null,null,"Кухонна секція Міленіум верхня 90В Кут 600х600 900мм (90ВК/900) ЛІВА",895,396,1,0.35442000000000001,0]
[null,null,"Кухонна секція Міленіум верхня 90В Кут 600х600 900мм (90ВК/900) ПРАВА",895,396,1,0.35442000000000001,0]
[null,"Нижні секції","Кухонна секція Міленіум нижня 20Н Карго 820мм (20НК/820)",715,196,1,0.14013999999999999,0]
[null,null,"Кухонна секція Міленіум нижня 30Н 820мм (30Н/820) ЛІВА",715,296,1,0.21163999999999999,0]
[null,null,"Кухонна секція Міленіум нижня 30Н 820мм (30Н/820) ПРАВА",715,296,1,0.21163999999999999,0]
[null,null,"Кухонна секція Міленіум нижня 40Н 3шх 820мм (40Н3ШХ/820)",356,396,1,0.14097599999999999,0]
[null,null,null,176,396,2,0.13939199999999999,0]
[null,null,"Кухонна секція Міленіум нижня 40Н 820мм (40Н/820) ЛІВА",715,396,1,0.28314,0]
[null,null,"Кухонна секція Міленіум нижня 40Н 820мм (40Н/820) ПРАВА",715,396,1,0.28314,0]
[null,null,"Кухонна секція Міленіум нижня 45Н 820мм (45Н/820) ЛІВА",715,446,1,0.31889000000000001,0]
[null,null,"Кухонна секція Міленіум нижня 45Н 820мм (45Н/820) ПРАВА",715,446,1,0.31889000000000001,0]
[null,null,"Кухонна секція Міленіум нижня 50Н 820мм (50Н/820) ЛІВА",715,496,1,0.35464000000000001,0]
[null,null,"Кухонна секція Міленіум нижня 50Н 820мм (50Н/820) ПРАВА",715,496,1,0.35464000000000001,{"$f":"G43*I43","v":0}]
[null,null,"Кухонна секція Міленіум нижня 60Н 2шх 820мм (60Н2ШХ/820)",356,596,2,0.42435200000000001,0]
[null,null,"Кухонна секція Міленіум нижня 60Н 3шх 820мм (60Н3ШХ/820)",356,596,1,0.212176,0]
[null,null,null,176,596,2,0.20979200000000001,0]
[null,null,"Кухонна секція Міленіум нижня 60Н 820мм (60Н/820)",715,296,2,0.42327999999999999,0]
[null,null,"Кухонна секція Міленіум нижня 60Н Духовка 820мм (60НД/820)",110,596,1,6.5559999999999993E-2,0]
[null,null,"Кухонна секція Міленіум нижня 60Н Мийка 820мм (60НМ/820)",715,296,2,0.42327999999999999,0]
[null,null,"Кухонна секція Міленіум нижня 80Н 2шх 820мм (80Н2ШХ/820)",356,796,2,0.56675200000000003,0]
[null,null,"Кухонна секція Міленіум нижня 80Н 820мм (80Н/820)",715,396,2,0.56628000000000001,0]
[null,null,"Кухонна секція Міленіум нижня 80Н Мийка 820мм (80НМ/820)",715,396,2,0.56628000000000001,0]
[null,null,"Кухонна секція Міленіум нижня 90Н Кут Прямий 550х950 820мм (90НКП/820) ЛІВИЙ",715,396,1,0.28314,0]
[null,null,null,720,34,1,2.4479999999999998E-2,0]
[null,null,null,720,550,1,0.39600000000000002,0]
[null,null,"Кухонна секція Міленіум нижня 90Н Кут Прямий 550х950 820мм (90НКП/820) ПРАВИЙ",715,396,1,0.28314,0]
[null,null,null,720,34,1,2.4479999999999998E-2,0]
[null,null,null,720,550,1,0.39600000000000002,0]
[null,null,"Кухонна секція Міленіум нижня 90Н Кут Трапецiя 45° 850х850 820мм (90НКТ/820) ЛІВИЙ",715,466,1,0.33318999999999999,0]
[null,null,"Кухонна секція Міленіум нижня 90Н Кут Трапецiя 45° 850х850 820мм (90НКТ/820) ПРАВИЙ",715,466,1,0.33318999999999999,0]
[null,"Пенали","Кухонна секція Міленіум пенал 60P 2156мм (60Р/2156) ЛІВИЙ",1332,596,1,0.79387200000000002,0]
[null,null,null,715,596,1,0.42614000000000002,0]
[null,null,"Кухонна секція Міленіум пенал 60P 2156мм (60Р/2156) ПРАВИЙ",1332,596,1,0.79387200000000002,0]
[null,null,null,715,596,1,0.42614000000000002,0]
[null,null,"Кухонна секція Міленіум пенал 60P Духовка 2156мм (60РД/2156) ЛІВИЙ",356,596,1,0.212176,0]
[null,null,null,715,596,1,0.42614000000000002,0]
[null,null,"Кухонна секція Міленіум пенал 60P Духовка 2156мм (60РД/2156) ПРАВИЙ",356,596,1,0.212176,0]
[null,null,null,715,596,1,0.42614000000000002,0]
[null,"Інше","Фасад посудомийки Мiленіум 450х720мм (45ФП/720)",715,446,1,0.31889000000000001,0]
[null,null,"Фасад посудомийки Міленіум 600х720мм (60ФП/720)",715,596,1,0.42614000000000002,0]
[]
[null,null,"Загальна площа замовлення в м2 (min 1m2)"]
[]
[null,null,{"$f":"SUM(H3:H70)","v":0}]
[null,null,"Ціна за м2"]
[]
[]
[null,null,"Загальна сума, Євро"]
[]
[null,null,{"$f":"C74*C77","v":0}]
[null,null,"*Сума без врахування індивідуальних знижок"]

{"sheet":"Розрахунок Вінтаж","index":3,"n_rows":32,"n_cols":12,"rows_kept":32,"cut":false,"hidden":true,"merged":[[0,1,0,11],[1,3,1,5],[1,8,1,10],[1,6,2,6],[1,11,2,11],[1,1,2,1],[1,2,2,2]]}
[null,"ХДФ для радіусного фасаду"]
[null,"№","Матеріал","Розмір ХДФ",null,null,"К-сть.шт",null,"Розмір ХДФ",null,null,"К-сть.шт"]
[null,null,null,"Довжина",null,"Ширина",null,null,"Довжина",null,"Ширина"]
[null,1,"ХДФ 3мм Біла/Шліфована",{"$f":"'Бланк Замовлення'!E14+2","v":2},"х",65,{"$f":"'Бланк Замовлення'!G14*2","v":0},null,{"$f":"'Бланк Замовлення'!F14-128","v":-128},"х",65,{"$f":"'Бланк Замовлення'!G14*2","v":0}]
[null,2,"ХДФ 3мм Біла/Шліфована",{"$f":"'Бланк Замовлення'!E15+2","v":2},"х",65,{"$f":"'Бланк Замовлення'!G15*2","v":0},null,{"$f":"'Бланк Замовлення'!F15-128","v":-128},"х",65,{"$f":"'Бланк Замовлення'!G15*2","v":0}]
[null,3,"ХДФ 3мм Біла/Шліфована",{"$f":"'Бланк Замовлення'!E16+2","v":2},"х",65,{"$f":"'Бланк Замовлення'!G16*2","v":0},null,{"$f":"'Бланк Замовлення'!F16-128","v":-128},"х",65,{"$f":"'Бланк Замовлення'!G16*2","v":0}]
[null,4,"ХДФ 3мм Біла/Шліфована",{"$f":"'Бланк Замовлення'!E17+2","v":2},"х",65,{"$f":"'Бланк Замовлення'!G17*2","v":0},null,{"$f":"'Бланк Замовлення'!F17-128","v":-128},"х",65,{"$f":"'Бланк Замовлення'!G17*2","v":0}]
[null,5,"ХДФ 3мм Біла/Шліфована",{"$f":"'Бланк Замовлення'!E18+2","v":2},"х",65,{"$f":"'Бланк Замовлення'!G18*2","v":0},null,{"$f":"'Бланк Замовлення'!F18-128","v":-128},"х",65,{"$f":"'Бланк Замовлення'!G18*2","v":0}]
[null,6,"ХДФ 3мм Біла/Шліфована",{"$f":"'Бланк Замовлення'!E19+2","v":2},"х",65,{"$f":"'Бланк Замовлення'!G19*2","v":0},null,{"$f":"'Бланк Замовлення'!F19-128","v":-128},"х",65,{"$f":"'Бланк Замовлення'!G19*2","v":0}]
[null,7,"ХДФ 3мм Біла/Шліфована",{"$f":"'Бланк Замовлення'!E20+2","v":2},"х",65,{"$f":"'Бланк Замовлення'!G20*2","v":0},null,{"$f":"'Бланк Замовлення'!F20-128","v":-128},"х",65,{"$f":"'Бланк Замовлення'!G20*2","v":0}]
[null,8,"ХДФ 3мм Біла/Шліфована",{"$f":"'Бланк Замовлення'!E21+2","v":2},"х",65,{"$f":"'Бланк Замовлення'!G21*2","v":0},null,{"$f":"'Бланк Замовлення'!F21-128","v":-128},"х",65,{"$f":"'Бланк Замовлення'!G21*2","v":0}]
[null,9,"ХДФ 3мм Біла/Шліфована",{"$f":"'Бланк Замовлення'!E22+2","v":2},"х",65,{"$f":"'Бланк Замовлення'!G22*2","v":0},null,{"$f":"'Бланк Замовлення'!F22-128","v":-128},"х",65,{"$f":"'Бланк Замовлення'!G22*2","v":0}]
[null,10,"ХДФ 3мм Біла/Шліфована",{"$f":"'Бланк Замовлення'!E23+2","v":2},"х",65,{"$f":"'Бланк Замовлення'!G23*2","v":0},null,{"$f":"'Бланк Замовлення'!F23-128","v":-128},"х",65,{"$f":"'Бланк Замовлення'!G23*2","v":0}]
[null,11,"ХДФ 3мм Біла/Шліфована",{"$f":"'Бланк Замовлення'!E24+2","v":2},"х",65,{"$f":"'Бланк Замовлення'!G24*2","v":0},null,{"$f":"'Бланк Замовлення'!F24-128","v":-128},"х",65,{"$f":"'Бланк Замовлення'!G24*2","v":0}]
[null,12,"ХДФ 3мм Біла/Шліфована",{"$f":"'Бланк Замовлення'!E25+2","v":2},"х",65,{"$f":"'Бланк Замовлення'!G25*2","v":0},null,{"$f":"'Бланк Замовлення'!F25-128","v":-128},"х",65,{"$f":"'Бланк Замовлення'!G25*2","v":0}]
[null,13,"ХДФ 3мм Біла/Шліфована",{"$f":"'Бланк Замовлення'!E26+2","v":2},"х",65,{"$f":"'Бланк Замовлення'!G26*2","v":0},null,{"$f":"'Бланк Замовлення'!F26-128","v":-128},"х",65,{"$f":"'Бланк Замовлення'!G26*2","v":0}]
[null,14,"ХДФ 3мм Біла/Шліфована",{"$f":"'Бланк Замовлення'!E27+2","v":2},"х",65,{"$f":"'Бланк Замовлення'!G27*2","v":0},null,{"$f":"'Бланк Замовлення'!F27-128","v":-128},"х",65,{"$f":"'Бланк Замовлення'!G27*2","v":0}]
[null,15,"ХДФ 3мм Біла/Шліфована",{"$f":"'Бланк Замовлення'!E28+2","v":2},"х",65,{"$f":"'Бланк Замовлення'!G28*2","v":0},null,{"$f":"'Бланк Замовлення'!F28-128","v":-128},"х",65,{"$f":"'Бланк Замовлення'!G28*2","v":0}]
[null,16,"ХДФ 3мм Біла/Шліфована",{"$f":"'Бланк Замовлення'!E29+2","v":2},"х",65,{"$f":"'Бланк Замовлення'!G29*2","v":0},null,{"$f":"'Бланк Замовлення'!F29-128","v":-128},"х",65,{"$f":"'Бланк Замовлення'!G29*2","v":0}]
[null,17,"ХДФ 3мм Біла/Шліфована",{"$f":"'Бланк Замовлення'!E30+2","v":2},"х",65,{"$f":"'Бланк Замовлення'!G30*2","v":0},null,{"$f":"'Бланк Замовлення'!F30-128","v":-128},"х",65,{"$f":"'Бланк Замовлення'!G30*2","v":0}]
[null,18,"ХДФ 3мм Біла/Шліфована",{"$f":"'Бланк Замовлення'!E31+2","v":2},"х",65,{"$f":"'Бланк Замовлення'!G31*2","v":0},null,{"$f":"'Бланк Замовлення'!F31-128","v":-128},"х",65,{"$f":"'Бланк Замовлення'!G31*2","v":0}]
[null,19,"ХДФ 3мм Біла/Шліфована",{"$f":"'Бланк Замовлення'!E32+2","v":2},"х",65,{"$f":"'Бланк Замовлення'!G32*2","v":0},null,{"$f":"'Бланк Замовлення'!F32-128","v":-128},"х",65,{"$f":"'Бланк Замовлення'!G32*2","v":0}]
[null,20,"ХДФ 3мм Біла/Шліфована",{"$f":"'Бланк Замовлення'!E33+2","v":2},"х",65,{"$f":"'Бланк Замовлення'!G33*2","v":0},null,{"$f":"'Бланк Замовлення'!F33-128","v":-128},"х",65,{"$f":"'Бланк Замовлення'!G33*2","v":0}]
[null,21,"ХДФ 3мм Біла/Шліфована",{"$f":"'Бланк Замовлення'!E34+2","v":2},"х",65,{"$f":"'Бланк Замовлення'!G34*2","v":0},null,{"$f":"'Бланк Замовлення'!F34-128","v":-128},"х",65,{"$f":"'Бланк Замовлення'!G34*2","v":0}]
[null,22,"ХДФ 3мм Біла/Шліфована",{"$f":"'Бланк Замовлення'!E35+2","v":2},"х",65,{"$f":"'Бланк Замовлення'!G35*2","v":0},null,{"$f":"'Бланк Замовлення'!F35-128","v":-128},"х",65,{"$f":"'Бланк Замовлення'!G35*2","v":0}]
[null,23,"ХДФ 3мм Біла/Шліфована",{"$f":"'Бланк Замовлення'!E36+2","v":2},"х",65,{"$f":"'Бланк Замовлення'!G36*2","v":0},null,{"$f":"'Бланк Замовлення'!F36-128","v":-128},"х",65,{"$f":"'Бланк Замовлення'!G36*2","v":0}]
[null,24,"ХДФ 3мм Біла/Шліфована",{"$f":"'Бланк Замовлення'!E37+2","v":2},"х",65,{"$f":"'Бланк Замовлення'!G37*2","v":0},null,{"$f":"'Бланк Замовлення'!F37-128","v":-128},"х",65,{"$f":"'Бланк Замовлення'!G37*2","v":0}]
[null,25,"ХДФ 3мм Біла/Шліфована",{"$f":"'Бланк Замовлення'!E38+2","v":2},"х",65,{"$f":"'Бланк Замовлення'!G38*2","v":0},null,{"$f":"'Бланк Замовлення'!F38-128","v":-128},"х",65,{"$f":"'Бланк Замовлення'!G38*2","v":0}]
[null,26,"ХДФ 3мм Біла/Шліфована",{"$f":"'Бланк Замовлення'!E39+2","v":2},"х",65,{"$f":"'Бланк Замовлення'!G39*2","v":0},null,{"$f":"'Бланк Замовлення'!F39-128","v":-128},"х",65,{"$f":"'Бланк Замовлення'!G39*2","v":0}]
[null,27,"ХДФ 3мм Біла/Шліфована",{"$f":"'Бланк Замовлення'!E40+2","v":2},"х",65,{"$f":"'Бланк Замовлення'!G40*2","v":0},null,{"$f":"'Бланк Замовлення'!F40-128","v":-128},"х",65,{"$f":"'Бланк Замовлення'!G40*2","v":0}]
[null,28,"ХДФ 3мм Біла/Шліфована",{"$f":"'Бланк Замовлення'!E41+2","v":2},"х",65,{"$f":"'Бланк Замовлення'!G41*2","v":0},null,{"$f":"'Бланк Замовлення'!F41-128","v":-128},"х",65,{"$f":"'Бланк Замовлення'!G41*2","v":0}]
[null,29,"ХДФ 3мм Біла/Шліфована",{"$f":"'Бланк Замовлення'!E42+2","v":2},"х",65,{"$f":"'Бланк Замовлення'!G42*2","v":0},null,{"$f":"'Бланк Замовлення'!F42-128","v":-128},"х",65,{"$f":"'Бланк Замовлення'!G42*2","v":0}]

{"sheet":"Декоративна решітка","index":4,"n_rows":32,"n_cols":9,"rows_kept":32,"cut":false,"hidden":true,"merged":[[13,2,13,5],[2,2,2,5],[3,2,3,5],[4,2,4,5],[5,2,5,5],[6,2,6,5],[7,2,7,5],[29,2,29,5],[30,2,30,5],[31,2,31,5],[20,2,20,5],[21,2,21,5],[22,2,22,5],[23,2,23,5],[24,2,24,5],[25,2,25,5],[1,2,1,5],[0,1,0,8],[26,2,26,5],[27,2,27,5],[28,2,28,5],[14,2,14,5],[15,2,15,5],[16,2,16,5],[17,2,17,5],[18,2,18,5],[19,2,19,5],[8,2,8,5],[9,2,9,5],[10,2,10,5],[11,2,11,5],[12,2,12,5]]}
[null,"Декоративна решітка"]
[null,"№","Номенклатура",null,null,null,"Довжина","Ширина","К-сть"]
[null,1,"Декоративна решітка",null,null,null,{"$f":"'Бланк Замовлення'!E14-113","v":-113},{"$f":"'Бланк Замовлення'!F14-113","v":-113},{"$f":"'Бланк Замовлення'!G14","v":0}]
[null,2,"Декоративна решітка",null,null,null,{"$f":"'Бланк Замовлення'!E15-113","v":-113},{"$f":"'Бланк Замовлення'!F15-113","v":-113},{"$f":"'Бланк Замовлення'!G15","v":0}]
[null,3,"Декоративна решітка",null,null,null,{"$f":"'Бланк Замовлення'!E16-113","v":-113},{"$f":"'Бланк Замовлення'!F16-113","v":-113},{"$f":"'Бланк Замовлення'!G16","v":0}]
[null,4,"Декоративна решітка",null,null,null,{"$f":"'Бланк Замовлення'!E17-113","v":-113},{"$f":"'Бланк Замовлення'!F17-113","v":-113},{"$f":"'Бланк Замовлення'!G17","v":0}]
[null,5,"Декоративна решітка",null,null,null,{"$f":"'Бланк Замовлення'!E18-113","v":-113},{"$f":"'Бланк Замовлення'!F18-113","v":-113},{"$f":"'Бланк Замовлення'!G18","v":0}]
[null,6,"Декоративна решітка",null,null,null,{"$f":"'Бланк Замовлення'!E19-113","v":-113},{"$f":"'Бланк Замовлення'!F19-113","v":-113},{"$f":"'Бланк Замовлення'!G19","v":0}]
[null,7,"Декоративна решітка",null,null,null,{"$f":"'Бланк Замовлення'!E20-113","v":-113},{"$f":"'Бланк Замовлення'!F20-113","v":-113},{"$f":"'Бланк Замовлення'!G20","v":0}]
[null,8,"Декоративна решітка",null,null,null,{"$f":"'Бланк Замовлення'!E21-113","v":-113},{"$f":"'Бланк Замовлення'!F21-113","v":-113},{"$f":"'Бланк Замовлення'!G21","v":0}]
[null,9,"Декоративна решітка",null,null,null,{"$f":"'Бланк Замовлення'!E22-113","v":-113},{"$f":"'Бланк Замовлення'!F22-113","v":-113},{"$f":"'Бланк Замовлення'!G22","v":0}]
[null,10,"Декоративна решітка",null,null,null,{"$f":"'Бланк Замовлення'!E23-113","v":-113},{"$f":"'Бланк Замовлення'!F23-113","v":-113},{"$f":"'Бланк Замовлення'!G23","v":0}]
[null,11,"Декоративна решітка",null,null,null,{"$f":"'Бланк Замовлення'!E24-113","v":-113},{"$f":"'Бланк Замовлення'!F24-113","v":-113},{"$f":"'Бланк Замовлення'!G24","v":0}]
[null,12,"Декоративна решітка",null,null,null,{"$f":"'Бланк Замовлення'!E25-113","v":-113},{"$f":"'Бланк Замовлення'!F25-113","v":-113},{"$f":"'Бланк Замовлення'!G25","v":0}]
[null,13,"Декоративна решітка",null,null,null,{"$f":"'Бланк Замовлення'!E26-113","v":-113},{"$f":"'Бланк Замовлення'!F26-113","v":-113},{"$f":"'Бланк Замовлення'!G26","v":0}]
[null,14,"Декоративна решітка",null,null,null,{"$f":"'Бланк Замовлення'!E27-113","v":-113},{"$f":"'Бланк Замовлення'!F27-113","v":-113},{"$f":"'Бланк Замовлення'!G27","v":0}]
[null,15,"Декоративна решітка",null,null,null,{"$f":"'Бланк Замовлення'!E28-113","v":-113},{"$f":"'Бланк Замовлення'!F28-113","v":-113},{"$f":"'Бланк Замовлення'!G28","v":0}]
[null,16,"Декоративна решітка",null,null,null,{"$f":"'Бланк Замовлення'!E29-113","v":-113},{"$f":"'Бланк Замовлення'!F29-113","v":-113},{"$f":"'Бланк Замовлення'!G29","v":0}]
[null,17,"Декоративна решітка",null,null,null,{"$f":"'Бланк Замовлення'!E30-113","v":-113},{"$f":"'Бланк Замовлення'!F30-113","v":-113},{"$f":"'Бланк Замовлення'!G30","v":0}]
[null,18,"Декоративна решітка",null,null,null,{"$f":"'Бланк Замовлення'!E31-113","v":-113},{"$f":"'Бланк Замовлення'!F31-113","v":-113},{"$f":"'Бланк Замовлення'!G31","v":0}]
[null,19,"Декоративна решітка",null,null,null,{"$f":"'Бланк Замовлення'!E32-113","v":-113},{"$f":"'Бланк Замовлення'!F32-113","v":-113},{"$f":"'Бланк Замовлення'!G32","v":0}]
[null,20,"Декоративна решітка",null,null,null,{"$f":"'Бланк Замовлення'!E33-113","v":-113},{"$f":"'Бланк Замовлення'!F33-113","v":-113},{"$f":"'Бланк Замовлення'!G33","v":0}]
[null,21,"Декоративна решітка",null,null,null,{"$f":"'Бланк Замовлення'!E34-113","v":-113},{"$f":"'Бланк Замовлення'!F34-113","v":-113},{"$f":"'Бланк Замовлення'!G34","v":0}]
[null,22,"Декоративна решітка",null,null,null,{"$f":"'Бланк Замовлення'!E35-113","v":-113},{"$f":"'Бланк Замовлення'!F35-113","v":-113},{"$f":"'Бланк Замовлення'!G35","v":0}]
[null,23,"Декоративна решітка",null,null,null,{"$f":"'Бланк Замовлення'!E36-113","v":-113},{"$f":"'Бланк Замовлення'!F36-113","v":-113},{"$f":"'Бланк Замовлення'!G36","v":0}]
[null,24,"Декоративна решітка",null,null,null,{"$f":"'Бланк Замовлення'!E37-113","v":-113},{"$f":"'Бланк Замовлення'!F37-113","v":-113},{"$f":"'Бланк Замовлення'!G37","v":0}]
[null,25,"Декоративна решітка",null,null,null,{"$f":"'Бланк Замовлення'!E38-113","v":-113},{"$f":"'Бланк Замовлення'!F38-113","v":-113},{"$f":"'Бланк Замовлення'!G38","v":0}]
[null,26,"Декоративна решітка",null,null,null,{"$f":"'Бланк Замовлення'!E39-113","v":-113},{"$f":"'Бланк Замовлення'!F39-113","v":-113},{"$f":"'Бланк Замовлення'!G39","v":0}]
[null,27,"Декоративна решітка",null,null,null,{"$f":"'Бланк Замовлення'!E40-113","v":-113},{"$f":"'Бланк Замовлення'!F40-113","v":-113},{"$f":"'Бланк Замовлення'!G40","v":0}]
[null,28,"Декоративна решітка",null,null,null,{"$f":"'Бланк Замовлення'!E41-113","v":-113},{"$f":"'Бланк Замовлення'!F41-113","v":-113},{"$f":"'Бланк Замовлення'!G41","v":0}]
[null,29,"Декоративна решітка",null,null,null,{"$f":"'Бланк Замовлення'!E42-113","v":-113},{"$f":"'Бланк Замовлення'!F42-113","v":-113},{"$f":"'Бланк Замовлення'!G42","v":0}]
[null,30,"Декоративна решітка",null,null,null,{"$f":"'Бланк Замовлення'!E43-113","v":-113},{"$f":"'Бланк Замовлення'!F43-113","v":-113},{"$f":"'Бланк Замовлення'!G43","v":0}]

{"sheet":"Фасади кухонних корпусів станд","index":5,"n_rows":125,"n_cols":50,"rows_kept":125,"cut":false,"hidden":false,"merged":[[108,1,124,1],[127,2,128,5],[104,38,105,38],[104,45,105,45],[106,2,107,2],[106,9,107,9],[106,10,107,10],[106,22,107,22],[106,31,107,31],[106,38,107,38],[106,45,107,45],[87,1,107,1],[102,2,103,2],[102,9,103,9],[102,22,103,22],[102,38,103,38],[102,45,103,45],[104,2,105,2],[104,9,105,9],[104,10,105,10],[104,22,105,22],[104,31,105,31],[98,45,99,45],[100,2,101,2],[100,9,101,9],[100,10,101,10],[100,22,101,22],[100,31,101,31],[100,38,101,38],[100,45,101,45],[98,2,99,2],[98,9,99,9],[98,10,99,10],[98,22,99,22],[98,31,99,31],[98,38,99,38],[92,31,93,31],[92,38,93,38],[92,45,93,45],[96,2,97,2],[96,9,97,9],[96,10,97,10],[96,22,97,22],[96,31,97,31],[96,38,97,38],[96,45,97,45],[92,2,93,2],[92,9,93,9],[92,10,93,10],[92,22,93,22],[87,38,88,38],[87,45,88,45],[90,2,91,2],[90,9,91,9],[90,10,91,10],[90,22,91,22],[90,31,91,31],[90,38,91,38],[90,45,91,45],[87,2,88,2],[87,9,88,9],[87,10,88,10],[87,22,88,22],[87,31,88,31],[81,2,82,2],[81,9,82,9],[81,10,82,10],[81,22,82,22],[81,31,82,31],[81,38,82,38],[81,45,82,45],[83,45,84,45],[85,2,86,2],[85,8,86,8],[85,9,86,9],[85,10,86,10],[85,22,86,22],[85,31,86,31],[85,38,86,38],[85,45,86,45],[83,2,84,2],[83,9,84,9],[83,10,84,10],[83,22,84,22],[83,31,84,31],[83,38,84,38],[71,9,72,9],[71,10,72,10],[71,22,72,22],[71,31,72,31],[71,38,72,38],[71,45,72,45],[78,31,80,31],[78,38,80,38],[78,45,80,45],[55,45,56,45],[57,1,86,1],[62,2,63,2],[62,8,63,8],[62,9,63,9],[62,10,63,10],[62,22,63,22],[62,31,63,31],[62,38,63,38],[55,2,56,2],[55,8,56,8],[55,9,56,9],[55,10,56,10],[55,22,56,22],[55,31,56,31],[76,2,77,2],[78,2,80,2],[78,8,80,8],[78,9,80,9],[78,10,80,10],[78,22,80,22],[62,45,63,45],[71,2,72,2],[71,8,72,8],[51,45,52,45],[53,2,54,2],[53,8,54,8],[53,9,54,9],[53,10,54,10],[53,22,54,22],[53,31,54,31],[53,38,54,38],[53,45,54,45],[51,2,52,2],[51,8,52,8],[51,9,52,9],[51,10,52,10],[51,22,52,22],[51,31,52,31],[0,2,0,40],[2,1,56,1],[45,2,46,2],[45,8,46,8],[45,9,46,9],[45,10,46,10],[49,2,50,2],[49,8,50,8],[49,9,50,9],[49,10,50,10],[51,38,52,38],[55,38,56,38]]}
[null,null,"Фасади кухонних корпусів стандарт"]
[null,null,"Номенклатура","Довжина/мм","Ширина/мм","К-сть на 1 комплект","Площа,м2","Площа замовлення","Корпус, Ціна за 1 комплект","Корпус               К-сть секцій"," Софія +                К-сть секцій","Сверління під ручку","Софія + Ціна за м2 Напівмат","Софія + Ціна за м2 Глянець","Софія + Ціна за м2 Перламутр","Софія + Сума Напівмат","Софія + Сума Глянець","Софія + Сума Перламутр","Аманда   Ціна за м2 Напівмат","Аманда     Ціна за м2 Глянець","Аманда Ціна за м2 Перламутр","Площа замовлення","Аманда                  К-сть секцій","Сверління під ручку","Аманда  Сума Напівмат","Аманда    Сума Глянець","Аманда    Сума Перламутр","Міленіум + Ціна за м2 Напівмат","Міленіум + Ціна за м2 Глянець","Міленіум + Ціна за м2 Перламутр","Площа замовлення"," Міленіум+, Мілена, Адель, Емілія, Мельвін, Максі                  К-сть секцій","Сверління під ручку","Міленіум + Сума Напівмат","Міленіум + Сума Глянець","Міленіум + Сума Перламутр","Візель    Ціна за м2 Напівмат","Площа замовлення","Вінтаж+, Візель,    Вікі                          К-сть секцій","Сверління під ручку"," Візель  Сума Напівмат","Прованс    Ціна за м2 Напівмат","Прованс Ціна за м2 Глянець","Прованс Ціна за м2 Перламутр","Площа замовлення","Прованс, Валенсія +, Мішель, Доміні, Матільда, Вілсон       К-сть секцій","Сверління під ручку"," Прованс  Сума Напівмат","Прованс    Сума Глянець","Прованс    Сума Перламутр"]
[null,"Верхні секції","Корпус кухонний секцiя верхня 20В/720 1дв",715,196,1,{"$f":"(D3*E3)/1000000*F3","v":0.14013999999999999},{"$f":"G3*K3","v":0},null,null,null,{"$f":"(K3*$F$3)*#REF!","v":{"$error":"#REF!"}},{"$f":"#REF!","v":{"$error":"#REF!"}},{"$f":"#REF!","v":{"$error":"#REF!"}},{"$f":"#REF!","v":{"$error":"#REF!"}},{"$f":"M3*H3","v":{"$error":"#REF!"}},{"$f":"N3*H3","v":{"$error":"#REF!"}},{"$f":"O3*H3","v":{"$error":"#REF!"}},{"$f":"#REF!","v":{"$error":"#REF!"}},{"$f":"#REF!","v":{"$error":"#REF!"}},{"$f":"#REF!","v":{"$error":"#REF!"}},{"$f":"W3*$G$3","v":0},null,{"$f":"(W3*$F$3)*#REF!","v":{"$error":"#REF!"}},{"$f":"S3*V3","v":{"$error":"#REF!"}},{"$f":"T3*V3","v":{"$error":"#REF!"}},{"$f":"U3*V3","v":{"$error":"#REF!"}},{"$f":"#REF!","v":{"$error":"#REF!"}},{"$f":"#REF!","v":{"$error":"#REF!"}},{"$f":"#REF!","v":{"$error":"#REF!"}},{"$f":"AF3*$G$3","v":0},null,null,{"$f":"AB3*AE3","v":{"$error":"#REF!"}},{"$f":"AC3*AE3","v":{"$error":"#REF!"}},{"$f":"AD3*AE3","v":{"$error":"#REF!"}},{"$f":"#REF!","v":{"$error":"#REF!"}},{"$f":"AM3*$G$3","v":0},null,{"$f":"(AM3*$F$3)*#REF!","v":{"$error":"#REF!"}},{"$f":"AL3*AK3","v":{"$error":"#REF!"}},{"$f":"#REF!","v":{"$error":"#REF!"}},{"$f":"#REF!","v":{"$error":"#REF!"}},{"$f":"#REF!","v":{"$error":"#REF!"}},{"$f":"AT3*$G$3","v":0},null,{"$f":"(AT3*$F$3)*#REF!","v":{"$error":"#REF!"}},{"$f":"AP3*AS3","v":{"$error":"#REF!"}},{"$f":"AQ3*AS3","v":{"$error":"#REF!"}},{"$f":"AR3*AS3","v":{"$error":"#REF!"}}]
[null,null,"Корпус кухонний секцiя верхня 20В/900 1дв",895,196,1,{"$f":"(D4*E4)/1000000*F4","v":0.17541999999999999},0,null,null,null,{"$f":"(K4*$F$4)*#REF!","v":{"$error":"#REF!"}},{"$f":"#REF!","v":{"$error":"#REF!"}},{"$f":"#REF!","v":{"$error":"#REF!"}},{"$f":"#REF!","v":{"$error":"#REF!"}},{"$error":"#REF!"},{"$error":"#REF!"},{"$error":"#REF!"},{"$f":"#REF!","v":{"$error":"#REF!"}},{"$f":"#REF!","v":{"$error":"#REF!"}},{"$f":"#REF!","v":{"$error":"#REF!"}},{"$f":"W4*$G$4","v":0},null,{"$f":"(W4*$F$4)*#REF!","v":{"$error":"#REF!"}},{"$f":"S4*V4","v":{"$error":"#REF!"}},{"$f":"T4*V4","v":{"$error":"#REF!"}},{"$f":"U4*V4","v":{"$error":"#REF!"}},{"$f":"#REF!","v":{"$error":"#REF!"}},{"$f":"#REF!","v":{"$error":"#REF!"}},{"$f":"#REF!","v":{"$error":"#REF!"}},{"$f":"AF4*$G$4","v":0},null,null,{"$f":"AB4*AE4","v":{"$error":"#REF!"}},{"$f":"AC4*AE4","v":{"$error":"#REF!"}},{"$f":"AD4*AE4","v":{"$error":"#REF!"}},{"$f":"#REF!","v":{"$error":"#REF!"}},{"$f":"AM4*$G$4","v":0},null,{"$f":"(AM4*$F$4)*#REF!","v":{"$error":"#REF!"}},{"$error":"#REF!"},{"$f":"#REF!","v":{"$error":"#REF!"}},{"$f":"#REF!","v":{"$error":"#REF!"}},{"$f":"#REF!","v":{"$error":"#REF!"}},{"$f":"AT4*$G$4","v":0},null,{"$f":"(AT4*$F$4)*#REF!","v":{"$error":"#REF!"}},{"$f":"AP4*AS4","v":{"$error":"#REF!"}},{"$f":"AQ4*AS4","v":{"$error":"#REF!"}},{"$f":"AR4*AS4","v":{"$error":"#REF!"}}]
[null,null,"Корпус кухонний секцiя верхня 30В/720 1дв",715,296,1,0.21163999999999999,0,null,null,null,{"$f":"(K5*$F$5)*#REF!","v":{"$error":"#REF!"}},{"$f":"#REF!","v":{"$error":"#REF!"}},{"$f":"#REF!","v":{"$error":"#REF!"}},{"$f":"#REF!","v":{"$error":"#REF!"}},{"$error":"#REF!"},{"$error":"#REF!"},{"$error":"#REF!"},{"$f":"#REF!","v":{"$error":"#REF!"}},{"$f":"#REF!","v":{"$error":"#REF!"}},{"$f":"#REF!","v":{"$error":"#REF!"}},{"$f":"W5*$G$5","v":0},null,{"$f":"(W5*$F$5)*#REF!","v":{"$error":"#REF!"}},{"$error":"#REF!"},{"$error":"#REF!"},{"$error":"#REF!"},{"$f":"#REF!","v":{"$error":"#REF!"}},{"$f":"#REF!","v":{"$error":"#REF!"}},{"$f":"#REF!","v":{"$error":"#REF!"}},{"$f":"AF5*$G$5","v":0},null,null,{"$error":"#REF!"},{"$error":"#REF!"},{"$error":"#REF!"},{"$f":"#REF!","v":{"$error":"#REF!"}},{"$f":"AM5*$G$5","v":0},null,{"$f":"(AM5*$F$5)*#REF!","v":{"$error":"#REF!"}},{"$error":"#REF!"},{"$f":"#REF!","v":{"$error":"#REF!"}},{"$f":"#REF!","v":{"$error":"#REF!"}},{"$f":"#REF!","v":{"$error":"#REF!"}},{"$f":"AT5*$G$5","v":0},null,{"$f":"(AT5*$F$5)*#REF!","v":{"$error":"#REF!"}},{"$error":"#REF!"},{"$error":"#REF!"},{"$error":"#REF!"}]
[null,null,"Корпус кухонний секцiя верхня 30В/900 1дв",895,296,1,0.26491999999999999,0,null,null,null,{"$f":"(K6*$F$6)*#REF!","v":{"$error":"#REF!"}},{"$f":"#REF!","v":{"$error":"#REF!"}},{"$f":"#REF!","v":{"$error":"#REF!"}},{"$f":"#REF!","v":{"$error":"#REF!"}},{"$error":"#REF!"},{"$error":"#REF!"},{"$error":"#REF!"},{"$f":"#REF!","v":{"$error":"#REF!"}},{"$f":"#REF!","v":{"$error":"#REF!"}},{"$f":"#REF!","v":{"$error":"#REF!"}},{"$f":"W6*$G$6","v":0},null,{"$f":"(W6*$F$6)*#REF!","v":{"$error":"#REF!"}},{"$error":"#REF!"},{"$error":"#REF!"},{"$error":"#REF!"},{"$f":"#REF!","v":{"$error":"#REF!"}},{"$f":"#REF!","v":{"$error":"#REF!"}},{"$f":"#REF!","v":{"$error":"#REF!"}},{"$f":"AF6*$G$6","v":0},null,null,{"$error":"#REF!"},{"$error":"#REF!"},{"$error":"#REF!"},{"$f":"#REF!","v":{"$error":"#REF!"}},{"$f":"AM6*$G$6","v":0},null,{"$f":"(AM6*$F$6)*#REF!","v":{"$error":"#REF!"}},{"$error":"#REF!"},{"$f":"#REF!","v":{"$error":"#REF!"}},{"$f":"#REF!","v":{"$error":"#REF!"}},{"$f":"#REF!","v":{"$error":"#REF!"}},{"$f":"AT6*$G$6","v":0},null,{"$f":"(AT6*$F$6)*#REF!","v":{"$error":"#REF!"}},{"$error":"#REF!"},{"$error":"#REF!"},{"$error":"#REF!"}]
[null,null,"Корпус кухонний секцiя верхня 40В/720 1дв",715,396,1,0.28314,0,null,null,null,{"$f":"(K7*$F$7)*#REF!","v":{"$error":"#REF!"}},{"$f":"#REF!","v":{"$error":"#REF!"}},{"$f":"#REF!","v":{"$error":"#REF!"}},{"$f":"#REF!","v":{"$error":"#REF!"}},{"$error":"#REF!"},{"$error":"#REF!"},{"$error":"#REF!"},{"$f":"#REF!","v":{"$error":"#REF!"}},{"$f":"#REF!","v":{"$error":"#REF!"}},{"$f":"#REF!","v":{"$error":"#REF!"}},{"$f":"W7*$G$7","v":0},null,{"$f":"(W7*$F$7)*#REF!","v":{"$error":"#REF!"}},{"$error":"#REF!"},{"$error":"#REF!"},{"$error":"#REF!"},{"$f":"#REF!","v":{"$error":"#REF!"}},{"$f":"#REF!","v":{"$error":"#REF!"}},{"$f":"#REF!","v":{"$error":"#REF!"}},{"$f":"AF7*$G$7","v":0},null,null,{"$error":"#REF!"},{"$error":"#REF!"},{"$error":"#REF!"},{"$f":"#REF!","v":{"$error":"#REF!"}},{"$f":"AM7*$G$7","v":0},null,{"$f":"(AM7*$F$7)*#REF!","v":{"$error":"#REF!"}},{"$error":"#REF!"},{"$f":"#REF!","v":{"$error":"#REF!"}},{"$f":"#REF!","v":{"$error":"#REF!"}},{"$f":"#REF!","v":{"$error":"#REF!"}},{"$f":"AT7*$G$7","v":0},null,{"$f":"(AT7*$F$7)*#REF!","v":{"$error":"#REF!"}},{"$error":"#REF!"},{"$error":"#REF!"},{"$error":"#REF!"}]
[null,null,"Корпус кухонний секцiя верхня 40В/900 1дв",895,396,1,0.35442000000000001,0,null,null,null,{"$f":"(K8*$F$8)*#REF!","v":{"$error":"#REF!"}},{"$f":"#REF!","v":{"$error":"#REF!"}},{"$f":"#REF!","v":{"$error":"#REF!"}},{"$f":"#REF!","v":{"$error":"#REF!"}},{"$error":"#REF!"},{"$error":"#REF!"},{"$error":"#REF!"},{"$f":"#REF!","v":{"$error":"#REF!"}},{"$f":"#REF!","v":{"$error":"#REF!"}},{"$f":"#REF!","v":{"$error":"#REF!"}},{"$f":"W8*$G$8","v":0},null,{"$f":"(W8*$F$8)*#REF!","v":{"$error":"#REF!"}},{"$error":"#REF!"},{"$error":"#REF!"},{"$error":"#REF!"},{"$f":"#REF!","v":{"$error":"#REF!"}},{"$f":"#REF!","v":{"$error":"#REF!"}},{"$f":"#REF!","v":{"$error":"#REF!"}},{"$f":"AF8*$G$8","v":0},null,null,{"$error":"#REF!"},{"$error":"#REF!"},{"$error":"#REF!"},{"$f":"#REF!","v":{"$error":"#REF!"}},{"$f":"AM8*$G$8","v":0},null,{"$f":"(AM8*$F$8)*#REF!","v":{"$error":"#REF!"}},{"$error":"#REF!"},{"$f":"#REF!","v":{"$error":"#REF!"}},{"$f":"#REF!","v":{"$error":"#REF!"}},{"$f":"#REF!","v":{"$error":"#REF!"}},{"$f":"AT8*$G$8","v":0},null,{"$f":"(AT8*$F$8)*#REF!","v":{"$error":"#REF!"}},{"$error":"#REF!"},{"$error":"#REF!"},{"$error":"#REF!"}]
[null,null,"Корпус кухонний секцiя верхня 40В/360 1дв Газ Ліфт",356,396,1,0.14097599999999999,0,null,null,null,{"$f":"(K9*$F$8)*#REF!","v":{"$error":"#REF!"}},{"$f":"#REF!","v":{"$error":"#REF!"}},{"$f":"#REF!","v":{"$error":"#REF!"}},{"$f":"#REF!","v":{"$error":"#REF!"}},{"$error":"#REF!"},{"$error":"#REF!"},{"$error":"#REF!"}]
[null,null,"Корпус кухонний секцiя верхня 40ВА/360 1дв Антресоль Газ Ліфт",356,396,1,0.14097599999999999,0,null,null,null,{"$f":"(K10*$F$8)*#REF!","v":{"$error":"#REF!"}},{"$f":"#REF!","v":{"$error":"#REF!"}},{"$f":"#REF!","v":{"$error":"#REF!"}},{"$f":"#REF!","v":{"$error":"#REF!"}},{"$error":"#REF!"},{"$error":"#REF!"},{"$error":"#REF!"}]
[null,null,"Корпус кухонний секцiя верхня 40В/450 1дв Газ Ліфт",446,396,1,0.176616,0,null,null,null,{"$f":"(K11*$F$8)*#REF!","v":{"$error":"#REF!"}},{"$f":"#REF!","v":{"$error":"#REF!"}},{"$f":"#REF!","v":{"$error":"#REF!"}},{"$f":"#REF!","v":{"$error":"#REF!"}},{"$error":"#REF!"},{"$error":"#REF!"},{"$error":"#REF!"}]
[null,null,"Корпус кухонний секцiя верхня 45В/720 1дв",715,446,1,0.31889000000000001,0,null,null,null,{"$f":"(K12*$F$12)*#REF!","v":{"$error":"#REF!"}},{"$f":"#REF!","v":{"$error":"#REF!"}},{"$f":"#REF!","v":{"$error":"#REF!"}},{"$f":"#REF!","v":{"$error":"#REF!"}},{"$error":"#REF!"},{"$error":"#REF!"},{"$error":"#REF!"},{"$f":"#REF!","v":{"$error":"#REF!"}},{"$f":"#REF!","v":{"$error":"#REF!"}},{"$f":"#REF!","v":{"$error":"#REF!"}},{"$f":"W12*$G$12","v":0},null,{"$f":"(W12*$F$12)*#REF!","v":{"$error":"#REF!"}},{"$error":"#REF!"},{"$error":"#REF!"},{"$error":"#REF!"},{"$f":"#REF!","v":{"$error":"#REF!"}},{"$f":"#REF!","v":{"$error":"#REF!"}},{"$f":"#REF!","v":{"$error":"#REF!"}},{"$f":"AF12*$G$12","v":0},null,null,{"$error":"#REF!"},{"$error":"#REF!"},{"$error":"#REF!"},{"$f":"#REF!","v":{"$error":"#REF!"}},{"$f":"AM12*$G$12","v":0},null,{"$f":"(AM12*$F$12)*#REF!","v":{"$error":"#REF!"}},{"$error":"#REF!"},{"$f":"#REF!","v":{"$error":"#REF!"}},{"$f":"#REF!","v":{"$error":"#REF!"}},{"$f":"#REF!","v":{"$error":"#REF!"}},{"$f":"AT12*$G$12","v":0},null,{"$f":"(AT12*$F$12)*#REF!","v":{"$error":"#REF!"}},{"$error":"#REF!"},{"$error":"#REF!"},{"$error":"#REF!"}]
[null,null,"Корпус кухонний секцiя верхня 45В/900 1дв",895,446,1,0.39917000000000002,0,null,null,null,{"$f":"(K13*$F$13)*#REF!","v":{"$error":"#REF!"}},{"$f":"#REF!","v":{"$error":"#REF!"}},{"$f":"#REF!","v":{"$error":"#REF!"}},{"$f":"#REF!","v":{"$error":"#REF!"}},{"$error":"#REF!"},{"$error":"#REF!"},{"$error":"#REF!"},{"$f":"#REF!","v":{"$error":"#REF!"}},{"$f":"#REF!","v":{"$error":"#REF!"}},{"$f":"#REF!","v":{"$error":"#REF!"}},{"$f":"W13*$G$13","v":0},null,{"$f":"(W13*$F$13)*#REF!","v":{"$error":"#REF!"}},{"$error":"#REF!"},{"$error":"#REF!"},{"$error":"#REF!"},{"$f":"#REF!","v":{"$error":"#REF!"}},{"$f":"#REF!","v":{"$error":"#REF!"}},{"$f":"#REF!","v":{"$error":"#REF!"}},{"$f":"AF13*$G$13","v":0},null,null,{"$error":"#REF!"},{"$error":"#REF!"},{"$error":"#REF!"},{"$f":"#REF!","v":{"$error":"#REF!"}},{"$f":"AM13*$G$13","v":0},null,{"$f":"(AM13*$F$13)*#REF!","v":{"$error":"#REF!"}},{"$error":"#REF!"},{"$f":"#REF!","v":{"$error":"#REF!"}},{"$f":"#REF!","v":{"$error":"#REF!"}},{"$f":"#REF!","v":{"$error":"#REF!"}},{"$f":"AT13*$G$13","v":0},null,{"$f":"(AT13*$F$13)*#REF!","v":{"$error":"#REF!"}},{"$error":"#REF!"},{"$error":"#REF!"},{"$error":"#REF!"}]
[null,null,"Корпус кухонний секцiя верхня 45В/360 1дв Газ Ліфт",356,446,1,0.158776,0,null,null,null,{"$f":"(K14*$F$13)*#REF!","v":{"$error":"#REF!"}},{"$f":"#REF!","v":{"$error":"#REF!"}},{"$f":"#REF!","v":{"$error":"#REF!"}},{"$f":"#REF!","v":{"$error":"#REF!"}},{"$error":"#REF!"},{"$error":"#REF!"},{"$error":"#REF!"}]
[null,null,"Корпус кухонний секцiя верхня 45В/450 1дв Газ Ліфт",446,446,1,0.19891600000000001,0,null,null,null,{"$f":"(K15*$F$13)*#REF!","v":{"$error":"#REF!"}},{"$f":"#REF!","v":{"$error":"#REF!"}},{"$f":"#REF!","v":{"$error":"#REF!"}},{"$f":"#REF!","v":{"$error":"#REF!"}},{"$error":"#REF!"},{"$error":"#REF!"},{"$error":"#REF!"}]
[null,null,"Корпус кухонний секцiя верхня 45ВА/360 1дв Антресоль Газ Ліфт",356,446,1,0.158776,0,null,null,null,{"$f":"(K16*$F$13)*#REF!","v":{"$error":"#REF!"}},{"$f":"#REF!","v":{"$error":"#REF!"}},{"$f":"#REF!","v":{"$error":"#REF!"}},{"$f":"#REF!","v":{"$error":"#REF!"}},{"$error":"#REF!"},{"$error":"#REF!"},{"$error":"#REF!"}]
[null,null,"Корпус кухонний секцiя верхня 50ВА/360 1дв Антресоль Газ Ліфт",356,496,1,0.17657600000000001,0,null,null,null,{"$f":"(K17*$F$13)*#REF!","v":{"$error":"#REF!"}},{"$f":"#REF!","v":{"$error":"#REF!"}},{"$f":"#REF!","v":{"$error":"#REF!"}},{"$f":"#REF!","v":{"$error":"#REF!"}},{"$error":"#REF!"},{"$error":"#REF!"},{"$error":"#REF!"},{"$f":"#REF!","v":{"$error":"#REF!"}},{"$f":"#REF!","v":{"$error":"#REF!"}},{"$f":"#REF!","v":{"$error":"#REF!"}},{"$f":"W17*$G$17","v":0},null,{"$f":"(W17*$F$17)*#REF!","v":{"$error":"#REF!"}},{"$error":"#REF!"},{"$error":"#REF!"},{"$error":"#REF!"},{"$f":"#REF!","v":{"$error":"#REF!"}},{"$f":"#REF!","v":{"$error":"#REF!"}},{"$f":"#REF!","v":{"$error":"#REF!"}},{"$f":"AF17*$G$17","v":0},null,null,{"$error":"#REF!"},{"$error":"#REF!"},{"$error":"#REF!"},{"$f":"#REF!","v":{"$error":"#REF!"}},{"$f":"AM17*$G$17","v":0},null,{"$f":"(AM17*$F$17)*#REF!","v":{"$error":"#REF!"}},{"$error":"#REF!"},{"$f":"#REF!","v":{"$error":"#REF!"}},{"$f":"#REF!","v":{"$error":"#REF!"}},{"$f":"#REF!","v":{"$error":"#REF!"}},{"$f":"AT17*$G$17","v":0},null,{"$f":"(AT17*$F$17)*#REF!","v":{"$error":"#REF!"}},{"$error":"#REF!"},{"$error":"#REF!"},{"$error":"#REF!"}]
[null,null,"Корпус кухонний секцiя верхня 50В/360 1дв Газ Ліфт",356,496,1,0.17657600000000001,0,null,null,null,{"$f":"(K18*$F$13)*#REF!","v":{"$error":"#REF!"}},{"$f":"#REF!","v":{"$error":"#REF!"}},{"$f":"#REF!","v":{"$error":"#REF!"}},{"$f":"#REF!","v":{"$error":"#REF!"}},{"$error":"#REF!"},{"$error":"#REF!"},{"$error":"#REF!"},{"$f":"#REF!","v":{"$error":"#REF!"}},{"$f":"#REF!","v":{"$error":"#REF!"}},{"$f":"#REF!","v":{"$error":"#REF!"}},{"$f":"W18*$G$18","v":0},null,{"$f":"(W18*$F$18)*#REF!","v":{"$error":"#REF!"}},{"$error":"#REF!"},{"$error":"#REF!"},{"$error":"#REF!"},{"$f":"#REF!","v":{"$error":"#REF!"}},{"$f":"#REF!","v":{"$error":"#REF!"}},{"$f":"#REF!","v":{"$error":"#REF!"}},{"$f":"AF18*$G$18","v":0},null,null,{"$error":"#REF!"},{"$error":"#REF!"},{"$error":"#REF!"},{"$f":"#REF!","v":{"$error":"#REF!"}},{"$f":"AM18*$G$18","v":0},null,{"$f":"(AM18*$F$18)*#REF!","v":{"$error":"#REF!"}},{"$error":"#REF!"},{"$f":"#REF!","v":{"$error":"#REF!"}},{"$f":"#REF!","v":{"$error":"#REF!"}},{"$f":"#REF!","v":{"$error":"#REF!"}},{"$f":"AT18*$G$18","v":0},null,{"$f":"(AT18*$F$18)*#REF!","v":{"$error":"#REF!"}},{"$error":"#REF!"},{"$error":"#REF!"},{"$error":"#REF!"}]
[null,null,"Корпус кухонний секцiя верхня 50В/450 1дв Газ Ліфт",446,496,1,0.221216,0,null,null,null,{"$f":"(K19*$F$13)*#REF!","v":{"$error":"#REF!"}},{"$f":"#REF!","v":{"$error":"#REF!"}},{"$f":"#REF!","v":{"$error":"#REF!"}},{"$f":"#REF!","v":{"$error":"#REF!"}},{"$error":"#REF!"},{"$error":"#REF!"},{"$error":"#REF!"}]
[null,null,"Корпус кухонний секцiя верхня 50В/720 1дв",715,496,1,0.35464000000000001,0,null,null,null,{"$f":"(K20*$F$13)*#REF!","v":{"$error":"#REF!"}},{"$f":"#REF!","v":{"$error":"#REF!"}},{"$f":"#REF!","v":{"$error":"#REF!"}},{"$f":"#REF!","v":{"$error":"#REF!"}},{"$error":"#REF!"},{"$error":"#REF!"},{"$error":"#REF!"},{"$f":"#REF!","v":{"$error":"#REF!"}},{"$f":"#REF!","v":{"$error":"#REF!"}},{"$f":"#REF!","v":{"$error":"#REF!"}},{"$f":"W20*$G$20","v":0},null,{"$f":"(W20*$F$20)*#REF!","v":{"$error":"#REF!"}},{"$error":"#REF!"},{"$error":"#REF!"},{"$error":"#REF!"},{"$f":"#REF!","v":{"$error":"#REF!"}},{"$f":"#REF!","v":{"$error":"#REF!"}},{"$f":"#REF!","v":{"$error":"#REF!"}},{"$f":"AF20*$G$20","v":0},null,null,{"$error":"#REF!"},{"$error":"#REF!"},{"$error":"#REF!"},{"$f":"#REF!","v":{"$error":"#REF!"}},{"$f":"AM20*$G$20","v":0},null,{"$f":"(AM20*$F$20)*#REF!","v":{"$error":"#REF!"}},{"$error":"#REF!"},{"$f":"#REF!","v":{"$error":"#REF!"}},{"$f":"#REF!","v":{"$error":"#REF!"}},{"$f":"#REF!","v":{"$error":"#REF!"}},{"$f":"AT20*$G$20","v":0},null,{"$f":"(AT20*$F$20)*#REF!","v":{"$error":"#REF!"}},{"$error":"#REF!"},{"$error":"#REF!"},{"$error":"#REF!"}]
[null,null,"Корпус кухонний секцiя верхня 50В/900 1дв",895,496,1,0.44391999999999998,0,null,null,null,{"$f":"(K21*$F$13)*#REF!","v":{"$error":"#REF!"}},{"$f":"#REF!","v":{"$error":"#REF!"}},{"$f":"#REF!","v":{"$error":"#REF!"}},{"$f":"#REF!","v":{"$error":"#REF!"}},{"$error":"#REF!"},{"$error":"#REF!"},{"$error":"#REF!"},{"$f":"#REF!","v":{"$error":"#REF!"}},{"$f":"#REF!","v":{"$error":"#REF!"}},{"$f":"#REF!","v":{"$error":"#REF!"}},{"$f":"W21*$G$21","v":0},null,{"$f":"(W21*$F$21)*#REF!","v":{"$error":"#REF!"}},{"$error":"#REF!"},{"$error":"#REF!"},{"$error":"#REF!"},{"$f":"#REF!","v":{"$error":"#REF!"}},{"$f":"#REF!","v":{"$error":"#REF!"}},{"$f":"#REF!","v":{"$error":"#REF!"}},{"$f":"AF21*$G$21","v":0},null,null,{"$error":"#REF!"},{"$error":"#REF!"},{"$error":"#REF!"},{"$f":"#REF!","v":{"$error":"#REF!"}},{"$f":"AM21*$G$21","v":0},null,{"$f":"(AM21*$F$21)*#REF!","v":{"$error":"#REF!"}},{"$error":"#REF!"},{"$f":"#REF!","v":{"$error":"#REF!"}},{"$f":"#REF!","v":{"$error":"#REF!"}},{"$f":"#REF!","v":{"$error":"#REF!"}},{"$f":"AT21*$G$21","v":0},null,{"$f":"(AT21*$F$21)*#REF!","v":{"$error":"#REF!"}},{"$error":"#REF!"},{"$error":"#REF!"},{"$error":"#REF!"}]
[null,null,"Корпус кухонний секцiя верхня 60ВА/360 1дв Антресоль Газ Ліфт",356,596,1,0.212176,0,null,null,null,{"$f":"(K22*$F$13)*#REF!","v":{"$error":"#REF!"}},{"$f":"#REF!","v":{"$error":"#REF!"}},{"$f":"#REF!","v":{"$error":"#REF!"}},{"$f":"#REF!","v":{"$error":"#REF!"}},{"$error":"#REF!"},{"$error":"#REF!"},{"$error":"#REF!"},{"$f":"#REF!","v":{"$error":"#REF!"}},{"$f":"#REF!","v":{"$error":"#REF!"}},{"$f":"#REF!","v":{"$error":"#REF!"}},{"$f":"W22*$G$22","v":0},null,{"$f":"(W22*$F$22)*#REF!","v":{"$error":"#REF!"}},{"$error":"#REF!"},{"$error":"#REF!"},{"$error":"#REF!"},{"$f":"#REF!","v":{"$error":"#REF!"}},{"$f":"#REF!","v":{"$error":"#REF!"}},{"$f":"#REF!","v":{"$error":"#REF!"}},{"$f":"AF22*$G$22","v":0},null,null,{"$error":"#REF!"},{"$error":"#REF!"},{"$error":"#REF!"},{"$f":"#REF!","v":{"$error":"#REF!"}},{"$f":"AM22*$G$22","v":0},null,{"$f":"(AM22*$F$22)*#REF!","v":{"$error":"#REF!"}},{"$error":"#REF!"},{"$f":"#REF!","v":{"$error":"#REF!"}},{"$f":"#REF!","v":{"$error":"#REF!"}},{"$f":"#REF!","v":{"$error":"#REF!"}},{"$f":"AT22*$G$22","v":0},null,{"$f":"(AT22*$F$22)*#REF!","v":{"$error":"#REF!"}},{"$error":"#REF!"},{"$error":"#REF!"},{"$error":"#REF!"}]
[null,null,"Корпус кухонний секцiя верхня 60В/720 1дв",715,596,1,0.42614000000000002,0,null,null,null,{"$f":"(K23*$F$13)*#REF!","v":{"$error":"#REF!"}},{"$f":"#REF!","v":{"$error":"#REF!"}},{"$f":"#REF!","v":{"$error":"#REF!"}},{"$f":"#REF!","v":{"$error":"#REF!"}},{"$error":"#REF!"},{"$error":"#REF!"},{"$error":"#REF!"}]
[null,null,"Корпус кухонний секцiя верхня 60В/900 1дв",895,596,1,0.53342000000000001,0,null,null,null,{"$f":"(K24*$F$13)*#REF!","v":{"$error":"#REF!"}},{"$f":"#REF!","v":{"$error":"#REF!"}},{"$f":"#REF!","v":{"$error":"#REF!"}},{"$f":"#REF!","v":{"$error":"#REF!"}},{"$error":"#REF!"},{"$error":"#REF!"},{"$error":"#REF!"}]
[null,null,"Корпус кухонний секцiя верхня 60В/900 2дв Газ Ліфт",895,596,2,{"$f":"(D25*E25)/1000000*F25","v":1.06684},0,null,null,null,{"$f":"(K25*$F$13)*#REF!","v":{"$error":"#REF!"}},{"$f":"#REF!","v":{"$error":"#REF!"}},{"$f":"#REF!","v":{"$error":"#REF!"}},{"$f":"#REF!","v":{"$error":"#REF!"}},{"$error":"#REF!"},{"$error":"#REF!"},{"$error":"#REF!"}]
[null,null,"Корпус кухонний секцiя верхня 60В/360 1дв Газ Ліфт",356,596,1,{"$f":"(D26*E26)/1000000*F26","v":0.212176},0,null,null,null,{"$f":"(K26*$F$13)*#REF!","v":{"$error":"#REF!"}},{"$f":"#REF!","v":{"$error":"#REF!"}},{"$f":"#REF!","v":{"$error":"#REF!"}},{"$f":"#REF!","v":{"$error":"#REF!"}},{"$error":"#REF!"},{"$error":"#REF!"},{"$error":"#REF!"},{"$f":"#REF!","v":{"$error":"#REF!"}},{"$f":"#REF!","v":{"$error":"#REF!"}},{"$f":"#REF!","v":{"$error":"#REF!"}},{"$f":"W26*$G$26","v":0},null,{"$f":"(W26*$F$26)*#REF!","v":{"$error":"#REF!"}},{"$error":"#REF!"},{"$error":"#REF!"},{"$error":"#REF!"},{"$f":"#REF!","v":{"$error":"#REF!"}},{"$f":"#REF!","v":{"$error":"#REF!"}},{"$f":"#REF!","v":{"$error":"#REF!"}},{"$f":"AF26*$G$26","v":0},null,null,{"$error":"#REF!"},{"$error":"#REF!"},{"$error":"#REF!"},{"$f":"#REF!","v":{"$error":"#REF!"}},{"$f":"AM26*$G$26","v":0},null,{"$f":"(AM26*$F$26)*#REF!","v":{"$error":"#REF!"}},{"$error":"#REF!"},{"$f":"#REF!","v":{"$error":"#REF!"}},{"$f":"#REF!","v":{"$error":"#REF!"}},{"$f":"#REF!","v":{"$error":"#REF!"}},{"$f":"AT26*$G$26","v":0},null,{"$f":"(AT26*$F$26)*#REF!","v":{"$error":"#REF!"}},{"$error":"#REF!"},{"$f":"AQ26*AS26","v":{"$error":"#REF!"}},{"$error":"#REF!"}]
[null,null,"Корпус кухонний секцiя верхня 60В/450 1дв Газ Ліфт",446,596,1,0.265816,0,null,null,null,{"$f":"(K27*$F$13)*#REF!","v":{"$error":"#REF!"}},{"$f":"#REF!","v":{"$error":"#REF!"}},{"$f":"#REF!","v":{"$error":"#REF!"}},{"$f":"#REF!","v":{"$error":"#REF!"}},{"$error":"#REF!"},{"$error":"#REF!"},{"$error":"#REF!"}]
[null,null,"Корпус кухонний секцiя верхня 60ВВТ/510 1дв Витяжка Телескоп",505,596,1,0.30098000000000003,0,null,null,null,{"$f":"(K28*$F$13)*#REF!","v":{"$error":"#REF!"}},{"$f":"#REF!","v":{"$error":"#REF!"}},{"$f":"#REF!","v":{"$error":"#REF!"}},{"$f":"#REF!","v":{"$error":"#REF!"}},{"$error":"#REF!"},{"$error":"#REF!"},{"$error":"#REF!"},{"$f":"#REF!","v":{"$error":"#REF!"}},{"$f":"#REF!","v":{"$error":"#REF!"}},{"$f":"#REF!","v":{"$error":"#REF!"}},{"$f":"W28*$G$28","v":0},null,{"$f":"(W28*$F$28)*#REF!","v":{"$error":"#REF!"}},{"$error":"#REF!"},{"$error":"#REF!"},{"$error":"#REF!"},{"$f":"#REF!","v":{"$error":"#REF!"}},{"$f":"#REF!","v":{"$error":"#REF!"}},{"$f":"#REF!","v":{"$error":"#REF!"}},{"$f":"AF28*$G$28","v":0},null,null,{"$error":"#REF!"},{"$error":"#REF!"},{"$error":"#REF!"},{"$f":"#REF!","v":{"$error":"#REF!"}},{"$f":"AM28*$G$28","v":0},null,{"$f":"(AM28*$F$28)*#REF!","v":{"$error":"#REF!"}},{"$error":"#REF!"},{"$f":"#REF!","v":{"$error":"#REF!"}},{"$f":"#REF!","v":{"$error":"#REF!"}},{"$f":"#REF!","v":{"$error":"#REF!"}},{"$f":"AT28*$G$28","v":0},null,{"$f":"(AT28*$F$28)*#REF!","v":{"$error":"#REF!"}},{"$error":"#REF!"},{"$error":"#REF!"},{"$error":"#REF!"}]
[null,null,"Корпус кухонний секцiя верхня 60ВВТ/690 1дв Витяжка Телескоп",685,596,1,0.40826000000000001,0,null,null,null,{"$f":"(K29*$F$13)*#REF!","v":{"$error":"#REF!"}},{"$f":"#REF!","v":{"$error":"#REF!"}},{"$f":"#REF!","v":{"$error":"#REF!"}},{"$f":"#REF!","v":{"$error":"#REF!"}},{"$error":"#REF!"},{"$error":"#REF!"},{"$error":"#REF!"}]
[null,null,"Корпус кухонний секцiя верхня 60В/720 2дв",715,296,2,0.42327999999999999,0,null,null,null,{"$f":"(K30*$F$13)*#REF!","v":{"$error":"#REF!"}},{"$f":"#REF!","v":{"$error":"#REF!"}},{"$f":"#REF!","v":{"$error":"#REF!"}},{"$f":"#REF!","v":{"$error":"#REF!"}},{"$error":"#REF!"},{"$error":"#REF!"},{"$error":"#REF!"},{"$f":"#REF!","v":{"$error":"#REF!"}},{"$f":"#REF!","v":{"$error":"#REF!"}},{"$f":"#REF!","v":{"$error":"#REF!"}},{"$f":"W30*$G$30","v":0},null,{"$f":"(W30*$F$30)*#REF!","v":{"$error":"#REF!"}},{"$error":"#REF!"},{"$error":"#REF!"},{"$error":"#REF!"},{"$f":"#REF!","v":{"$error":"#REF!"}},{"$f":"#REF!","v":{"$error":"#REF!"}},{"$f":"#REF!","v":{"$error":"#REF!"}},{"$f":"AF30*$G$30","v":0},null,null,{"$error":"#REF!"},{"$error":"#REF!"},{"$error":"#REF!"},{"$f":"#REF!","v":{"$error":"#REF!"}},{"$f":"AM30*$G$30","v":0},null,{"$f":"(AM30*$F$30)*#REF!","v":{"$error":"#REF!"}},{"$error":"#REF!"},{"$f":"#REF!","v":{"$error":"#REF!"}},{"$f":"#REF!","v":{"$error":"#REF!"}},{"$f":"#REF!","v":{"$error":"#REF!"}},{"$f":"AT30*$G$30","v":0},null,{"$f":"(AT30*$F$30)*#REF!","v":{"$error":"#REF!"}},{"$error":"#REF!"},{"$error":"#REF!"},{"$error":"#REF!"}]
[null,null,"Корпус кухонний секцiя верхня 60ВС/720 2дв Сушка",715,296,2,0.42327999999999999,0,null,null,null,{"$f":"(K31*$F$13)*#REF!","v":{"$error":"#REF!"}},{"$f":"#REF!","v":{"$error":"#REF!"}},{"$f":"#REF!","v":{"$error":"#REF!"}},{"$f":"#REF!","v":{"$error":"#REF!"}},{"$error":"#REF!"},{"$error":"#REF!"},{"$error":"#REF!"},{"$f":"#REF!","v":{"$error":"#REF!"}},{"$f":"#REF!","v":{"$error":"#REF!"}},{"$f":"#REF!","v":{"$error":"#REF!"}},{"$f":"W31*$G$31","v":0},null,{"$f":"(W31*$F$31)*#REF!","v":{"$error":"#REF!"}},{"$error":"#REF!"},{"$error":"#REF!"},{"$error":"#REF!"},{"$f":"#REF!","v":{"$error":"#REF!"}},{"$f":"#REF!","v":{"$error":"#REF!"}},{"$f":"#REF!","v":{"$error":"#REF!"}},{"$f":"AF31*$G$31","v":0},null,null,{"$error":"#REF!"},{"$error":"#REF!"},{"$error":"#REF!"},{"$f":"#REF!","v":{"$error":"#REF!"}},{"$f":"AM31*$G$31","v":0},null,{"$f":"(AM31*$F$31)*#REF!","v":{"$error":"#REF!"}},{"$error":"#REF!"},{"$f":"#REF!","v":{"$error":"#REF!"}},{"$f":"#REF!","v":{"$error":"#REF!"}},{"$f":"#REF!","v":{"$error":"#REF!"}},{"$f":"AT31*$G$31","v":0},null,{"$f":"(AT31*$F$31)*#REF!","v":{"$error":"#REF!"}},{"$error":"#REF!"},{"$error":"#REF!"},{"$error":"#REF!"}]
[null,null,"Корпус кухонний секцiя верхня 60В/900 2дв",895,296,2,0.52983999999999998,0,null,null,null,{"$f":"(K32*$F$13)*#REF!","v":{"$error":"#REF!"}},{"$f":"#REF!","v":{"$error":"#REF!"}},{"$f":"#REF!","v":{"$error":"#REF!"}},{"$f":"#REF!","v":{"$error":"#REF!"}},{"$error":"#REF!"},{"$error":"#REF!"},{"$error":"#REF!"},{"$f":"#REF!","v":{"$error":"#REF!"}},{"$f":"#REF!","v":{"$error":"#REF!"}},{"$f":"#REF!","v":{"$error":"#REF!"}},{"$f":"W32*$G$32","v":0},null,{"$f":"(W32*$F$32)*#REF!","v":{"$error":"#REF!"}},{"$error":"#REF!"},{"$error":"#REF!"},{"$error":"#REF!"},{"$f":"#REF!","v":{"$error":"#REF!"}},{"$f":"#REF!","v":{"$error":"#REF!"}},{"$f":"#REF!","v":{"$error":"#REF!"}},{"$f":"AF32*$G$32","v":0},null,null,{"$error":"#REF!"},{"$error":"#REF!"},{"$error":"#REF!"},{"$f":"#REF!","v":{"$error":"#REF!"}},{"$f":"AM32*$G$32","v":0},null,{"$f":"(AM32*$F$32)*#REF!","v":{"$error":"#REF!"}},{"$error":"#REF!"},{"$f":"#REF!","v":{"$error":"#REF!"}},{"$f":"#REF!","v":{"$error":"#REF!"}},{"$f":"#REF!","v":{"$error":"#REF!"}},{"$f":"AT32*$G$32","v":0},null,{"$f":"(AT32*$F$32)*#REF!","v":{"$error":"#REF!"}},{"$error":"#REF!"},{"$error":"#REF!"},{"$error":"#REF!"}]
[null,null,"Корпус кухонний секцiя верхня 60ВС/900 2дв Сушка",895,296,2,0.52983999999999998,0,null,null,null,{"$f":"(K33*$F$13)*#REF!","v":{"$error":"#REF!"}},{"$f":"#REF!","v":{"$error":"#REF!"}},{"$f":"#REF!","v":{"$error":"#REF!"}},{"$f":"#REF!","v":{"$error":"#REF!"}},{"$error":"#REF!"},{"$error":"#REF!"},{"$error":"#REF!"},{"$f":"#REF!","v":{"$error":"#REF!"}},{"$f":"#REF!","v":{"$error":"#REF!"}},{"$f":"#REF!","v":{"$error":"#REF!"}},{"$f":"W33*$G$33","v":0},null,{"$f":"(W33*$F$33)*#REF!","v":{"$error":"#REF!"}},{"$error":"#REF!"},{"$error":"#REF!"},{"$error":"#REF!"},{"$f":"#REF!","v":{"$error":"#REF!"}},{"$f":"#REF!","v":{"$error":"#REF!"}},{"$f":"#REF!","v":{"$error":"#REF!"}},{"$f":"AF33*$G$33","v":0},null,null,{"$error":"#REF!"},{"$error":"#REF!"},{"$error":"#REF!"},{"$f":"#REF!","v":{"$error":"#REF!"}},{"$f":"AM33*$G$33","v":0},null,{"$f":"(AM33*$F$33)*#REF!","v":{"$error":"#REF!"}},{"$error":"#REF!"},{"$f":"#REF!","v":{"$error":"#REF!"}},{"$f":"#REF!","v":{"$error":"#REF!"}},{"$f":"#REF!","v":{"$error":"#REF!"}},{"$f":"AT33*$G$33","v":0},null,{"$f":"(AT33*$F$33)*#REF!","v":{"$error":"#REF!"}},{"$error":"#REF!"},{"$error":"#REF!"},{"$error":"#REF!"}]
[null,null,"Корпус кухонний секцiя верхня 60В/720 2дв Газ Ліфт",356,596,2,0.42435200000000001,0,null,null,null,{"$f":"(K34*$F$13)*#REF!","v":{"$error":"#REF!"}},{"$f":"#REF!","v":{"$error":"#REF!"}},{"$f":"#REF!","v":{"$error":"#REF!"}},{"$f":"#REF!","v":{"$error":"#REF!"}},{"$error":"#REF!"},{"$error":"#REF!"},{"$error":"#REF!"},{"$f":"#REF!","v":{"$error":"#REF!"}},{"$f":"#REF!","v":{"$error":"#REF!"}},{"$f":"#REF!","v":{"$error":"#REF!"}},{"$f":"W34*$G$34","v":0},null,{"$f":"(W34*$F$34)*#REF!","v":{"$error":"#REF!"}},{"$error":"#REF!"},{"$error":"#REF!"},{"$error":"#REF!"},{"$f":"#REF!","v":{"$error":"#REF!"}},{"$f":"#REF!","v":{"$error":"#REF!"}},{"$f":"#REF!","v":{"$error":"#REF!"}},{"$f":"AF34*$G$34","v":0},null,null,{"$error":"#REF!"},{"$error":"#REF!"},{"$error":"#REF!"},{"$f":"#REF!","v":{"$error":"#REF!"}},{"$f":"AM34*$G$34","v":0},null,{"$f":"(AM34*$F$34)*#REF!","v":{"$error":"#REF!"}},{"$error":"#REF!"},{"$f":"#REF!","v":{"$error":"#REF!"}},{"$f":"#REF!","v":{"$error":"#REF!"}},{"$f":"#REF!","v":{"$error":"#REF!"}},{"$f":"AT34*$G$34","v":0},null,{"$f":"(AT34*$F$34)*#REF!","v":{"$error":"#REF!"}},{"$error":"#REF!"},{"$error":"#REF!"},{"$error":"#REF!"}]
[null,null,"Корпус кухонний секцiя верхня 80ВА/360 1дв Антресоль Газ Ліфт",356,796,1,0.28337600000000002,0,null,null,null,{"$f":"(K35*$F$13)*#REF!","v":{"$error":"#REF!"}},{"$f":"#REF!","v":{"$error":"#REF!"}},{"$f":"#REF!","v":{"$error":"#REF!"}},{"$f":"#REF!","v":{"$error":"#REF!"}},{"$error":"#REF!"},{"$error":"#REF!"},{"$error":"#REF!"},{"$f":"#REF!","v":{"$error":"#REF!"}},{"$f":"#REF!","v":{"$error":"#REF!"}},{"$f":"#REF!","v":{"$error":"#REF!"}},{"$f":"W35*$G$35","v":0},null,{"$f":"(W35*$F$35)*#REF!","v":{"$error":"#REF!"}},{"$error":"#REF!"},{"$error":"#REF!"},{"$error":"#REF!"},{"$f":"#REF!","v":{"$error":"#REF!"}},{"$f":"#REF!","v":{"$error":"#REF!"}},{"$f":"#REF!","v":{"$error":"#REF!"}},{"$f":"AF35*$G$35","v":0},null,null,{"$error":"#REF!"},{"$error":"#REF!"},{"$error":"#REF!"},{"$f":"#REF!","v":{"$error":"#REF!"}},{"$f":"AM35*$G$35","v":0},null,{"$f":"(AM35*$F$35)*#REF!","v":{"$error":"#REF!"}},{"$error":"#REF!"},{"$f":"#REF!","v":{"$error":"#REF!"}},{"$f":"#REF!","v":{"$error":"#REF!"}},{"$f":"#REF!","v":{"$error":"#REF!"}},{"$f":"AT35*$G$35","v":0},null,{"$f":"(AT35*$F$35)*#REF!","v":{"$error":"#REF!"}},{"$error":"#REF!"},{"$error":"#REF!"},{"$error":"#REF!"}]
[null,null,"Корпус кухонний секцiя верхня 80В/360 1дв Газ Ліфт",356,796,1,0.28337600000000002,{"$f":"$G$36*K36","v":0},null,null,null,{"$f":"(K36*$F$13)*#REF!","v":{"$error":"#REF!"}},{"$f":"#REF!","v":{"$error":"#REF!"}},{"$f":"#REF!","v":{"$error":"#REF!"}},{"$f":"#REF!","v":{"$error":"#REF!"}},{"$error":"#REF!"},{"$error":"#REF!"},{"$error":"#REF!"},{"$f":"#REF!","v":{"$error":"#REF!"}},{"$f":"#REF!","v":{"$error":"#REF!"}},{"$f":"#REF!","v":{"$error":"#REF!"}},{"$f":"W36*$G$36","v":0},null,{"$f":"(W36*$F$36)*#REF!","v":{"$error":"#REF!"}},{"$error":"#REF!"},{"$error":"#REF!"},{"$error":"#REF!"},{"$f":"#REF!","v":{"$error":"#REF!"}},{"$f":"#REF!","v":{"$error":"#REF!"}},{"$f":"#REF!","v":{"$error":"#REF!"}},{"$f":"AF36*$G$36","v":0},null,null,{"$error":"#REF!"},{"$error":"#REF!"},{"$error":"#REF!"},{"$f":"#REF!","v":{"$error":"#REF!"}},{"$f":"AM36*$G$36","v":0},null,{"$f":"(AM36*$F$36)*#REF!","v":{"$error":"#REF!"}},{"$error":"#REF!"},{"$f":"#REF!","v":{"$error":"#REF!"}},{"$f":"#REF!","v":{"$error":"#REF!"}},{"$f":"#REF!","v":{"$error":"#REF!"}},{"$f":"AT36*$G$36","v":0},null,{"$f":"(AT36*$F$36)*#REF!","v":{"$error":"#REF!"}},{"$error":"#REF!"},{"$error":"#REF!"},{"$error":"#REF!"}]
[null,null,"Корпус кухонний секцiя верхня 80В/720 2дв",715,396,2,0.56628000000000001,{"$f":"G37*K37","v":0},null,null,null,{"$f":"(K37*$F$13)*#REF!","v":{"$error":"#REF!"}},{"$f":"#REF!","v":{"$error":"#REF!"}},{"$f":"#REF!","v":{"$error":"#REF!"}},{"$f":"#REF!","v":{"$error":"#REF!"}},{"$error":"#REF!"},{"$error":"#REF!"},{"$error":"#REF!"},{"$f":"#REF!","v":{"$error":"#REF!"}},{"$f":"#REF!","v":{"$error":"#REF!"}},{"$f":"#REF!","v":{"$error":"#REF!"}},{"$f":"W37*$G$37","v":0},null,{"$f":"(W37*$F$37)*#REF!","v":{"$error":"#REF!"}},{"$error":"#REF!"},{"$error":"#REF!"},{"$error":"#REF!"},{"$f":"#REF!","v":{"$error":"#REF!"}},{"$f":"#REF!","v":{"$error":"#REF!"}},{"$f":"#REF!","v":{"$error":"#REF!"}},{"$f":"AF37*$G$37","v":0},null,null,{"$error":"#REF!"},{"$error":"#REF!"},{"$error":"#REF!"},{"$f":"#REF!","v":{"$error":"#REF!"}},{"$f":"AM37*$G$37","v":0},null,{"$f":"(AM37*$F$37)*#REF!","v":{"$error":"#REF!"}},{"$error":"#REF!"},{"$f":"#REF!","v":{"$error":"#REF!"}},{"$f":"#REF!","v":{"$error":"#REF!"}},{"$f":"#REF!","v":{"$error":"#REF!"}},{"$f":"AT37*$G$37","v":0},null,{"$f":"(AT37*$F$37)*#REF!","v":{"$error":"#REF!"}},{"$error":"#REF!"},{"$error":"#REF!"},{"$error":"#REF!"}]
[null,null,"Корпус кухонний секцiя верхня 80ВС/720 2дв Сушка",715,396,2,0.56628000000000001,0,null,null,null,{"$f":"(K38*$F$13)*#REF!","v":{"$error":"#REF!"}},{"$f":"#REF!","v":{"$error":"#REF!"}},{"$f":"#REF!","v":{"$error":"#REF!"}},{"$f":"#REF!","v":{"$error":"#REF!"}},{"$error":"#REF!"},{"$error":"#REF!"},{"$error":"#REF!"},{"$f":"#REF!","v":{"$error":"#REF!"}},{"$f":"#REF!","v":{"$error":"#REF!"}},{"$f":"#REF!","v":{"$error":"#REF!"}},{"$f":"W38*$G$38","v":0},null,{"$f":"(W38*$F$38)*#REF!","v":{"$error":"#REF!"}},{"$error":"#REF!"},{"$error":"#REF!"},{"$error":"#REF!"},{"$f":"#REF!","v":{"$error":"#REF!"}},{"$f":"#REF!","v":{"$error":"#REF!"}},{"$f":"#REF!","v":{"$error":"#REF!"}},{"$f":"AF38*$G$38","v":0},null,null,{"$error":"#REF!"},{"$error":"#REF!"},{"$error":"#REF!"},{"$f":"#REF!","v":{"$error":"#REF!"}},{"$f":"AM38*$G$38","v":0},null,{"$f":"(AM38*$F$38)*#REF!","v":{"$error":"#REF!"}},{"$error":"#REF!"},{"$f":"#REF!","v":{"$error":"#REF!"}},{"$f":"#REF!","v":{"$error":"#REF!"}},{"$f":"#REF!","v":{"$error":"#REF!"}},{"$f":"AT38*$G$38","v":0},null,{"$f":"(AT38*$F$38)*#REF!","v":{"$error":"#REF!"}},{"$error":"#REF!"},{"$error":"#REF!"},{"$error":"#REF!"}]
[null,null,"Корпус кухонний секцiя верхня 80В/900 2дв",895,396,2,0.70884000000000003,0,null,null,null,{"$f":"(K39*$F$13)*#REF!","v":{"$error":"#REF!"}},{"$f":"#REF!","v":{"$error":"#REF!"}},{"$f":"#REF!","v":{"$error":"#REF!"}},{"$f":"#REF!","v":{"$error":"#REF!"}},{"$error":"#REF!"},{"$error":"#REF!"},{"$error":"#REF!"},{"$f":"#REF!","v":{"$error":"#REF!"}},{"$f":"#REF!","v":{"$error":"#REF!"}},{"$f":"#REF!","v":{"$error":"#REF!"}},{"$f":"W39*$G$39","v":0},null,{"$f":"(W39*$F$39)*#REF!","v":{"$error":"#REF!"}},{"$error":"#REF!"},{"$error":"#REF!"},{"$error":"#REF!"},{"$f":"#REF!","v":{"$error":"#REF!"}},{"$f":"#REF!","v":{"$error":"#REF!"}},{"$f":"#REF!","v":{"$error":"#REF!"}},{"$f":"AF39*$G$39","v":0},null,null,{"$error":"#REF!"},{"$error":"#REF!"},{"$error":"#REF!"},{"$f":"#REF!","v":{"$error":"#REF!"}},{"$f":"AM39*$G$39","v":0},null,{"$f":"(AM39*$F$39)*#REF!","v":{"$error":"#REF!"}},{"$error":"#REF!"},{"$f":"#REF!","v":{"$error":"#REF!"}},{"$f":"#REF!","v":{"$error":"#REF!"}},{"$f":"#REF!","v":{"$error":"#REF!"}},{"$f":"AT39*$G$39","v":0},null,{"$f":"(AT39*$F$39)*#REF!","v":{"$error":"#REF!"}},{"$error":"#REF!"},{"$error":"#REF!"},{"$error":"#REF!"}]
[null,null,"Корпус кухонний секцiя верхня 80ВС/900 2дв Сушка",895,396,2,0.70884000000000003,0,null,null,null,{"$f":"(K40*$F$13)*#REF!","v":{"$error":"#REF!"}},{"$f":"#REF!","v":{"$error":"#REF!"}},{"$f":"#REF!","v":{"$error":"#REF!"}},{"$f":"#REF!","v":{"$error":"#REF!"}},{"$error":"#REF!"},{"$error":"#REF!"},{"$error":"#REF!"},{"$f":"#REF!","v":{"$error":"#REF!"}},{"$f":"#REF!","v":{"$error":"#REF!"}},{"$f":"#REF!","v":{"$error":"#REF!"}},{"$f":"W40*$G$40","v":0},null,{"$f":"(W40*$F$40)*#REF!","v":{"$error":"#REF!"}},{"$error":"#REF!"},{"$error":"#REF!"},{"$error":"#REF!"},{"$f":"#REF!","v":{"$error":"#REF!"}},{"$f":"#REF!","v":{"$error":"#REF!"}},{"$f":"#REF!","v":{"$error":"#REF!"}},{"$f":"AF40*$G$40","v":0},null,null,{"$error":"#REF!"},{"$error":"#REF!"},{"$error":"#REF!"},{"$f":"#REF!","v":{"$error":"#REF!"}},{"$f":"AM40*$G$40","v":0},null,{"$f":"(AM40*$F$40)*#REF!","v":{"$error":"#REF!"}},{"$error":"#REF!"},{"$f":"#REF!","v":{"$error":"#REF!"}},{"$f":"#REF!","v":{"$error":"#REF!"}},{"$f":"#REF!","v":{"$error":"#REF!"}},{"$f":"AT40*$G$40","v":0},null,{"$f":"(AT40*$F$40)*#REF!","v":{"$error":"#REF!"}},{"$error":"#REF!"},{"$error":"#REF!"},{"$error":"#REF!"}]
[null,null,"Корпус кухонний секцiя верхня 80В/720 2дв Газ Ліфт",356,796,2,0.56675200000000003,0,null,null,null,{"$f":"(K41*$F$13)*#REF!","v":{"$error":"#REF!"}},{"$f":"#REF!","v":{"$error":"#REF!"}},{"$f":"#REF!","v":{"$error":"#REF!"}},{"$f":"#REF!","v":{"$error":"#REF!"}},{"$error":"#REF!"},{"$error":"#REF!"},{"$error":"#REF!"},{"$f":"#REF!","v":{"$error":"#REF!"}},{"$f":"#REF!","v":{"$error":"#REF!"}},{"$f":"#REF!","v":{"$error":"#REF!"}},{"$f":"W41*$G$41","v":0},null,{"$f":"(W41*$F$41)*#REF!","v":{"$error":"#REF!"}},{"$error":"#REF!"},{"$error":"#REF!"},{"$error":"#REF!"},{"$f":"#REF!","v":{"$error":"#REF!"}},{"$f":"#REF!","v":{"$error":"#REF!"}},{"$f":"#REF!","v":{"$error":"#REF!"}},{"$f":"AF41*$G$41","v":0},null,null,{"$error":"#REF!"},{"$error":"#REF!"},{"$error":"#REF!"},{"$f":"#REF!","v":{"$error":"#REF!"}},{"$f":"AM41*$G$41","v":0},null,{"$f":"(AM41*$F$41)*#REF!","v":{"$error":"#REF!"}},{"$error":"#REF!"},{"$f":"#REF!","v":{"$error":"#REF!"}},{"$f":"#REF!","v":{"$error":"#REF!"}},{"$f":"#REF!","v":{"$error":"#REF!"}},{"$f":"AT41*$G$41","v":0},null,{"$f":"(AT41*$F$41)*#REF!","v":{"$error":"#REF!"}},{"$error":"#REF!"},{"$error":"#REF!"},{"$error":"#REF!"}]
[null,null,"Корпус кухонний секцiя верхня 80В/900 2дв Газ Ліфт",446,796,2,0.710032,0,null,null,null,{"$f":"(K42*$F$13)*#REF!","v":{"$error":"#REF!"}},{"$f":"#REF!","v":{"$error":"#REF!"}},{"$f":"#REF!","v":{"$error":"#REF!"}},{"$f":"#REF!","v":{"$error":"#REF!"}},{"$error":"#REF!"},{"$error":"#REF!"},{"$error":"#REF!"}]
[null,null,"Корпус кухонний секцiя верхня 80В/450 1дв Газ Ліфт",446,796,1,0.355016,0,null,null,null,{"$f":"(K43*$F$13)*#REF!","v":{"$error":"#REF!"}},{"$f":"#REF!","v":{"$error":"#REF!"}},{"$f":"#REF!","v":{"$error":"#REF!"}},{"$f":"#REF!","v":{"$error":"#REF!"}},{"$error":"#REF!"},{"$error":"#REF!"},{"$error":"#REF!"}]
[null,null,"Корпус кухонний секцiя верхня 30ВЗР/720 1дв Закінчення Радіусне",715,448,1,0.32031999999999999,0,null,null,null,{"$f":"(K44*$F$13)*#REF!","v":{"$error":"#REF!"}},{"$f":"#REF!","v":{"$error":"#REF!"}},{"$f":"#REF!","v":{"$error":"#REF!"}},{"$f":"#REF!","v":{"$error":"#REF!"}},{"$error":"#REF!"},{"$error":"#REF!"},{"$error":"#REF!"},{"$f":"#REF!","v":{"$error":"#REF!"}},{"$f":"#REF!","v":{"$error":"#REF!"}},{"$f":"#REF!","v":{"$error":"#REF!"}},{"$f":"W44*$G$44","v":0},null,{"$f":"(W44*$F$44)*#REF!","v":{"$error":"#REF!"}},{"$f":"S44*W44","v":{"$error":"#REF!"}},{"$f":"T44*W44","v":{"$error":"#REF!"}},{"$f":"U44*W44","v":{"$error":"#REF!"}},{"$f":"#REF!","v":{"$error":"#REF!"}},{"$f":"#REF!","v":{"$error":"#REF!"}},{"$f":"#REF!","v":{"$error":"#REF!"}},{"$f":"AF44*$G$44","v":0},null,null,{"$f":"AB44*AF44","v":{"$error":"#REF!"}},{"$f":"AC44*AF44","v":{"$error":"#REF!"}},{"$f":"AD44*AF44","v":{"$error":"#REF!"}},{"$f":"#REF!","v":{"$error":"#REF!"}},{"$f":"AM44*$G$44","v":0},null,{"$f":"(AM44*$F$44)*#REF!","v":{"$error":"#REF!"}},{"$error":"#REF!"},{"$f":"#REF!","v":{"$error":"#REF!"}},{"$f":"#REF!","v":{"$error":"#REF!"}},{"$f":"#REF!","v":{"$error":"#REF!"}},{"$f":"AT44*$G$44","v":0},null,{"$f":"(AT44*$F$44)*#REF!","v":{"$error":"#REF!"}},{"$f":"AP44*AT44","v":{"$error":"#REF!"}},{"$f":"AQ44*AT44","v":{"$error":"#REF!"}},{"$f":"AR44*AT44","v":{"$error":"#REF!"}}]
[null,null,"Корпус кухонний секцiя верхня 30ВЗР/900 1дв Закінчення Радіусне",895,448,1,0.40095999999999998,0,null,null,null,{"$f":"(K45*$F$13)*#REF!","v":{"$error":"#REF!"}},{"$f":"#REF!","v":{"$error":"#REF!"}},{"$f":"#REF!","v":{"$error":"#REF!"}},{"$f":"#REF!","v":{"$error":"#REF!"}},{"$error":"#REF!"},{"$error":"#REF!"},{"$error":"#REF!"},{"$f":"#REF!","v":{"$error":"#REF!"}},{"$f":"#REF!","v":{"$error":"#REF!"}},{"$f":"#REF!","v":{"$error":"#REF!"}},{"$f":"W45*$G$45","v":0},null,{"$f":"(W45*$F$45)*#REF!","v":{"$error":"#REF!"}},{"$f":"S45*W45","v":{"$error":"#REF!"}},{"$f":"T45*W45","v":{"$error":"#REF!"}},{"$f":"U45*W45","v":{"$error":"#REF!"}},{"$f":"#REF!","v":{"$error":"#REF!"}},{"$f":"#REF!","v":{"$error":"#REF!"}},{"$f":"#REF!","v":{"$error":"#REF!"}},{"$f":"AF45*$G$45","v":0},null,null,{"$f":"AB45*AF45","v":{"$error":"#REF!"}},{"$f":"AC45*AF45","v":{"$error":"#REF!"}},{"$f":"AD45*AF45","v":{"$error":"#REF!"}},{"$f":"#REF!","v":{"$error":"#REF!"}},{"$f":"AM45*$G$45","v":0},null,{"$f":"(AM45*$F$45)*#REF!","v":{"$error":"#REF!"}},{"$error":"#REF!"},{"$f":"#REF!","v":{"$error":"#REF!"}},{"$f":"#REF!","v":{"$error":"#REF!"}},{"$f":"#REF!","v":{"$error":"#REF!"}},{"$f":"AT45*$G$45","v":0},null,{"$f":"(AT45*$F$45)*#REF!","v":{"$error":"#REF!"}},{"$f":"AP45*AT45","v":{"$error":"#REF!"}},{"$f":"AQ45*AT45","v":{"$error":"#REF!"}},{"$f":"AR45*AT45","v":{"$error":"#REF!"}}]
[null,null,"Корпус кухонний секцiя верхня Кут 90°/360 Антресоль Обманка",356,90,1,3.2039999999999999E-2,0,null,null,null,null,1873,{"$f":"#REF!","v":{"$error":"#REF!"}},{"$f":"#REF!","v":{"$error":"#REF!"}},0,{"$error":"#REF!"},{"$error":"#REF!"}]
[null,null,null,356,72,1,2.5631999999999999E-2,0,null,null,null,null,1873,{"$f":"#REF!","v":{"$error":"#REF!"}},{"$f":"#REF!","v":{"$error":"#REF!"}},0,{"$error":"#REF!"},{"$error":"#REF!"}]
[null,null,"Корпус кухонний секцiя верхня КутВ 45°/720 1дв",715,428,1,0.30602000000000001,0,null,null,null,{"$f":"(K48*$F$13)*#REF!","v":{"$error":"#REF!"}},1873,{"$f":"#REF!","v":{"$error":"#REF!"}},{"$f":"#REF!","v":{"$error":"#REF!"}},0,{"$error":"#REF!"},{"$error":"#REF!"}]
[null,null,"Корпус кухонний секцiя верхня КутВ 45°/900 1дв",895,428,1,0.38306000000000001,0,null,null,null,{"$f":"(K49*$F$13)*#REF!","v":{"$error":"#REF!"}},1873,{"$f":"#REF!","v":{"$error":"#REF!"}},{"$f":"#REF!","v":{"$error":"#REF!"}},0,{"$error":"#REF!"},{"$error":"#REF!"}]
[null,null,"Корпус кухонний секцiя верхня КутВ 90°/360 2дв",356,308,1,0.109648,0,null,null,null,{"$f":"(K50*$F$13)*#REF!","v":{"$error":"#REF!"}},1873,{"$f":"#REF!","v":{"$error":"#REF!"}},{"$f":"#REF!","v":{"$error":"#REF!"}},0,{"$error":"#REF!"},{"$error":"#REF!"}]
[null,null,null,356,298,1,0.106088,0,null,null,null,{"$f":"(K51*$F$13)*#REF!","v":{"$error":"#REF!"}},1873,{"$f":"#REF!","v":{"$error":"#REF!"}},{"$f":"#REF!","v":{"$error":"#REF!"}},0,{"$error":"#REF!"},{"$error":"#REF!"}]
[null,null,"Корпус кухонний секцiя верхня КутВ 90°/450 2дв",446,308,1,0.13736799999999999,0,null,null,null,{"$f":"(K52*$F$13)*#REF!","v":{"$error":"#REF!"}},1873,{"$f":"#REF!","v":{"$error":"#REF!"}},{"$f":"#REF!","v":{"$error":"#REF!"}},0,{"$error":"#REF!"},{"$error":"#REF!"}]
[null,null,null,446,298,1,0.132908,0,null,null,null,{"$f":"(K53*$F$13)*#REF!","v":{"$error":"#REF!"}},1873,{"$f":"#REF!","v":{"$error":"#REF!"}},{"$f":"#REF!","v":{"$error":"#REF!"}},0,{"$error":"#REF!"},{"$error":"#REF!"}]
[null,null,"Корпус кухонний секцiя верхня КутВ 90°/720 2дв",715,308,1,0.22022,0,null,null,null,{"$f":"(K54*$F$13)*#REF!","v":{"$error":"#REF!"}},1873,{"$f":"#REF!","v":{"$error":"#REF!"}},{"$f":"#REF!","v":{"$error":"#REF!"}},0,{"$error":"#REF!"},{"$error":"#REF!"}]
[null,null,null,715,298,1,0.21307000000000001,0,null,null,null,{"$f":"(K55*$F$13)*#REF!","v":{"$error":"#REF!"}},1873,{"$f":"#REF!","v":{"$error":"#REF!"}},{"$f":"#REF!","v":{"$error":"#REF!"}},0,{"$error":"#REF!"},{"$error":"#REF!"}]
[null,null,"Корпус кухонний секцiя верхня КутВ 90°/900 2дв",895,308,1,0.27566000000000002,0,null,null,null,{"$f":"(K56*$F$13)*#REF!","v":{"$error":"#REF!"}},1873,{"$f":"#REF!","v":{"$error":"#REF!"}},{"$f":"#REF!","v":{"$error":"#REF!"}},0,{"$error":"#REF!"},{"$error":"#REF!"}]
[null,null,null,895,298,1,0.26671,0,null,null,null,{"$f":"(K57*$F$13)*#REF!","v":{"$error":"#REF!"}},1873,{"$f":"#REF!","v":{"$error":"#REF!"}},{"$f":"#REF!","v":{"$error":"#REF!"}},0,{"$error":"#REF!"},{"$error":"#REF!"}]
[null,"Нижні секції","Корпус кухонний секція нижня 20НК/820 Карго",715,196,1,0.14013999999999999,0,null,null,null,{"$f":"(K58*$F$13)*#REF!","v":{"$error":"#REF!"}},{"$f":"#REF!","v":{"$error":"#REF!"}},{"$f":"#REF!","v":{"$error":"#REF!"}},{"$f":"#REF!","v":{"$error":"#REF!"}},{"$error":"#REF!"},{"$error":"#REF!"},{"$error":"#REF!"},{"$f":"#REF!","v":{"$error":"#REF!"}},{"$f":"#REF!","v":{"$error":"#REF!"}},{"$f":"#REF!","v":{"$error":"#REF!"}},{"$f":"W58*$G$58","v":0},null,{"$f":"(W58*$F$58)*#REF!","v":{"$error":"#REF!"}},{"$f":"S58*V58","v":{"$error":"#REF!"}},{"$f":"T58*V58","v":{"$error":"#REF!"}},{"$f":"U58*V58","v":{"$error":"#REF!"}},{"$f":"#REF!","v":{"$error":"#REF!"}},{"$f":"#REF!","v":{"$error":"#REF!"}},{"$f":"#REF!","v":{"$error":"#REF!"}},{"$f":"AF58*$G$58","v":0},null,null,{"$error":"#REF!"},{"$error":"#REF!"},{"$error":"#REF!"},{"$f":"#REF!","v":{"$error":"#REF!"}},{"$f":"AM58*$G$58","v":0},null,{"$f":"(AM58*$F$58)*#REF!","v":{"$error":"#REF!"}},{"$error":"#REF!"},{"$f":"#REF!","v":{"$error":"#REF!"}},{"$f":"#REF!","v":{"$error":"#REF!"}},{"$f":"#REF!","v":{"$error":"#REF!"}},{"$f":"AT58*$G$58","v":0},null,{"$f":"(AT58*$F$58)*#REF!","v":{"$error":"#REF!"}},{"$f":"AP58*AS58","v":{"$error":"#REF!"}},{"$f":"AQ58*AS58","v":{"$error":"#REF!"}},{"$f":"AR58*AS58","v":{"$error":"#REF!"}}]
[null,null,"Корпус кухонний секція нижня 20Н/820 1дв",715,196,1,0.14013999999999999,0,null,null,null,{"$f":"(K59*$F$13)*#REF!","v":{"$error":"#REF!"}},{"$f":"#REF!","v":{"$error":"#REF!"}},{"$f":"#REF!","v":{"$error":"#REF!"}},{"$f":"#REF!","v":{"$error":"#REF!"}},{"$error":"#REF!"},{"$error":"#REF!"},{"$error":"#REF!"}]
[null,null,"Корпус кухонний секція нижня 30Н/820 1дв",715,296,1,0.21163999999999999,0,null,null,null,{"$f":"(K60*$F$13)*#REF!","v":{"$error":"#REF!"}},{"$f":"#REF!","v":{"$error":"#REF!"}},{"$f":"#REF!","v":{"$error":"#REF!"}},{"$f":"#REF!","v":{"$error":"#REF!"}},{"$error":"#REF!"},{"$error":"#REF!"},{"$error":"#REF!"},{"$f":"#REF!","v":{"$error":"#REF!"}},{"$f":"#REF!","v":{"$error":"#REF!"}},{"$f":"#REF!","v":{"$error":"#REF!"}},{"$f":"W60*$G$60","v":0},null,{"$f":"(W60*$F$60)*#REF!","v":{"$error":"#REF!"}},{"$error":"#REF!"},{"$error":"#REF!"},{"$error":"#REF!"},{"$f":"#REF!","v":{"$error":"#REF!"}},{"$f":"#REF!","v":{"$error":"#REF!"}},{"$f":"#REF!","v":{"$error":"#REF!"}},{"$f":"AF60*$G$60","v":0},null,null,{"$error":"#REF!"},{"$error":"#REF!"},{"$error":"#REF!"},{"$f":"#REF!","v":{"$error":"#REF!"}},{"$f":"AM60*$G$60","v":0},null,{"$f":"(AM60*$F$60)*#REF!","v":{"$error":"#REF!"}},{"$error":"#REF!"},{"$f":"#REF!","v":{"$error":"#REF!"}},{"$f":"#REF!","v":{"$error":"#REF!"}},{"$f":"#REF!","v":{"$error":"#REF!"}},{"$f":"AT60*$G$60","v":0},null,{"$f":"(AT60*$F$60)*#REF!","v":{"$error":"#REF!"}},{"$error":"#REF!"},{"$error":"#REF!"},{"$error":"#REF!"}]
[null,null,"Корпус кухонний секція нижня 40Н/820 1дв",715,396,1,0.28314,0,null,null,null,{"$f":"(K61*$F$13)*#REF!","v":{"$error":"#REF!"}},{"$f":"#REF!","v":{"$error":"#REF!"}},{"$f":"#REF!","v":{"$error":"#REF!"}},{"$f":"#REF!","v":{"$error":"#REF!"}},{"$error":"#REF!"},{"$error":"#REF!"},{"$error":"#REF!"},{"$f":"#REF!","v":{"$error":"#REF!"}},{"$f":"#REF!","v":{"$error":"#REF!"}},{"$f":"#REF!","v":{"$error":"#REF!"}},{"$f":"W61*$G$61","v":0},null,{"$f":"(W61*$F$61)*#REF!","v":{"$error":"#REF!"}},{"$error":"#REF!"},{"$error":"#REF!"},{"$error":"#REF!"},{"$f":"#REF!","v":{"$error":"#REF!"}},{"$f":"#REF!","v":{"$error":"#REF!"}},{"$f":"#REF!","v":{"$error":"#REF!"}},{"$f":"AF61*$G$61","v":0},null,null,{"$error":"#REF!"},{"$error":"#REF!"},{"$error":"#REF!"},{"$f":"#REF!","v":{"$error":"#REF!"}},{"$f":"AM61*$G$61","v":0},null,{"$f":"(AM61*$F$61)*#REF!","v":{"$error":"#REF!"}},{"$error":"#REF!"},{"$f":"#REF!","v":{"$error":"#REF!"}},{"$f":"#REF!","v":{"$error":"#REF!"}},{"$f":"#REF!","v":{"$error":"#REF!"}},{"$f":"AT61*$G$61","v":0},null,{"$f":"(AT61*$F$61)*#REF!","v":{"$error":"#REF!"}},{"$error":"#REF!"},{"$error":"#REF!"},{"$error":"#REF!"}]
[null,null,"Корпус кухонний секція нижня 45Н/820 1дв",715,446,1,0.31889000000000001,0,null,null,null,{"$f":"(K62*$F$13)*#REF!","v":{"$error":"#REF!"}},{"$f":"#REF!","v":{"$error":"#REF!"}},{"$f":"#REF!","v":{"$error":"#REF!"}},{"$f":"#REF!","v":{"$error":"#REF!"}},{"$error":"#REF!"},{"$error":"#REF!"},{"$error":"#REF!"},{"$f":"#REF!","v":{"$error":"#REF!"}},{"$f":"#REF!","v":{"$error":"#REF!"}},{"$f":"#REF!","v":{"$error":"#REF!"}},{"$f":"W62*$G$62","v":0},null,{"$f":"(W62*$F$62)*#REF!","v":{"$error":"#REF!"}},{"$error":"#REF!"},{"$error":"#REF!"},{"$error":"#REF!"},{"$f":"#REF!","v":{"$error":"#REF!"}},{"$f":"#REF!","v":{"$error":"#REF!"}},{"$f":"#REF!","v":{"$error":"#REF!"}},{"$f":"AF62*$G$62","v":0},null,null,{"$error":"#REF!"},{"$error":"#REF!"},{"$error":"#REF!"},{"$f":"#REF!","v":{"$error":"#REF!"}},{"$f":"AM62*$G$62","v":0},null,{"$f":"(AM62*$F$62)*#REF!","v":{"$error":"#REF!"}},{"$error":"#REF!"},{"$f":"#REF!","v":{"$error":"#REF!"}},{"$f":"#REF!","v":{"$error":"#REF!"}},{"$f":"#REF!","v":{"$error":"#REF!"}},{"$f":"AT62*$G$62","v":0},null,{"$f":"(AT62*$F$62)*#REF!","v":{"$error":"#REF!"}},{"$error":"#REF!"},{"$error":"#REF!"},{"$error":"#REF!"}]
[null,null,"Корпус кухонний секція нижня 40Н3ШХ/820 Телескоп",176,396,1,6.9695999999999994E-2,0,null,null,null,{"$f":"(K63*$F$13)*#REF!","v":{"$error":"#REF!"}},{"$f":"#REF!","v":{"$error":"#REF!"}},{"$f":"#REF!","v":{"$error":"#REF!"}},{"$f":"#REF!","v":{"$error":"#REF!"}},{"$error":"#REF!"},{"$error":"#REF!"},{"$error":"#REF!"},{"$f":"#REF!","v":{"$error":"#REF!"}},{"$f":"#REF!","v":{"$error":"#REF!"}},{"$f":"#REF!","v":{"$error":"#REF!"}},{"$f":"W63*$G$63","v":0},null,{"$f":"(W63*$F$63)*#REF!","v":{"$error":"#REF!"}},{"$error":"#REF!"},{"$error":"#REF!"},{"$error":"#REF!"},{"$f":"#REF!","v":{"$error":"#REF!"}},{"$f":"#REF!","v":{"$error":"#REF!"}},{"$f":"#REF!","v":{"$error":"#REF!"}},{"$f":"AF63*$G$63","v":0},null,null,{"$error":"#REF!"},{"$error":"#REF!"},{"$error":"#REF!"},{"$f":"#REF!","v":{"$error":"#REF!"}},{"$f":"AM63*$G$63","v":0},null,{"$f":"(AM63*$F$63)*#REF!","v":{"$error":"#REF!"}},{"$error":"#REF!"},{"$f":"#REF!","v":{"$error":"#REF!"}},{"$f":"#REF!","v":{"$error":"#REF!"}},{"$f":"#REF!","v":{"$error":"#REF!"}},{"$f":"AT63*$G$63","v":0},null,{"$f":"(AT63*$F$63)*#REF!","v":{"$error":"#REF!"}},{"$error":"#REF!"},{"$error":"#REF!"},{"$error":"#REF!"}]
[null,null,null,266,396,2,0.210672,0,null,null,null,{"$f":"(K64*$F$13)*#REF!","v":{"$error":"#REF!"}},{"$f":"#REF!","v":{"$error":"#REF!"}},{"$f":"#REF!","v":{"$error":"#REF!"}},{"$f":"#REF!","v":{"$error":"#REF!"}},{"$error":"#REF!"},{"$error":"#REF!"},{"$error":"#REF!"},{"$f":"#REF!","v":{"$error":"#REF!"}},{"$f":"#REF!","v":{"$error":"#REF!"}},{"$f":"#REF!","v":{"$error":"#REF!"}},{"$f":"W63*$G$64","v":0},null,{"$f":"(W63*$F$64)*#REF!","v":{"$error":"#REF!"}},{"$error":"#REF!"},{"$error":"#REF!"},{"$error":"#REF!"},{"$f":"#REF!","v":{"$error":"#REF!"}},{"$f":"#REF!","v":{"$error":"#REF!"}},{"$f":"#REF!","v":{"$error":"#REF!"}},{"$f":"AF63*$G$64","v":0},null,null,{"$error":"#REF!"},{"$error":"#REF!"},{"$error":"#REF!"},{"$f":"#REF!","v":{"$error":"#REF!"}},{"$f":"AM63*$G$64","v":0},null,{"$f":"(AM63*$F$64)*#REF!","v":{"$error":"#REF!"}},{"$error":"#REF!"},{"$f":"#REF!","v":{"$error":"#REF!"}},{"$f":"#REF!","v":{"$error":"#REF!"}},{"$f":"#REF!","v":{"$error":"#REF!"}},{"$f":"AT63*$G$64","v":0},null,{"$f":"(AT63*$F$64)*#REF!","v":{"$error":"#REF!"}},{"$error":"#REF!"},{"$error":"#REF!"},{"$error":"#REF!"}]
[null,null,"Корпус кухонний секція нижня 50Н/820 1дв",715,496,1,0.35464000000000001,0,null,null,null,{"$f":"(K65*$F$13)*#REF!","v":{"$error":"#REF!"}},{"$f":"#REF!","v":{"$error":"#REF!"}},{"$f":"#REF!","v":{"$error":"#REF!"}},{"$f":"#REF!","v":{"$error":"#REF!"}},{"$error":"#REF!"},{"$error":"#REF!"},{"$error":"#REF!"},{"$f":"#REF!","v":{"$error":"#REF!"}},{"$f":"#REF!","v":{"$error":"#REF!"}},{"$f":"#REF!","v":{"$error":"#REF!"}},{"$f":"W65*$G$65","v":0},null,{"$f":"(W65*$F$65)*#REF!","v":{"$error":"#REF!"}},{"$error":"#REF!"},{"$error":"#REF!"},{"$error":"#REF!"},{"$f":"#REF!","v":{"$error":"#REF!"}},{"$f":"#REF!","v":{"$error":"#REF!"}},{"$f":"#REF!","v":{"$error":"#REF!"}},{"$f":"AF65*$G$65","v":0},null,null,{"$error":"#REF!"},{"$error":"#REF!"},{"$error":"#REF!"},{"$f":"#REF!","v":{"$error":"#REF!"}},{"$f":"AM65*$G$65","v":0},null,{"$f":"(AM65*$F$65)*#REF!","v":{"$error":"#REF!"}},{"$error":"#REF!"},{"$f":"#REF!","v":{"$error":"#REF!"}},{"$f":"#REF!","v":{"$error":"#REF!"}},{"$f":"#REF!","v":{"$error":"#REF!"}},{"$f":"AT65*$G$65","v":0},null,{"$f":"(AT65*$F$65)*#REF!","v":{"$error":"#REF!"}},{"$error":"#REF!"},{"$error":"#REF!"},{"$error":"#REF!"}]
[null,null,"Корпус кухонний секція нижня 60НДШ/820 Телескоп",110,596,1,6.5559999999999993E-2,0,null,null,null,{"$f":"(K66*$F$13)*#REF!","v":{"$error":"#REF!"}},{"$f":"#REF!","v":{"$error":"#REF!"}},{"$f":"#REF!","v":{"$error":"#REF!"}},{"$f":"#REF!","v":{"$error":"#REF!"}},{"$error":"#REF!"},{"$error":"#REF!"},{"$error":"#REF!"},{"$f":"#REF!","v":{"$error":"#REF!"}},{"$f":"#REF!","v":{"$error":"#REF!"}},{"$f":"#REF!","v":{"$error":"#REF!"}},{"$f":"W66*$G$66","v":0},null,{"$f":"(W66*$F$66)*#REF!","v":{"$error":"#REF!"}},{"$error":"#REF!"},{"$error":"#REF!"},{"$error":"#REF!"},{"$f":"#REF!","v":{"$error":"#REF!"}},{"$f":"#REF!","v":{"$error":"#REF!"}},{"$f":"#REF!","v":{"$error":"#REF!"}},{"$f":"AF66*$G$66","v":0},null,null,{"$error":"#REF!"},{"$error":"#REF!"},{"$error":"#REF!"},{"$f":"#REF!","v":{"$error":"#REF!"}},{"$f":"AM66*$G$66","v":0},null,{"$f":"(AM66*$F$66)*#REF!","v":{"$error":"#REF!"}},{"$error":"#REF!"},{"$f":"#REF!","v":{"$error":"#REF!"}},{"$f":"#REF!","v":{"$error":"#REF!"}},{"$f":"#REF!","v":{"$error":"#REF!"}},{"$f":"AT66*$G$66","v":0},null,{"$f":"(AT66*$F$66)*#REF!","v":{"$error":"#REF!"}},{"$error":"#REF!"},{"$error":"#REF!"},{"$error":"#REF!"}]
[null,null,"Корпус кухонний секція нижня 60НД/820",110,596,1,6.5559999999999993E-2,0,null,null,null,{"$f":"(K67*$F$13)*#REF!","v":{"$error":"#REF!"}},{"$f":"#REF!","v":{"$error":"#REF!"}},{"$f":"#REF!","v":{"$error":"#REF!"}},{"$f":"#REF!","v":{"$error":"#REF!"}},{"$f":"M67*H67","v":{"$error":"#REF!"}},{"$f":"N67*H67","v":{"$error":"#REF!"}},{"$f":"O67*H67","v":{"$error":"#REF!"}},{"$f":"#REF!","v":{"$error":"#REF!"}},{"$f":"#REF!","v":{"$error":"#REF!"}},{"$f":"#REF!","v":{"$error":"#REF!"}},{"$f":"W67*$G$67","v":0},null,{"$f":"(W67*$F$67)*#REF!","v":{"$error":"#REF!"}},{"$error":"#REF!"},{"$error":"#REF!"},{"$error":"#REF!"},{"$f":"#REF!","v":{"$error":"#REF!"}},{"$f":"#REF!","v":{"$error":"#REF!"}},{"$f":"#REF!","v":{"$error":"#REF!"}},{"$f":"AF67*$G$67","v":0},null,null,{"$error":"#REF!"},{"$error":"#REF!"},{"$error":"#REF!"},{"$f":"#REF!","v":{"$error":"#REF!"}},{"$f":"AM67*$G$67","v":0},null,{"$f":"(AM67*$F$67)*#REF!","v":{"$error":"#REF!"}},{"$error":"#REF!"},{"$f":"#REF!","v":{"$error":"#REF!"}},{"$f":"#REF!","v":{"$error":"#REF!"}},{"$f":"#REF!","v":{"$error":"#REF!"}},{"$f":"AT67*$G$67","v":0},null,{"$f":"(AT67*$F$67)*#REF!","v":{"$error":"#REF!"}},{"$error":"#REF!"},{"$error":"#REF!"},{"$error":"#REF!"}]
[null,null,"Корпус кухонний секція нижня 60Н/820 2дв",715,296,2,0.42327999999999999,0,null,null,null,{"$f":"(K68*$F$13)*#REF!","v":{"$error":"#REF!"}},{"$f":"#REF!","v":{"$error":"#REF!"}},{"$f":"#REF!","v":{"$error":"#REF!"}},{"$f":"#REF!","v":{"$error":"#REF!"}},{"$error":"#REF!"},{"$error":"#REF!"},{"$error":"#REF!"},{"$f":"#REF!","v":{"$error":"#REF!"}},{"$f":"#REF!","v":{"$error":"#REF!"}},{"$f":"#REF!","v":{"$error":"#REF!"}},{"$f":"W68*$G$68","v":0},null,{"$f":"(W68*$F$68)*#REF!","v":{"$error":"#REF!"}},{"$error":"#REF!"},{"$error":"#REF!"},{"$error":"#REF!"},{"$f":"#REF!","v":{"$error":"#REF!"}},{"$f":"#REF!","v":{"$error":"#REF!"}},{"$f":"#REF!","v":{"$error":"#REF!"}},{"$f":"AF68*$G$68","v":0},null,null,{"$error":"#REF!"},{"$error":"#REF!"},{"$error":"#REF!"},{"$f":"#REF!","v":{"$error":"#REF!"}},{"$f":"AM68*$G$68","v":0},null,{"$f":"(AM68*$F$68)*#REF!","v":{"$error":"#REF!"}},{"$error":"#REF!"},{"$f":"#REF!","v":{"$error":"#REF!"}},{"$f":"#REF!","v":{"$error":"#REF!"}},{"$f":"#REF!","v":{"$error":"#REF!"}},{"$f":"AT68*$G$68","v":0},null,{"$f":"(AT68*$F$68)*#REF!","v":{"$error":"#REF!"}},{"$error":"#REF!"},{"$error":"#REF!"},{"$error":"#REF!"}]
[null,null,"Корпус кухонний секція нижня 60Н/820 1дв",715,596,1,0.42614000000000002,0,null,null,null,{"$f":"(K69*$F$13)*#REF!","v":{"$error":"#REF!"}},{"$f":"#REF!","v":{"$error":"#REF!"}},{"$f":"#REF!","v":{"$error":"#REF!"}},{"$f":"#REF!","v":{"$error":"#REF!"}},{"$error":"#REF!"},{"$error":"#REF!"},{"$error":"#REF!"}]
[null,null,"Корпус кухонний секція нижня 60НМ/820 2дв Мийка",715,296,2,0.42327999999999999,0,null,null,null,{"$f":"(K70*$F$13)*#REF!","v":{"$error":"#REF!"}},{"$f":"#REF!","v":{"$error":"#REF!"}},{"$f":"#REF!","v":{"$error":"#REF!"}},{"$f":"#REF!","v":{"$error":"#REF!"}},{"$error":"#REF!"},{"$error":"#REF!"},{"$error":"#REF!"},{"$f":"#REF!","v":{"$error":"#REF!"}},{"$f":"#REF!","v":{"$error":"#REF!"}},{"$f":"#REF!","v":{"$error":"#REF!"}},{"$f":"W70*$G$70","v":0},null,{"$f":"(W70*$F$70)*#REF!","v":{"$error":"#REF!"}},{"$error":"#REF!"},{"$error":"#REF!"},{"$error":"#REF!"},{"$f":"#REF!","v":{"$error":"#REF!"}},{"$f":"#REF!","v":{"$error":"#REF!"}},{"$f":"#REF!","v":{"$error":"#REF!"}},{"$f":"AF70*$G$70","v":0},null,null,{"$error":"#REF!"},{"$error":"#REF!"},{"$error":"#REF!"},{"$f":"#REF!","v":{"$error":"#REF!"}},{"$f":"AM70*$G$70","v":0},null,{"$f":"(AM70*$F$70)*#REF!","v":{"$error":"#REF!"}},{"$f":"AL70*AK70","v":{"$error":"#REF!"}},{"$f":"#REF!","v":{"$error":"#REF!"}},{"$f":"#REF!","v":{"$error":"#REF!"}},{"$f":"#REF!","v":{"$error":"#REF!"}},{"$f":"AT70*$G$70","v":0},null,{"$f":"(AT70*$F$70)*#REF!","v":{"$error":"#REF!"}},{"$error":"#REF!"},{"$error":"#REF!"},{"$error":"#REF!"}]
[null,null,"Корпус кухонний секція нижня 60Н2ШХ/820 Телескоп",356,596,2,0.42435200000000001,0,null,null,null,{"$f":"(K71*$F$13)*#REF!","v":{"$error":"#REF!"}},{"$f":"#REF!","v":{"$error":"#REF!"}},{"$f":"#REF!","v":{"$error":"#REF!"}},{"$f":"#REF!","v":{"$error":"#REF!"}},{"$error":"#REF!"},{"$error":"#REF!"},{"$error":"#REF!"},{"$f":"#REF!","v":{"$error":"#REF!"}},{"$f":"#REF!","v":{"$error":"#REF!"}},{"$f":"#REF!","v":{"$error":"#REF!"}},{"$f":"W71*$G$71","v":0},null,{"$f":"(W71*$F$71)*#REF!","v":{"$error":"#REF!"}},{"$error":"#REF!"},{"$error":"#REF!"},{"$error":"#REF!"},{"$f":"#REF!","v":{"$error":"#REF!"}},{"$f":"#REF!","v":{"$error":"#REF!"}},{"$f":"#REF!","v":{"$error":"#REF!"}},{"$f":"AF71*$G$71","v":0},null,null,{"$f":"AB71*AE71","v":{"$error":"#REF!"}},{"$f":"AC71*AE71","v":{"$error":"#REF!"}},{"$f":"AD71*AE71","v":{"$error":"#REF!"}},{"$f":"#REF!","v":{"$error":"#REF!"}},{"$f":"AM71*$G$71","v":0},null,{"$f":"(AM71*$F$71)*#REF!","v":{"$error":"#REF!"}},{"$error":"#REF!"},{"$f":"#REF!","v":{"$error":"#REF!"}},{"$f":"#REF!","v":{"$error":"#REF!"}},{"$f":"#REF!","v":{"$error":"#REF!"}},{"$f":"AT71*$G$71","v":0},null,{"$f":"(AT71*$F$71)*#REF!","v":{"$error":"#REF!"}},{"$error":"#REF!"},{"$error":"#REF!"},{"$error":"#REF!"}]
[null,null,"Корпус кухонний секція нижня 60Н3ШХ/820 Телескоп",176,596,1,0.104896,0,null,null,null,{"$f":"(K72*$F$13)*#REF!","v":{"$error":"#REF!"}},{"$f":"#REF!","v":{"$error":"#REF!"}},{"$f":"#REF!","v":{"$error":"#REF!"}},{"$f":"#REF!","v":{"$error":"#REF!"}},{"$error":"#REF!"},{"$error":"#REF!"},{"$error":"#REF!"},{"$f":"#REF!","v":{"$error":"#REF!"}},{"$f":"#REF!","v":{"$error":"#REF!"}},{"$f":"#REF!","v":{"$error":"#REF!"}},{"$f":"W72*$G$72","v":0},null,{"$f":"(W72*$F$72)*#REF!","v":{"$error":"#REF!"}},{"$error":"#REF!"},{"$error":"#REF!"},{"$error":"#REF!"},{"$f":"#REF!","v":{"$error":"#REF!"}},{"$f":"#REF!","v":{"$error":"#REF!"}},{"$f":"#REF!","v":{"$error":"#REF!"}},{"$f":"AF72*$G$72","v":0},null,null,{"$error":"#REF!"},{"$error":"#REF!"},{"$error":"#REF!"},{"$f":"#REF!","v":{"$error":"#REF!"}},{"$f":"AM72*$G$72","v":0},null,{"$f":"(AM72*$F$72)*#REF!","v":{"$error":"#REF!"}},{"$error":"#REF!"},{"$f":"#REF!","v":{"$error":"#REF!"}},{"$f":"#REF!","v":{"$error":"#REF!"}},{"$f":"#REF!","v":{"$error":"#REF!"}},{"$f":"AT72*$G$72","v":0},null,{"$f":"(AT72*$F$72)*#REF!","v":{"$error":"#REF!"}},{"$error":"#REF!"},{"$error":"#REF!"},{"$error":"#REF!"}]
[null,null,null,266,596,2,0.31707200000000002,{"$f":"G73*K72","v":0},null,null,null,{"$f":"(K73*$F$13)*#REF!","v":{"$error":"#REF!"}},{"$f":"#REF!","v":{"$error":"#REF!"}},{"$f":"#REF!","v":{"$error":"#REF!"}},{"$f":"#REF!","v":{"$error":"#REF!"}},{"$error":"#REF!"},{"$error":"#REF!"},{"$error":"#REF!"},{"$f":"#REF!","v":{"$error":"#REF!"}},{"$f":"#REF!","v":{"$error":"#REF!"}},{"$f":"#REF!","v":{"$error":"#REF!"}},{"$f":"W72*$G$73","v":0},null,{"$f":"(W72*$F$73)*#REF!","v":{"$error":"#REF!"}},{"$error":"#REF!"},{"$error":"#REF!"},{"$error":"#REF!"},{"$f":"#REF!","v":{"$error":"#REF!"}},{"$f":"#REF!","v":{"$error":"#REF!"}},{"$f":"#REF!","v":{"$error":"#REF!"}},{"$f":"AF72*$G$73","v":0},null,null,{"$error":"#REF!"},{"$error":"#REF!"},{"$error":"#REF!"},{"$f":"#REF!","v":{"$error":"#REF!"}},{"$f":"AM72*$G$73","v":0},null,{"$f":"(AM72*$F$73)*#REF!","v":{"$error":"#REF!"}},{"$error":"#REF!"},{"$f":"#REF!","v":{"$error":"#REF!"}},{"$f":"#REF!","v":{"$error":"#REF!"}},{"$f":"#REF!","v":{"$error":"#REF!"}},{"$f":"AT72*$G$73","v":0},null,{"$f":"(AT72*$F$73)*#REF!","v":{"$error":"#REF!"}},{"$error":"#REF!"},{"$error":"#REF!"},{"$error":"#REF!"}]
[null,null,"Корпус кухонний секція нижня 80Н/820 2дв",715,396,2,0.56628000000000001,{"$f":"G74*K74","v":0},null,null,null,{"$f":"(K74*$F$13)*#REF!","v":{"$error":"#REF!"}},{"$f":"#REF!","v":{"$error":"#REF!"}},{"$f":"#REF!","v":{"$error":"#REF!"}},{"$f":"#REF!","v":{"$error":"#REF!"}},{"$error":"#REF!"},{"$error":"#REF!"},{"$error":"#REF!"},{"$f":"#REF!","v":{"$error":"#REF!"}},{"$f":"#REF!","v":{"$error":"#REF!"}},{"$f":"#REF!","v":{"$error":"#REF!"}},{"$f":"W74*$G$74","v":0},null,{"$f":"(W74*$F$74)*#REF!","v":{"$error":"#REF!"}},{"$error":"#REF!"},{"$error":"#REF!"},{"$error":"#REF!"},{"$f":"#REF!","v":{"$error":"#REF!"}},{"$f":"#REF!","v":{"$error":"#REF!"}},{"$f":"#REF!","v":{"$error":"#REF!"}},{"$f":"AF74*$G$74","v":0},null,null,{"$error":"#REF!"},{"$error":"#REF!"},{"$error":"#REF!"},{"$f":"#REF!","v":{"$error":"#REF!"}},{"$f":"AM74*$G$74","v":0},null,{"$f":"(AM74*$F$74)*#REF!","v":{"$error":"#REF!"}},{"$error":"#REF!"},{"$f":"#REF!","v":{"$error":"#REF!"}},{"$f":"#REF!","v":{"$error":"#REF!"}},{"$f":"#REF!","v":{"$error":"#REF!"}},{"$f":"AT74*$G$74","v":0},null,{"$f":"(AT74*$F$74)*#REF!","v":{"$error":"#REF!"}},{"$error":"#REF!"},{"$error":"#REF!"},{"$error":"#REF!"}]
[null,null,"Корпус кухонний секція нижня 80НМ/820 2дв Мийка",715,396,2,0.56628000000000001,{"$f":"G75*K75","v":0},null,null,null,{"$f":"(K75*$F$13)*#REF!","v":{"$error":"#REF!"}},{"$f":"#REF!","v":{"$error":"#REF!"}},{"$f":"#REF!","v":{"$error":"#REF!"}},{"$f":"#REF!","v":{"$error":"#REF!"}},{"$error":"#REF!"},{"$error":"#REF!"},{"$error":"#REF!"},{"$f":"#REF!","v":{"$error":"#REF!"}},{"$f":"#REF!","v":{"$error":"#REF!"}},{"$f":"#REF!","v":{"$error":"#REF!"}},{"$f":"W75*$G$75","v":0},null,{"$f":"(W75*$F$75)*#REF!","v":{"$error":"#REF!"}},{"$error":"#REF!"},{"$error":"#REF!"},{"$error":"#REF!"},{"$f":"#REF!","v":{"$error":"#REF!"}},{"$f":"#REF!","v":{"$error":"#REF!"}},{"$f":"#REF!","v":{"$error":"#REF!"}},{"$f":"AF75*$G$75","v":0},null,null,{"$error":"#REF!"},{"$error":"#REF!"},{"$error":"#REF!"},{"$f":"#REF!","v":{"$error":"#REF!"}},{"$f":"AM75*$G$75","v":0},null,{"$f":"(AM75*$F$75)*#REF!","v":{"$error":"#REF!"}},{"$error":"#REF!"},{"$f":"#REF!","v":{"$error":"#REF!"}},{"$f":"#REF!","v":{"$error":"#REF!"}},{"$f":"#REF!","v":{"$error":"#REF!"}},{"$f":"AT75*$G$75","v":0},null,{"$f":"(AT75*$F$75)*#REF!","v":{"$error":"#REF!"}},{"$error":"#REF!"},{"$error":"#REF!"},{"$error":"#REF!"}]
[null,null,"Корпус кухонний секція нижня 80Н2ШХ/820 Телескоп",356,796,2,0.56675200000000003,{"$f":"G76*K76","v":0},null,null,null,{"$f":"(K76*$F$13)*#REF!","v":{"$error":"#REF!"}},{"$f":"#REF!","v":{"$error":"#REF!"}},{"$f":"#REF!","v":{"$error":"#REF!"}},{"$f":"#REF!","v":{"$error":"#REF!"}},{"$error":"#REF!"},{"$error":"#REF!"},{"$error":"#REF!"},{"$f":"#REF!","v":{"$error":"#REF!"}},{"$f":"#REF!","v":{"$error":"#REF!"}},{"$f":"#REF!","v":{"$error":"#REF!"}},{"$f":"W76*$G$76","v":0},null,{"$f":"(W76*$F$76)*#REF!","v":{"$error":"#REF!"}},{"$error":"#REF!"},{"$error":"#REF!"},{"$error":"#REF!"},{"$f":"#REF!","v":{"$error":"#REF!"}},{"$f":"#REF!","v":{"$error":"#REF!"}},{"$f":"#REF!","v":{"$error":"#REF!"}},{"$f":"AF76*$G$76","v":0},null,null,{"$error":"#REF!"},{"$error":"#REF!"},{"$error":"#REF!"},{"$f":"#REF!","v":{"$error":"#REF!"}},{"$f":"AM76*$G$76","v":0},null,{"$f":"(AM76*$F$76)*#REF!","v":{"$error":"#REF!"}},{"$error":"#REF!"},{"$f":"#REF!","v":{"$error":"#REF!"}},{"$f":"#REF!","v":{"$error":"#REF!"}},{"$f":"#REF!","v":{"$error":"#REF!"}},{"$f":"AT76*$G$76","v":0},null,{"$f":"(AT76*$F$76)*#REF!","v":{"$error":"#REF!"}},{"$error":"#REF!"},{"$error":"#REF!"},{"$error":"#REF!"}]
[null,null,"Корпус кухонний секція нижня 80Н3ШХ/820 Телескоп",176,796,1]
[null,null,null,266,796,2]
[null,null,"Корпус кухонний секцiя нижня КутН 90°/820 1дв",715,396,1,0.28314,{"$f":"G79*K79","v":0},null,null,null,{"$f":"(K79*$F$13)*#REF!","v":{"$error":"#REF!"}},{"$f":"#REF!","v":{"$error":"#REF!"}},{"$f":"#REF!","v":{"$error":"#REF!"}},{"$f":"#REF!","v":{"$error":"#REF!"}},{"$f":"M79*H79","v":{"$error":"#REF!"}},{"$f":"N79*H79","v":{"$error":"#REF!"}},{"$f":"O79*H79","v":{"$error":"#REF!"}},{"$f":"#REF!","v":{"$error":"#REF!"}},{"$f":"#REF!","v":{"$error":"#REF!"}},{"$f":"#REF!","v":{"$error":"#REF!"}},{"$f":"W79*$G$79","v":0},null,{"$f":"(W79*$F$79)*#REF!","v":{"$error":"#REF!"}},{"$error":"#REF!"},{"$error":"#REF!"},{"$error":"#REF!"},{"$f":"#REF!","v":{"$error":"#REF!"}},{"$f":"#REF!","v":{"$error":"#REF!"}},{"$f":"#REF!","v":{"$error":"#REF!"}},{"$f":"AF79*$G$79","v":0},null,null,{"$error":"#REF!"},{"$error":"#REF!"},{"$error":"#REF!"},{"$f":"#REF!","v":{"$error":"#REF!"}},{"$f":"AM79*$G$79","v":0},null,{"$f":"(AM79*$F$79)*#REF!","v":{"$error":"#REF!"}},{"$error":"#REF!"},{"$f":"#REF!","v":{"$error":"#REF!"}},{"$f":"#REF!","v":{"$error":"#REF!"}},{"$f":"#REF!","v":{"$error":"#REF!"}},{"$f":"AT79*$G$79","v":0},null,{"$f":"(AT79*$F$79)*#REF!","v":{"$error":"#REF!"}},{"$error":"#REF!"},{"$error":"#REF!"},{"$error":"#REF!"}]
[null,null,null,715,72,1,5.1479999999999998E-2,{"$f":"G80*K79","v":0},null,null,null,{"$f":"(K80*$F$13)*#REF!","v":{"$error":"#REF!"}},{"$f":"#REF!","v":{"$error":"#REF!"}},{"$f":"#REF!","v":{"$error":"#REF!"}},{"$f":"#REF!","v":{"$error":"#REF!"}},{"$error":"#REF!"},{"$error":"#REF!"},{"$error":"#REF!"},{"$f":"#REF!","v":{"$error":"#REF!"}},{"$f":"#REF!","v":{"$error":"#REF!"}},{"$f":"#REF!","v":{"$error":"#REF!"}},{"$f":"W79*$G$80","v":0},null,{"$f":"(W80*$F$80)*#REF!","v":{"$error":"#REF!"}},{"$error":"#REF!"},{"$error":"#REF!"},{"$error":"#REF!"},{"$f":"#REF!","v":{"$error":"#REF!"}},{"$f":"#REF!","v":{"$error":"#REF!"}},{"$f":"#REF!","v":{"$error":"#REF!"}},{"$f":"AF79*$G$80","v":0},null,null,{"$error":"#REF!"},{"$error":"#REF!"},{"$error":"#REF!"},{"$f":"#REF!","v":{"$error":"#REF!"}},{"$f":"AM79*$G$80","v":0},null,{"$f":"(AM80*$F$80)*#REF!","v":{"$error":"#REF!"}},{"$error":"#REF!"},{"$f":"#REF!","v":{"$error":"#REF!"}},{"$f":"#REF!","v":{"$error":"#REF!"}},{"$f":"#REF!","v":{"$error":"#REF!"}},{"$f":"AT79*$G$80","v":0},null,{"$f":"(AT80*$F$80)*#REF!","v":{"$error":"#REF!"}},{"$error":"#REF!"},{"$error":"#REF!"},{"$error":"#REF!"}]
[null,null,null,715,235,1,0.16802500000000001,{"$f":"G81*K79","v":0},null,null,null,{"$f":"(K81*$F$13)*#REF!","v":{"$error":"#REF!"}},{"$f":"#REF!","v":{"$error":"#REF!"}},{"$f":"#REF!","v":{"$error":"#REF!"}},{"$f":"#REF!","v":{"$error":"#REF!"}},{"$error":"#REF!"},{"$error":"#REF!"},{"$error":"#REF!"},{"$f":"#REF!","v":{"$error":"#REF!"}},{"$f":"#REF!","v":{"$error":"#REF!"}},{"$f":"#REF!","v":{"$error":"#REF!"}},{"$f":"W79*$G$81","v":0},null,{"$f":"(W81*$F$81)*#REF!","v":{"$error":"#REF!"}},{"$error":"#REF!"},{"$error":"#REF!"},{"$error":"#REF!"},{"$f":"#REF!","v":{"$error":"#REF!"}},{"$f":"#REF!","v":{"$error":"#REF!"}},{"$f":"#REF!","v":{"$error":"#REF!"}},{"$f":"AF79*$G$81","v":0},null,null,{"$error":"#REF!"},{"$error":"#REF!"},{"$error":"#REF!"},{"$f":"#REF!","v":{"$error":"#REF!"}},{"$f":"AM79*$G$81","v":0},null,{"$f":"(AM81*$F$81)*#REF!","v":{"$error":"#REF!"}},{"$error":"#REF!"},{"$f":"#REF!","v":{"$error":"#REF!"}},{"$f":"#REF!","v":{"$error":"#REF!"}},{"$f":"#REF!","v":{"$error":"#REF!"}},{"$f":"AT79*$G$81","v":0},null,{"$f":"(AT81*$F$81)*#REF!","v":{"$error":"#REF!"}},{"$error":"#REF!"},{"$error":"#REF!"},{"$error":"#REF!"}]
[null,null,"Корпус кухонний секцiя нижня КутН 90°/820 Обманка",715,90,1,6.4350000000000004E-2,{"$f":"G82*K80","v":0},null,null,null,null,{"$f":"#REF!","v":{"$error":"#REF!"}},{"$f":"#REF!","v":{"$error":"#REF!"}},{"$f":"#REF!","v":{"$error":"#REF!"}},{"$error":"#REF!"},{"$error":"#REF!"},{"$error":"#REF!"}]
[null,null,null,715,72,1,5.1479999999999998E-2,{"$f":"G83*K81","v":0},null,null,null,null,{"$f":"#REF!","v":{"$error":"#REF!"}},{"$f":"#REF!","v":{"$error":"#REF!"}},{"$f":"#REF!","v":{"$error":"#REF!"}},{"$error":"#REF!"},{"$error":"#REF!"},{"$error":"#REF!"}]
[null,null,"Корпус кухонний секцiя нижня КутН 90°/820 2дв",715,478,1,0.34177000000000002,{"$f":"G84*K82","v":0},null,null,null,{"$f":"(K84*$F$13)*#REF!","v":{"$error":"#REF!"}},{"$f":"#REF!","v":{"$error":"#REF!"}},{"$f":"#REF!","v":{"$error":"#REF!"}},{"$f":"#REF!","v":{"$error":"#REF!"}},{"$error":"#REF!"},{"$error":"#REF!"},{"$error":"#REF!"}]
[null,null,null,715,468,1,0.33461999999999997,{"$f":"G85*K83","v":0},null,null,null,{"$f":"(K85*$F$13)*#REF!","v":{"$error":"#REF!"}},{"$f":"#REF!","v":{"$error":"#REF!"}},{"$f":"#REF!","v":{"$error":"#REF!"}},{"$f":"#REF!","v":{"$error":"#REF!"}},{"$error":"#REF!"},{"$error":"#REF!"},{"$error":"#REF!"}]
[null,null,"Корпус кухонний секцiя нижня 30НЗР/820 1дв Закінчення Радіусне",715,464,1,0.33176,{"$f":"G86*K86","v":0},null,null,null,{"$f":"(K86*$F$13)*#REF!","v":{"$error":"#REF!"}},{"$f":"#REF!","v":{"$error":"#REF!"}},{"$f":"#REF!","v":{"$error":"#REF!"}},{"$f":"#REF!","v":{"$error":"#REF!"}},{"$f":"M86*K86","v":{"$error":"#REF!"}},{"$f":"N86*K86","v":{"$error":"#REF!"}},{"$f":"O86*K86","v":{"$error":"#REF!"}},{"$f":"#REF!","v":{"$error":"#REF!"}},{"$f":"#REF!","v":{"$error":"#REF!"}},{"$f":"#REF!","v":{"$error":"#REF!"}},{"$f":"W86*$G$86","v":0},null,{"$f":"(W86*$F$86)*#REF!","v":{"$error":"#REF!"}},{"$f":"S86*W86","v":{"$error":"#REF!"}},{"$f":"T86*W86","v":{"$error":"#REF!"}},{"$f":"U86*W86","v":{"$error":"#REF!"}},{"$f":"#REF!","v":{"$error":"#REF!"}},{"$f":"#REF!","v":{"$error":"#REF!"}},{"$f":"#REF!","v":{"$error":"#REF!"}},{"$f":"AF86*$G$86","v":0},null,null,{"$f":"AB86*AF86","v":{"$error":"#REF!"}},{"$f":"AC86*AF86","v":{"$error":"#REF!"}},{"$f":"AD86*AF86","v":{"$error":"#REF!"}},{"$f":"#REF!","v":{"$error":"#REF!"}},{"$f":"AM86*$G$86","v":0},null,{"$f":"(AM86*$F$86)*#REF!","v":{"$error":"#REF!"}},{"$error":"#REF!"},{"$f":"#REF!","v":{"$error":"#REF!"}},{"$f":"#REF!","v":{"$error":"#REF!"}},{"$f":"#REF!","v":{"$error":"#REF!"}},{"$f":"AT86*$G$86","v":0},null,{"$f":"(AT86*$F$86)*#REF!","v":{"$error":"#REF!"}},{"$f":"AP86*AT86","v":{"$error":"#REF!"}},{"$f":"AQ86*AT86","v":{"$error":"#REF!"}},{"$f":"AR86*AT86","v":{"$error":"#REF!"}}]
[null,null,null,715,230,1,0.16445000000000001,{"$f":"G87*K86","v":0},null,null,null,{"$f":"(K87*$F$13)*#REF!","v":{"$error":"#REF!"}},{"$f":"#REF!","v":{"$error":"#REF!"}},{"$f":"#REF!","v":{"$error":"#REF!"}},{"$f":"#REF!","v":{"$error":"#REF!"}},{"$f":"M87*H87","v":{"$error":"#REF!"}},{"$f":"N87*H87","v":{"$error":"#REF!"}},{"$f":"O87*H87","v":{"$error":"#REF!"}},{"$f":"#REF!","v":{"$error":"#REF!"}},{"$f":"#REF!","v":{"$error":"#REF!"}},{"$f":"#REF!","v":{"$error":"#REF!"}},{"$f":"W86*$G$87","v":0},null,{"$f":"(W87*$F$87)*#REF!","v":{"$error":"#REF!"}},{"$f":"V87*S87","v":{"$error":"#REF!"}},{"$f":"V87*T87","v":{"$error":"#REF!"}},{"$f":"V87*U87","v":{"$error":"#REF!"}},{"$f":"#REF!","v":{"$error":"#REF!"}},{"$f":"#REF!","v":{"$error":"#REF!"}},{"$f":"#REF!","v":{"$error":"#REF!"}},{"$f":"AF86*$G$87","v":0},null,null,{"$error":"#REF!"},{"$error":"#REF!"},{"$error":"#REF!"},{"$f":"#REF!","v":{"$error":"#REF!"}},{"$f":"AM86*$G$87","v":0},null,{"$f":"(AM87*$F$87)*#REF!","v":{"$error":"#REF!"}},{"$error":"#REF!"},{"$f":"#REF!","v":{"$error":"#REF!"}},{"$f":"#REF!","v":{"$error":"#REF!"}},{"$f":"#REF!","v":{"$error":"#REF!"}},{"$f":"AT86*$G$87","v":0},null,{"$f":"(AT87*$F$87)*#REF!","v":{"$error":"#REF!"}},{"$f":"AP87*AS87","v":{"$error":"#REF!"}},{"$f":"AQ87*AS87","v":{"$error":"#REF!"}},{"$f":"AR87*AS87","v":{"$error":"#REF!"}}]
[null,"Пенали","Корпус кухонний секція пенал 40П/2140",1316,396,1,0.52113600000000004,0,null,null,null,{"$f":"(K88*$F$13)*#REF!","v":{"$error":"#REF!"}},1873,{"$f":"#REF!","v":{"$error":"#REF!"}},{"$f":"#REF!","v":{"$error":"#REF!"}},0,{"$error":"#REF!"},{"$error":"#REF!"}]
[null,null,null,715,396,1,0.28314,0,null,null,null,{"$f":"(K89*$F$13)*#REF!","v":{"$error":"#REF!"}},1873,{"$f":"#REF!","v":{"$error":"#REF!"}},{"$f":"#REF!","v":{"$error":"#REF!"}},0,{"$error":"#REF!"},{"$error":"#REF!"}]
[null,null,"Корпус кухонний секція пенал 60П/1420",1316,596,1,0.78433600000000003,0,null,null,null,{"$f":"(K90*$F$13)*#REF!","v":{"$error":"#REF!"}},1873,{"$f":"#REF!","v":{"$error":"#REF!"}},{"$f":"#REF!","v":{"$error":"#REF!"}},0,{"$error":"#REF!"},{"$error":"#REF!"}]
[null,null,"Корпус кухонний секція пенал 60П/2140",1316,596,1,{"$f":"(D91*E91)/1000000*F91","v":0.78433600000000003},0,null,null,null,{"$f":"(K91*$F$13)*#REF!","v":{"$error":"#REF!"}},1873,{"$f":"#REF!","v":{"$error":"#REF!"}},{"$f":"#REF!","v":{"$error":"#REF!"}},0,{"$error":"#REF!"},{"$error":"#REF!"}]
[null,null,null,715,596,1,0.42614000000000002,0,null,null,null,{"$f":"(K92*$F$13)*#REF!","v":{"$error":"#REF!"}},1873,{"$f":"#REF!","v":{"$error":"#REF!"}},{"$f":"#REF!","v":{"$error":"#REF!"}},0,{"$error":"#REF!"},{"$error":"#REF!"}]
[null,null,"Корпус кухонний секція пенал 60П/2320",1496,596,1,0.89161599999999996,0,null,null,null,{"$f":"(K93*$F$13)*#REF!","v":{"$error":"#REF!"}},1873,{"$f":"#REF!","v":{"$error":"#REF!"}},{"$f":"#REF!","v":{"$error":"#REF!"}},0,{"$error":"#REF!"},{"$error":"#REF!"}]
[null,null,null,715,596,1,0.42614000000000002,0,null,null,null,{"$f":"(K94*$F$13)*#REF!","v":{"$error":"#REF!"}},1873,{"$f":"#REF!","v":{"$error":"#REF!"}},{"$f":"#REF!","v":{"$error":"#REF!"}},0,{"$error":"#REF!"},{"$error":"#REF!"}]
[null,null,"Корпус кухонний секція пенал 60ПД/1420 Духовка",715,596,1,0.42614000000000002,0,null,null,null,{"$f":"(K95*$F$13)*#REF!","v":{"$error":"#REF!"}},1873,{"$f":"#REF!","v":{"$error":"#REF!"}},{"$f":"#REF!","v":{"$error":"#REF!"}},0,{"$error":"#REF!"},{"$error":"#REF!"}]
[null,null,"Корпус кухонний секція пенал 60ПД/2140 Духовка",715,596,2,0.85228000000000004]
[null,null,"Корпус кухонний секція пенал 60ПД/2320 Духовка",895,596,1,0.53342000000000001,{"$f":"G97*K95","v":0},null,null,null,{"$f":"(K97*$F$13)*#REF!","v":{"$error":"#REF!"}},1873,{"$f":"#REF!","v":{"$error":"#REF!"}},{"$f":"#REF!","v":{"$error":"#REF!"}},0,{"$error":"#REF!"},{"$error":"#REF!"}]
[null,null,null,715,596,1,0.42614000000000002,0,null,null,null,{"$f":"(K98*$F$13)*#REF!","v":{"$error":"#REF!"}},1873,{"$f":"#REF!","v":{"$error":"#REF!"}},{"$f":"#REF!","v":{"$error":"#REF!"}},0,{"$error":"#REF!"},{"$error":"#REF!"}]
[null,null,"Корпус кухонний секція пенал 60ПДМ1ШХ/2140 Духовка+Мікрохвильовка Телескоп",715,596,1,0.42614000000000002,0,null,null,null,{"$f":"(K99*$F$13)*#REF!","v":{"$error":"#REF!"}},1873,{"$f":"#REF!","v":{"$error":"#REF!"}},{"$f":"#REF!","v":{"$error":"#REF!"}},0,{"$error":"#REF!"},{"$error":"#REF!"}]
[null,null,null,336,596,1,0.20025599999999999,0,null,null,null,{"$f":"(K100*$F$13)*#REF!","v":{"$error":"#REF!"}},1873,{"$f":"#REF!","v":{"$error":"#REF!"}},{"$f":"#REF!","v":{"$error":"#REF!"}},0,{"$error":"#REF!"},{"$error":"#REF!"}]
[null,null,"Корпус кухонний секція пенал 60ПДМ1ШХ/2320 Духовка+Мікрохвильовка Телескоп",895,596,1,0.53342000000000001,0,null,null,null,{"$f":"(K101*$F$13)*#REF!","v":{"$error":"#REF!"}},1873,{"$f":"#REF!","v":{"$error":"#REF!"}},{"$f":"#REF!","v":{"$error":"#REF!"}},0,{"$error":"#REF!"},{"$error":"#REF!"}]
[null,null,null,336,596,1,0.20025599999999999,0,null,null,null,{"$f":"(K102*$F$13)*#REF!","v":{"$error":"#REF!"}},1873,{"$f":"#REF!","v":{"$error":"#REF!"}},{"$f":"#REF!","v":{"$error":"#REF!"}},0,{"$error":"#REF!"},{"$error":"#REF!"}]
[null,null,"Корпус кухонний секція пенал 60ПЗ/2140 для Запасів",715,596,1,0.42614000000000002,0,null,null,null,{"$f":"(K103*$F$13)*#REF!","v":{"$error":"#REF!"}},1873,{"$f":"#REF!","v":{"$error":"#REF!"}},{"$f":"#REF!","v":{"$error":"#REF!"}},0,{"$error":"#REF!"},{"$error":"#REF!"}]
[null,null,null,1316,596,1,0.78433600000000003,0,null,null,null,{"$f":"(K104*$F$13)*#REF!","v":{"$error":"#REF!"}},1873,{"$f":"#REF!","v":{"$error":"#REF!"}},{"$f":"#REF!","v":{"$error":"#REF!"}},0,{"$error":"#REF!"},{"$error":"#REF!"}]
[null,null,"Корпус кухонний секція пенал 60ПХ/2140 Холодильник",1316,596,1,0.78433600000000003,0,null,null,null,{"$f":"(K105*$F$13)*#REF!","v":{"$error":"#REF!"}},1873,{"$f":"#REF!","v":{"$error":"#REF!"}},{"$f":"#REF!","v":{"$error":"#REF!"}},0,{"$error":"#REF!"},{"$error":"#REF!"}]
[null,null,null,715,596,1,0.42614000000000002,0,null,null,null,{"$f":"(K106*$F$13)*#REF!","v":{"$error":"#REF!"}},1873,{"$f":"#REF!","v":{"$error":"#REF!"}},{"$f":"#REF!","v":{"$error":"#REF!"}},0,{"$error":"#REF!"},{"$error":"#REF!"}]
[null,null,"Корпус кухонний секція пенал 60ПХ/2320 Холодильник",1496,596,1,0.89161599999999996,0,null,null,null,{"$f":"(K107*$F$13)*#REF!","v":{"$error":"#REF!"}},1873,{"$f":"#REF!","v":{"$error":"#REF!"}},{"$f":"#REF!","v":{"$error":"#REF!"}},0,{"$error":"#REF!"},{"$error":"#REF!"}]
[null,null,null,715,596,1,0.42614000000000002,0,null,null,null,{"$f":"(K108*$F$13)*#REF!","v":{"$error":"#REF!"}},1873,{"$f":"#REF!","v":{"$error":"#REF!"}},{"$f":"#REF!","v":{"$error":"#REF!"}},0,{"$error":"#REF!"},{"$error":"#REF!"}]
[null,"Інше","Фасад кухонний 45Н/720 Посудомийка",715,446,1,0.31889000000000001,{"$f":"G109*K109","v":0},null,null,null,{"$f":"(K109*$F$109)*#REF!","v":{"$error":"#REF!"}},{"$f":"#REF!","v":{"$error":"#REF!"}},{"$f":"#REF!","v":{"$error":"#REF!"}},{"$f":"#REF!","v":{"$error":"#REF!"}},{"$error":"#REF!"},{"$error":"#REF!"},{"$error":"#REF!"},{"$f":"#REF!","v":{"$error":"#REF!"}},{"$f":"#REF!","v":{"$error":"#REF!"}},{"$f":"#REF!","v":{"$error":"#REF!"}},{"$f":"W109*$G$109","v":0},null,{"$f":"(W109*$F$109)*#REF!","v":{"$error":"#REF!"}},{"$f":"S109*V109","v":{"$error":"#REF!"}},{"$f":"T109*V109","v":{"$error":"#REF!"}},{"$f":"U109*V109","v":{"$error":"#REF!"}},{"$f":"#REF!","v":{"$error":"#REF!"}},{"$f":"#REF!","v":{"$error":"#REF!"}},{"$f":"#REF!","v":{"$error":"#REF!"}},{"$f":"AF109*$G$109","v":0},null,null,{"$error":"#REF!"},{"$error":"#REF!"},{"$error":"#REF!"},{"$f":"#REF!","v":{"$error":"#REF!"}},{"$f":"AM109*$G$109","v":0},null,{"$f":"(AM109*$F$109)*#REF!","v":{"$error":"#REF!"}},{"$error":"#REF!"},{"$f":"#REF!","v":{"$error":"#REF!"}},{"$f":"#REF!","v":{"$error":"#REF!"}},{"$f":"#REF!","v":{"$error":"#REF!"}},{"$f":"AT109*$G$109","v":0},null,{"$f":"(AT109*$F$109)*#REF!","v":{"$error":"#REF!"}},{"$error":"#REF!"},{"$error":"#REF!"},{"$error":"#REF!"}]
[null,null,"Фасад кухонний 60Н/720 Посудомийка",715,596,1,0.42614000000000002,0,null,null,null,{"$f":"(K110*$F$110)*#REF!","v":{"$error":"#REF!"}},{"$f":"#REF!","v":{"$error":"#REF!"}},{"$f":"#REF!","v":{"$error":"#REF!"}},{"$f":"#REF!","v":{"$error":"#REF!"}},{"$error":"#REF!"},{"$error":"#REF!"},{"$error":"#REF!"},{"$f":"#REF!","v":{"$error":"#REF!"}},{"$f":"#REF!","v":{"$error":"#REF!"}},{"$f":"#REF!","v":{"$error":"#REF!"}},{"$f":"W110*$G$110","v":0},null,{"$f":"(W110*$F$110)*#REF!","v":{"$error":"#REF!"}},{"$error":"#REF!"},{"$error":"#REF!"},{"$error":"#REF!"},{"$f":"#REF!","v":{"$error":"#REF!"}},{"$f":"#REF!","v":{"$error":"#REF!"}},{"$f":"#REF!","v":{"$error":"#REF!"}},{"$f":"AF110*$G$110","v":0},null,null,{"$error":"#REF!"},{"$error":"#REF!"},{"$error":"#REF!"},{"$f":"#REF!","v":{"$error":"#REF!"}},{"$f":"AM110*$G$110","v":0},null,{"$f":"(AM110*$F$110)*#REF!","v":{"$error":"#REF!"}},{"$error":"#REF!"},{"$f":"#REF!","v":{"$error":"#REF!"}},{"$f":"#REF!","v":{"$error":"#REF!"}},{"$f":"#REF!","v":{"$error":"#REF!"}},{"$f":"AT110*$G$110","v":0},null,{"$f":"(AT110*$F$110)*#REF!","v":{"$error":"#REF!"}},{"$error":"#REF!"},{"$error":"#REF!"},{"$error":"#REF!"}]
[null,null,"Бічна панель верхня 720мм",720,350,1,0.252,0,null,null,null,null,1873,{"$f":"#REF!","v":{"$error":"#REF!"}},{"$f":"#REF!","v":{"$error":"#REF!"}},0,{"$error":"#REF!"},{"$error":"#REF!"}]
[null,null,"Бічна панель верхня 900мм",900,350,1,0.315,0,null,null,null,null,1873,{"$f":"#REF!","v":{"$error":"#REF!"}},{"$f":"#REF!","v":{"$error":"#REF!"}},0,{"$error":"#REF!"},{"$error":"#REF!"}]
[null,null,"Бічна панель нижня 820мм",820,580,1,0.47560000000000002,0,null,null,null,null,1873,{"$f":"#REF!","v":{"$error":"#REF!"}},{"$f":"#REF!","v":{"$error":"#REF!"}},0,{"$error":"#REF!"},{"$error":"#REF!"}]
[null,null,"Бічна панель пенал 1420мм",1420,580,1,0.8236,0,null,null,null,null,1873,{"$f":"#REF!","v":{"$error":"#REF!"}},{"$f":"#REF!","v":{"$error":"#REF!"}},0,{"$error":"#REF!"},{"$error":"#REF!"}]
[null,null,"Бічна панель пенал 2140мм",2140,580,1,1.2412000000000001,0,null,null,null,null,1873,{"$f":"#REF!","v":{"$error":"#REF!"}},{"$f":"#REF!","v":{"$error":"#REF!"}},0,{"$error":"#REF!"},{"$error":"#REF!"}]
[null,null,"Бічна панель пенал 2320мм",2320,580,1,1.3455999999999999,0,null,null,null,null,1873,{"$f":"#REF!","v":{"$error":"#REF!"}},{"$f":"#REF!","v":{"$error":"#REF!"}},0,{"$error":"#REF!"},{"$error":"#REF!"}]
[null,null,"Бічна панель верхня 720мм",720,580,1,0.41760000000000003,0,null,null,null,null,1873,{"$f":"#REF!","v":{"$error":"#REF!"}},{"$f":"#REF!","v":{"$error":"#REF!"}},0,{"$error":"#REF!"},{"$error":"#REF!"}]
[null,null,"Бічна панель верхня 900мм",900,580,1,0.52200000000000002,0,null,null,null,null,1873,{"$f":"#REF!","v":{"$error":"#REF!"}},{"$f":"#REF!","v":{"$error":"#REF!"}},0,{"$error":"#REF!"},{"$error":"#REF!"}]
[null,null,"Бічна панель нижня 820мм",820,580,1,0.47560000000000002,0,null,null,null,null,1873,{"$f":"#REF!","v":{"$error":"#REF!"}},{"$f":"#REF!","v":{"$error":"#REF!"}},0,{"$error":"#REF!"},{"$error":"#REF!"}]
[null,null,"Бічна панель пенал 1420мм",1420,580,1,0.8236,0,null,null,null,null,1873,{"$f":"#REF!","v":{"$error":"#REF!"}},{"$f":"#REF!","v":{"$error":"#REF!"}},0,{"$error":"#REF!"},{"$error":"#REF!"}]
[null,null,"Бічна панель пенал 2140мм",2140,580,1,1.2412000000000001,0,null,null,null,null,1873,{"$f":"#REF!","v":{"$error":"#REF!"}},{"$f":"#REF!","v":{"$error":"#REF!"}},0,{"$error":"#REF!"},{"$error":"#REF!"}]
[null,null,"Бічна панель пенал 2320мм",2320,580,1,1.3455999999999999,0,null,null,null,null,1873,{"$f":"#REF!","v":{"$error":"#REF!"}},{"$f":"#REF!","v":{"$error":"#REF!"}},0,{"$error":"#REF!"},{"$error":"#REF!"}]
[null,null,"Корпус кухонний секція верхня 5ВП/720 Пілястра",715,50,1,3.5749999999999997E-2,0,null,null,null,null,{"$f":"#REF!","v":{"$error":"#REF!"}},{"$f":"#REF!","v":{"$error":"#REF!"}},{"$f":"#REF!","v":{"$error":"#REF!"}},{"$error":"#REF!"},{"$error":"#REF!"},{"$error":"#REF!"}]
[null,null,"Корпус кухонний секція верхня 5ВП/900 Пілястра",895,50,1,4.4749999999999998E-2,0,null,null,null,null,{"$f":"#REF!","v":{"$error":"#REF!"}},{"$f":"#REF!","v":{"$error":"#REF!"}},{"$f":"#REF!","v":{"$error":"#REF!"}},{"$error":"#REF!"},{"$error":"#REF!"},{"$error":"#REF!"}]
[null,null,"Корпус кухонний секція нижня 5НП/820 Пілястра",715,50,1,3.5749999999999997E-2,0,null,null,null,null,{"$f":"#REF!","v":{"$error":"#REF!"}},{"$f":"#REF!","v":{"$error":"#REF!"}},{"$f":"#REF!","v":{"$error":"#REF!"}},{"$error":"#REF!"},{"$error":"#REF!"},{"$error":"#REF!"},{"$f":"#REF!","v":{"$error":"#REF!"}},{"$f":"#REF!","v":{"$error":"#REF!"}},{"$f":"#REF!","v":{"$error":"#REF!"}},{"$f":"W125*$G$125","v":0},null,null,{"$f":"S125*V125","v":{"$error":"#REF!"}},{"$f":"T125*V125","v":{"$error":"#REF!"}},{"$f":"U125*V125","v":{"$error":"#REF!"}},{"$f":"#REF!","v":{"$error":"#REF!"}},{"$f":"#REF!","v":{"$error":"#REF!"}},{"$f":"#REF!","v":{"$error":"#REF!"}},{"$f":"AF125*$G$125","v":0},null,null,{"$error":"#REF!"},{"$error":"#REF!"},{"$error":"#REF!"},{"$f":"#REF!","v":{"$error":"#REF!"}},{"$f":"AM125*$G$125","v":0},null,null,{"$error":"#REF!"},{"$f":"#REF!","v":{"$error":"#REF!"}},{"$f":"#REF!","v":{"$error":"#REF!"}},{"$f":"#REF!","v":{"$error":"#REF!"}},{"$f":"AT125*$G$125","v":0},null,null,{"$error":"#REF!"},{"$error":"#REF!"},{"$error":"#REF!"}]

{"sheet":"Фасади кухонних корпусів ПРО","index":6,"n_rows":118,"n_cols":55,"rows_kept":118,"cut":false,"hidden":false,"merged":[[106,1,117,1],[104,31,105,31],[104,32,105,32],[104,38,105,38],[104,39,105,39],[104,45,105,45],[104,46,105,46],[104,11,105,11],[104,16,105,16],[104,17,105,17],[104,18,105,18],[104,22,105,22],[104,23,105,23],[104,2,105,2],[104,7,105,7],[104,8,105,8],[104,9,105,9],[104,10,105,10],[87,1,105,1],[98,2,99,2],[98,7,99,7],[102,16,103,16],[102,17,103,17],[102,18,103,18],[102,22,103,22],[102,2,103,2],[102,7,103,7],[102,8,103,8],[102,9,103,9],[102,10,103,10],[102,11,103,11],[100,17,101,17],[100,18,101,18],[100,22,101,22],[100,23,101,23],[102,32,103,32],[102,38,103,38],[102,39,103,39],[102,45,103,45],[102,46,103,46],[102,23,103,23],[102,31,103,31],[98,32,99,32],[98,38,99,38],[98,39,99,39],[98,45,99,45],[98,46,99,46],[100,2,101,2],[100,7,101,7],[100,8,101,8],[100,9,101,9],[100,10,101,10],[98,16,99,16],[98,17,99,17],[98,18,99,18],[98,22,99,22],[98,23,99,23],[98,31,99,31],[100,31,101,31],[100,32,101,32],[100,38,101,38],[100,39,101,39],[100,45,101,45],[100,46,101,46],[100,11,101,11],[100,16,101,16],[98,8,99,8],[98,9,99,9],[98,10,99,10],[98,11,99,11],[96,17,97,17],[96,18,97,18],[96,22,97,22],[96,23,97,23],[96,31,97,31],[94,46,95,46],[96,2,97,2],[96,7,97,7],[96,8,97,8],[96,9,97,9],[96,10,97,10],[96,11,97,11],[96,16,97,16],[94,18,95,18],[94,22,95,22],[94,23,95,23],[94,31,95,31],[94,32,95,32],[94,38,95,38],[96,38,97,38],[96,39,97,39],[96,45,97,45],[96,46,97,46],[96,32,97,32],[94,39,95,39],[92,38,93,38],[92,39,93,39],[87,2,88,2],[87,9,88,9],[87,11,88,11],[87,23,88,23],[87,32,88,32],[87,39,88,39],[94,45,95,45],[94,2,95,2],[94,7,95,7],[94,8,95,8],[94,9,95,9],[94,10,95,10],[94,11,95,11],[94,16,95,16],[94,17,95,17],[87,46,88,46],[92,2,93,2],[92,7,93,7],[92,8,93,8],[92,9,93,9],[92,10,93,10],[92,11,93,11],[92,16,93,16],[92,17,93,17],[92,18,93,18],[92,45,93,45],[92,46,93,46],[92,22,93,22],[92,23,93,23],[92,31,93,31],[92,32,93,32],[82,2,83,2],[82,9,83,9],[82,11,83,11],[82,23,83,23],[82,32,83,32],[82,39,83,39],[82,46,83,46],[84,32,86,32],[84,39,86,39],[84,46,86,46],[84,2,86,2],[84,8,86,8],[84,9,86,9],[84,10,86,10],[84,11,86,11],[84,23,86,23],[77,38,78,38],[77,39,78,39],[77,45,78,45],[77,46,78,46],[80,2,81,2],[80,9,81,9],[80,11,81,11],[80,23,81,23],[80,32,81,32],[77,16,78,16],[77,17,78,17],[77,18,78,18],[77,22,78,22],[77,23,78,23],[77,31,78,31],[80,39,81,39],[80,46,81,46],[77,10,78,10],[77,11,78,11],[77,32,78,32],[72,17,73,17],[72,18,73,18],[72,22,73,22],[72,23,73,23],[72,31,73,31],[72,32,73,32],[72,7,73,7],[72,8,73,8],[72,9,73,9],[72,10,73,10],[72,11,73,11],[72,16,73,16],[57,46,58,46],[59,1,86,1],[63,2,64,2],[63,9,64,9],[63,11,64,11],[63,23,64,23],[63,32,64,32],[63,39,64,39],[63,46,64,46],[72,2,73,2],[57,2,58,2],[57,9,58,9],[57,11,58,11],[57,23,58,23],[57,32,58,32],[57,39,58,39],[72,38,73,38],[72,39,73,39],[72,45,73,45],[72,46,73,46],[77,2,78,2],[77,7,78,7],[77,8,78,8],[77,9,78,9],[55,46,56,46],[51,46,52,46],[53,2,54,2],[53,9,54,9],[53,11,54,11],[53,23,54,23],[53,32,54,32],[53,39,54,39],[53,46,54,46],[0,2,0,41],[2,1,58,1],[37,2,38,2],[37,9,38,9],[51,2,52,2],[51,9,52,9],[51,11,52,11],[51,23,52,23],[51,32,52,32],[55,2,56,2],[55,9,56,9],[55,11,56,11],[55,23,56,23],[55,32,56,32],[55,39,56,39]]}
[null,null,"Фасади кухонних корпусів ПРО"]
[null,null,"Номенклатура","Довжина/мм","Ширина/мм","К-сть на 1 комплект","Площа,м2","Площа замовлення","Корпус, Ціна за 1 комплект","Корпус                   К-сть секцій","Сума секцій корпуса"," Софія +                  К-сть секцій","Сверління під ручку","Софія + Ціна за м2 Напівмат","Софія + Ціна за м2 Глянець","Софія + Ціна за м2 Перламутр","Софія + Сума Напівмат","Софія + Сума Глянець","Софія + Сума Перламутр","Аманда   Ціна за м2 Напівмат","Аманда     Ціна за м2 Глянець","Аманда Ціна за м2 Перламутр","Площа замовлення","Аманда                  К-сть секцій","Сверління під ручку","Аманда  Сума Напівмат","Аманда    Сума Глянець","Аманда    Сума Перламутр","Міленіум + Ціна за м2 Напівмат","Міленіум + Ціна за м2 Глянець","Міленіум + Ціна за м2 Перламутр","Площа замовлення"," Міленіум+, Мілена, Адель, Емілія, Мельвін, Максі                       К-сть секцій","Сверління під ручку","Міленіум + Сума Напівмат","Міленіум + Сума Глянець","Міленіум + Сума Перламутр","Візель    Ціна за м2 Напівмат","Площа замовлення","Вінтаж+, Візель,    Вікі                         К-сть секцій","Сверління під ручку"," Візель  Сума Напівмат","Прованс    Ціна за м2 Напівмат","Прованс Ціна за м2 Глянець","Прованс Ціна за м2 Перламутр","Площа замовлення","Прованс, Валенсія +, Мішель, Доміні, Матільда, Вілсон            К-сть секцій","Сверління під ручку"," Прованс  Сума Напівмат","Прованс    Сума Глянець","Прованс    Сума Перламутр"]
[null,"Верхні секції","Корпус кухонний секцiя верхня 20В/720 1дв Pro Blum",715,196,1,{"$f":"(D3*E3)/1000000*F3","v":0.14013999999999999},{"$f":"G3*L3","v":0},900,null,{"$f":"(I3*1)*J3","v":0},null,{"$f":"(L3*$F$3)*#REF!","v":{"$error":"#REF!"}},{"$f":"#REF!","v":{"$error":"#REF!"}},{"$f":"#REF!","v":{"$error":"#REF!"}},{"$f":"#REF!","v":{"$error":"#REF!"}},{"$f":"N3*H3","v":{"$error":"#REF!"}},{"$f":"O3*H3","v":{"$error":"#REF!"}},{"$f":"P3*H3","v":{"$error":"#REF!"}},{"$f":"#REF!","v":{"$error":"#REF!"}},{"$f":"#REF!","v":{"$error":"#REF!"}},{"$f":"#REF!","v":{"$error":"#REF!"}},{"$f":"X3*$G$3","v":0},null,{"$f":"(X3*$F$3)*#REF!","v":{"$error":"#REF!"}},{"$f":"T3*W3","v":{"$error":"#REF!"}},{"$f":"U3*W3","v":{"$error":"#REF!"}},{"$f":"V3*W3","v":{"$error":"#REF!"}},{"$f":"#REF!","v":{"$error":"#REF!"}},{"$f":"#REF!","v":{"$error":"#REF!"}},{"$f":"#REF!","v":{"$error":"#REF!"}},{"$f":"AG3*$G$3","v":0},null,null,{"$f":"AC3*AF3","v":{"$error":"#REF!"}},{"$f":"AD3*AF3","v":{"$error":"#REF!"}},{"$f":"AE3*AF3","v":{"$error":"#REF!"}},{"$f":"#REF!","v":{"$error":"#REF!"}},{"$f":"AN3*$G$3","v":0},null,{"$f":"(AN3*$F$3)*#REF!","v":{"$error":"#REF!"}},{"$f":"AM3*AL3","v":{"$error":"#REF!"}},{"$f":"#REF!","v":{"$error":"#REF!"}},{"$f":"#REF!","v":{"$error":"#REF!"}},{"$f":"#REF!","v":{"$error":"#REF!"}},{"$f":"AU3*$G$3","v":0},null,{"$f":"(AU3*$F$3)*#REF!","v":{"$error":"#REF!"}},{"$f":"AQ3*AT3","v":{"$error":"#REF!"}},{"$f":"AR3*AT3","v":{"$error":"#REF!"}},{"$f":"AS3*AT3","v":{"$error":"#REF!"}}]
[null,null,"Корпус кухонний секцiя верхня 20В/900 1дв Pro Blum",895,196,1,{"$f":"(D4*E4)/1000000*F4","v":0.17541999999999999},0,988,null,{"$f":"(I4*1)*J4","v":0},null,{"$f":"(L4*$F$4)*#REF!","v":{"$error":"#REF!"}},{"$f":"#REF!","v":{"$error":"#REF!"}},{"$f":"#REF!","v":{"$error":"#REF!"}},{"$f":"#REF!","v":{"$error":"#REF!"}},{"$f":"N4*H4","v":{"$error":"#REF!"}},{"$f":"O4*H4","v":{"$error":"#REF!"}},{"$f":"P4*H4","v":{"$error":"#REF!"}},{"$f":"#REF!","v":{"$error":"#REF!"}},{"$f":"#REF!","v":{"$error":"#REF!"}},{"$f":"#REF!","v":{"$error":"#REF!"}},{"$f":"X4*$G$4","v":0},null,{"$f":"(X4*$F$4)*#REF!","v":{"$error":"#REF!"}},{"$f":"T4*W4","v":{"$error":"#REF!"}},{"$f":"U4*W4","v":{"$error":"#REF!"}},{"$f":"V4*W4","v":{"$error":"#REF!"}},{"$f":"#REF!","v":{"$error":"#REF!"}},{"$f":"#REF!","v":{"$error":"#REF!"}},{"$f":"#REF!","v":{"$error":"#REF!"}},{"$f":"AG4*$G$4","v":0},null,null,{"$f":"AC4*AF4","v":{"$error":"#REF!"}},{"$f":"AD4*AF4","v":{"$error":"#REF!"}},{"$f":"AE4*AF4","v":{"$error":"#REF!"}},{"$f":"#REF!","v":{"$error":"#REF!"}},{"$f":"AN4*$G$4","v":0},null,{"$f":"(AN4*$F$4)*#REF!","v":{"$error":"#REF!"}},{"$f":"AM4*AL4","v":{"$error":"#REF!"}},{"$f":"#REF!","v":{"$error":"#REF!"}},{"$f":"#REF!","v":{"$error":"#REF!"}},{"$f":"#REF!","v":{"$error":"#REF!"}},{"$f":"AU4*$G$4","v":0},null,{"$f":"(AU4*$F$4)*#REF!","v":{"$error":"#REF!"}},{"$f":"AQ4*AT4","v":{"$error":"#REF!"}},{"$f":"AR4*AT4","v":{"$error":"#REF!"}},{"$f":"AS4*AT4","v":{"$error":"#REF!"}},null,null,null,"Софія+"]
[null,null,"Корпус кухонний секцiя верхня 30В/720 1дв Pro Blum",715,296,1,0.21163999999999999,0,942,null,{"$f":"(I5*1)*J5","v":0},null,{"$f":"(L5*$F$5)*#REF!","v":{"$error":"#REF!"}},{"$f":"#REF!","v":{"$error":"#REF!"}},{"$f":"#REF!","v":{"$error":"#REF!"}},{"$f":"#REF!","v":{"$error":"#REF!"}},{"$f":"N5*H5","v":{"$error":"#REF!"}},{"$f":"O5*H5","v":{"$error":"#REF!"}},{"$f":"P5*H5","v":{"$error":"#REF!"}},{"$f":"#REF!","v":{"$error":"#REF!"}},{"$f":"#REF!","v":{"$error":"#REF!"}},{"$f":"#REF!","v":{"$error":"#REF!"}},{"$f":"X5*$G$5","v":0},null,{"$f":"(X5*$F$5)*#REF!","v":{"$error":"#REF!"}},{"$error":"#REF!"},{"$error":"#REF!"},{"$error":"#REF!"},{"$f":"#REF!","v":{"$error":"#REF!"}},{"$f":"#REF!","v":{"$error":"#REF!"}},{"$f":"#REF!","v":{"$error":"#REF!"}},{"$f":"AG5*$G$5","v":0},null,null,{"$error":"#REF!"},{"$error":"#REF!"},{"$error":"#REF!"},{"$f":"#REF!","v":{"$error":"#REF!"}},{"$f":"AN5*$G$5","v":0},null,{"$f":"(AN5*$F$5)*#REF!","v":{"$error":"#REF!"}},{"$error":"#REF!"},{"$f":"#REF!","v":{"$error":"#REF!"}},{"$f":"#REF!","v":{"$error":"#REF!"}},{"$f":"#REF!","v":{"$error":"#REF!"}},{"$f":"AU5*$G$5","v":0},null,{"$f":"(AU5*$F$5)*#REF!","v":{"$error":"#REF!"}},{"$f":"AQ5*AT5","v":{"$error":"#REF!"}},{"$f":"AR5*AT5","v":{"$error":"#REF!"}},{"$f":"AS5*AT5","v":{"$error":"#REF!"}},null,null,null,"Аманда"]
[null,null,"Корпус кухонний секцiя верхня 30В/900 1дв Pro Blum",895,296,1,0.26491999999999999,0,1030,null,{"$f":"(I6*1)*J6","v":0},null,{"$f":"(L6*$F$6)*#REF!","v":{"$error":"#REF!"}},{"$f":"#REF!","v":{"$error":"#REF!"}},{"$f":"#REF!","v":{"$error":"#REF!"}},{"$f":"#REF!","v":{"$error":"#REF!"}},{"$f":"N6*H6","v":{"$error":"#REF!"}},{"$f":"O6*H6","v":{"$error":"#REF!"}},{"$f":"P6*H6","v":{"$error":"#REF!"}},{"$f":"#REF!","v":{"$error":"#REF!"}},{"$f":"#REF!","v":{"$error":"#REF!"}},{"$f":"#REF!","v":{"$error":"#REF!"}},{"$f":"X6*$G$6","v":0},null,{"$f":"(X6*$F$6)*#REF!","v":{"$error":"#REF!"}},{"$error":"#REF!"},{"$error":"#REF!"},{"$error":"#REF!"},{"$f":"#REF!","v":{"$error":"#REF!"}},{"$f":"#REF!","v":{"$error":"#REF!"}},{"$f":"#REF!","v":{"$error":"#REF!"}},{"$f":"AG6*$G$5","v":0},null,null,{"$error":"#REF!"},{"$error":"#REF!"},{"$error":"#REF!"},{"$f":"#REF!","v":{"$error":"#REF!"}},{"$f":"AN6*$G$6","v":0},null,{"$f":"(AN6*$F$6)*#REF!","v":{"$error":"#REF!"}},{"$error":"#REF!"},{"$f":"#REF!","v":{"$error":"#REF!"}},{"$f":"#REF!","v":{"$error":"#REF!"}},{"$f":"#REF!","v":{"$error":"#REF!"}},{"$f":"AU6*$G$6","v":0},null,{"$f":"(AU6*$F$6)*#REF!","v":{"$error":"#REF!"}},{"$error":"#REF!"},{"$error":"#REF!"},{"$error":"#REF!"},null,null,null,"Міленіум+"]
[null,null,"Корпус кухонний секцiя верхня 40В/720 1дв Pro Blum",715,396,1,0.28314,0,1030,null,{"$f":"(I7*1)*J7","v":0},null,{"$f":"(L7*$F$7)*#REF!","v":{"$error":"#REF!"}},{"$f":"#REF!","v":{"$error":"#REF!"}},{"$f":"#REF!","v":{"$error":"#REF!"}},{"$f":"#REF!","v":{"$error":"#REF!"}},{"$f":"N7*H7","v":{"$error":"#REF!"}},{"$f":"O7*H7","v":{"$error":"#REF!"}},{"$f":"P7*H7","v":{"$error":"#REF!"}},{"$f":"#REF!","v":{"$error":"#REF!"}},{"$f":"#REF!","v":{"$error":"#REF!"}},{"$f":"#REF!","v":{"$error":"#REF!"}},{"$f":"X7*$G$7","v":0},null,{"$f":"(X7*$F$7)*#REF!","v":{"$error":"#REF!"}},{"$error":"#REF!"},{"$error":"#REF!"},{"$error":"#REF!"},{"$f":"#REF!","v":{"$error":"#REF!"}},{"$f":"#REF!","v":{"$error":"#REF!"}},{"$f":"#REF!","v":{"$error":"#REF!"}},{"$f":"AG7*$G$7","v":0},null,null,{"$error":"#REF!"},{"$error":"#REF!"},{"$error":"#REF!"},{"$f":"#REF!","v":{"$error":"#REF!"}},{"$f":"AN7*$G$7","v":0},null,{"$f":"(AN7*$F$7)*#REF!","v":{"$error":"#REF!"}},{"$error":"#REF!"},{"$f":"#REF!","v":{"$error":"#REF!"}},{"$f":"#REF!","v":{"$error":"#REF!"}},{"$f":"#REF!","v":{"$error":"#REF!"}},{"$f":"AU7*$G$7","v":0},null,{"$f":"(AU7*$F$7)*#REF!","v":{"$error":"#REF!"}},{"$error":"#REF!"},{"$error":"#REF!"},{"$error":"#REF!"},null,null,null,"Максі"]
[null,null,"Корпус кухонний секцiя верхня 40В/900 1дв Pro Blum",895,396,1,0.35442000000000001,0,1121,null,{"$f":"(I8*1)*J8","v":0},null,{"$f":"(L8*$F$8)*#REF!","v":{"$error":"#REF!"}},{"$f":"#REF!","v":{"$error":"#REF!"}},{"$f":"#REF!","v":{"$error":"#REF!"}},{"$f":"#REF!","v":{"$error":"#REF!"}},{"$error":"#REF!"},{"$error":"#REF!"},{"$error":"#REF!"},{"$f":"#REF!","v":{"$error":"#REF!"}},{"$f":"#REF!","v":{"$error":"#REF!"}},{"$f":"#REF!","v":{"$error":"#REF!"}},{"$f":"X8*$G$8","v":0},null,{"$f":"(X8*$F$8)*#REF!","v":{"$error":"#REF!"}},{"$error":"#REF!"},{"$error":"#REF!"},{"$error":"#REF!"},{"$f":"#REF!","v":{"$error":"#REF!"}},{"$f":"#REF!","v":{"$error":"#REF!"}},{"$f":"#REF!","v":{"$error":"#REF!"}},{"$f":"AG8*$G$8","v":0},null,null,{"$error":"#REF!"},{"$error":"#REF!"},{"$error":"#REF!"},{"$f":"#REF!","v":{"$error":"#REF!"}},{"$f":"AN8*$G$8","v":0},null,{"$f":"(AN8*$F$8)*#REF!","v":{"$error":"#REF!"}},{"$error":"#REF!"},{"$f":"#REF!","v":{"$error":"#REF!"}},{"$f":"#REF!","v":{"$error":"#REF!"}},{"$f":"#REF!","v":{"$error":"#REF!"}},{"$f":"AU8*$G$8","v":0},null,{"$f":"(AU8*$F$8)*#REF!","v":{"$error":"#REF!"}},{"$error":"#REF!"},{"$error":"#REF!"},{"$error":"#REF!"},null,null,null,"Вінтаж+"]
[null,null,"Корпус кухонний секцiя верхня 40В/360 1дв Aventos Pro Blum",356,396,1,0.14097599999999999,0]
[null,null,"Корпус кухонний секцiя верхня 40В/450 1дв Aventos Pro Blum",446,396,1,0.176616,0]
[null,null,"Корпус кухонний секцiя верхня 40В/900 1дв Вітрина Pro Blum",895,396,1,0.35442000000000001,0,1121,null,0,null,{"$f":"(L11*$F$11)*#REF!","v":{"$error":"#REF!"}},{"$f":"#REF!*1.5","v":{"$error":"#REF!"}},{"$f":"#REF!*1.5","v":{"$error":"#REF!"}},{"$f":"#REF!*1.5","v":{"$error":"#REF!"}},{"$error":"#REF!"},{"$error":"#REF!"},{"$error":"#REF!"},{"$f":"#REF!*1.5","v":{"$error":"#REF!"}},{"$f":"#REF!*1.5","v":{"$error":"#REF!"}},{"$f":"#REF!*1.5","v":{"$error":"#REF!"}},{"$f":"X11*$G$11","v":0},null,{"$f":"(X11*$F$11)*#REF!","v":{"$error":"#REF!"}},{"$error":"#REF!"},{"$error":"#REF!"},{"$error":"#REF!"},{"$f":"#REF!*1.5","v":{"$error":"#REF!"}},{"$f":"#REF!*1.5","v":{"$error":"#REF!"}},{"$f":"#REF!*1.5","v":{"$error":"#REF!"}},{"$f":"AG11*$G$11","v":0},null,null,{"$error":"#REF!"},{"$error":"#REF!"},{"$error":"#REF!"},{"$f":"#REF!*1.5","v":{"$error":"#REF!"}},{"$f":"AN11*$G$11","v":0},null,{"$f":"(AN11*$F$11)*#REF!","v":{"$error":"#REF!"}},{"$error":"#REF!"},{"$f":"#REF!*1.5","v":{"$error":"#REF!"}},{"$f":"#REF!*1.5","v":{"$error":"#REF!"}},{"$f":"#REF!*1.5","v":{"$error":"#REF!"}},{"$f":"AU11*$G$11","v":0},null,{"$f":"(AU11*$F$11)*#REF!","v":{"$error":"#REF!"}},{"$error":"#REF!"},{"$error":"#REF!"},{"$error":"#REF!"},null,null,null,"Вікі"]
[null,null,"Корпус кухонний секцiя верхня 40ВА/360 1дв Антресоль Газ Ліфт",356,396,1,0.14097599999999999,0,2056,null,0,null,{"$f":"(L12*$F$12)*#REF!","v":{"$error":"#REF!"}},{"$f":"#REF!","v":{"$error":"#REF!"}},{"$f":"#REF!","v":{"$error":"#REF!"}},{"$f":"#REF!","v":{"$error":"#REF!"}},{"$error":"#REF!"},{"$error":"#REF!"},{"$error":"#REF!"},{"$f":"#REF!","v":{"$error":"#REF!"}},{"$f":"#REF!","v":{"$error":"#REF!"}},{"$f":"#REF!","v":{"$error":"#REF!"}},{"$f":"X12*$G$12","v":0},null,{"$f":"(X12*$F$12)*#REF!","v":{"$error":"#REF!"}},{"$error":"#REF!"},{"$error":"#REF!"},{"$error":"#REF!"},{"$f":"#REF!","v":{"$error":"#REF!"}},{"$f":"#REF!","v":{"$error":"#REF!"}},{"$f":"#REF!","v":{"$error":"#REF!"}},{"$f":"AG12*$G$12","v":0},null,null,{"$error":"#REF!"},{"$error":"#REF!"},{"$error":"#REF!"},{"$f":"#REF!","v":{"$error":"#REF!"}},{"$f":"AN12*$G$12","v":0},null,{"$f":"(AN12*$F$12)*#REF!","v":{"$error":"#REF!"}},{"$error":"#REF!"},{"$f":"#REF!","v":{"$error":"#REF!"}},{"$f":"#REF!","v":{"$error":"#REF!"}},{"$f":"#REF!","v":{"$error":"#REF!"}},{"$f":"AU12*$G$12","v":0},null,{"$f":"(AU12*$F$12)*#REF!","v":{"$error":"#REF!"}},{"$error":"#REF!"},{"$error":"#REF!"},{"$error":"#REF!"},null,null,null,"Мішель"]
[null,null,"Корпус кухонний секцiя верхня 45В/360 1дв Aventos Pro Blum",356,446,1,0.158776,0]
[null,null,"Корпус кухонний секцiя верхня 45В/450 1дв Aventos Pro Blum",446,446,1,0.19891600000000001,0]
[null,null,"Корпус кухонний секцiя верхня 45В/720 1дв Pro Blum",715,446,1,0.31889000000000001,0,1030,null,0,null,{"$f":"(L15*$F$15)*#REF!","v":{"$error":"#REF!"}},{"$f":"#REF!","v":{"$error":"#REF!"}},{"$f":"#REF!","v":{"$error":"#REF!"}},{"$f":"#REF!","v":{"$error":"#REF!"}},{"$error":"#REF!"},{"$error":"#REF!"},{"$error":"#REF!"},{"$f":"#REF!","v":{"$error":"#REF!"}},{"$f":"#REF!","v":{"$error":"#REF!"}},{"$f":"#REF!","v":{"$error":"#REF!"}},{"$f":"X15*$G$15","v":0},null,{"$f":"(X15*$F$15)*#REF!","v":{"$error":"#REF!"}},{"$error":"#REF!"},{"$error":"#REF!"},{"$error":"#REF!"},{"$f":"#REF!","v":{"$error":"#REF!"}},{"$f":"#REF!","v":{"$error":"#REF!"}},{"$f":"#REF!","v":{"$error":"#REF!"}},{"$f":"AG15*$G$15","v":0},null,null,{"$error":"#REF!"},{"$error":"#REF!"},{"$error":"#REF!"},{"$f":"#REF!","v":{"$error":"#REF!"}},{"$f":"AN15*$G$15","v":0},null,{"$f":"(AN15*$F$15)*#REF!","v":{"$error":"#REF!"}},{"$error":"#REF!"},{"$f":"#REF!","v":{"$error":"#REF!"}},{"$f":"#REF!","v":{"$error":"#REF!"}},{"$f":"#REF!","v":{"$error":"#REF!"}},{"$f":"AU15*$G$15","v":0},null,{"$f":"(AU15*$F$15)*#REF!","v":{"$error":"#REF!"}},{"$error":"#REF!"},{"$error":"#REF!"},{"$error":"#REF!"},null,null,null,"Доміні"]
[null,null,"Корпус кухонний секцiя верхня 45В/900 1дв Pro Blum",895,446,1,0.39917000000000002,0,1131,null,0,null,{"$f":"(L16*$F$16)*#REF!","v":{"$error":"#REF!"}},{"$f":"#REF!","v":{"$error":"#REF!"}},{"$f":"#REF!","v":{"$error":"#REF!"}},{"$f":"#REF!","v":{"$error":"#REF!"}},{"$error":"#REF!"},{"$error":"#REF!"},{"$error":"#REF!"},{"$f":"#REF!","v":{"$error":"#REF!"}},{"$f":"#REF!","v":{"$error":"#REF!"}},{"$f":"#REF!","v":{"$error":"#REF!"}},{"$f":"X16*$G$16","v":0},null,{"$f":"(X16*$F$16)*#REF!","v":{"$error":"#REF!"}},{"$error":"#REF!"},{"$error":"#REF!"},{"$error":"#REF!"},{"$f":"#REF!","v":{"$error":"#REF!"}},{"$f":"#REF!","v":{"$error":"#REF!"}},{"$f":"#REF!","v":{"$error":"#REF!"}},{"$f":"AG16*$G$16","v":0},null,null,{"$error":"#REF!"},{"$error":"#REF!"},{"$error":"#REF!"},{"$f":"#REF!","v":{"$error":"#REF!"}},{"$f":"AN16*$G$16","v":0},null,{"$f":"(AN16*$F$16)*#REF!","v":{"$error":"#REF!"}},{"$error":"#REF!"},{"$f":"#REF!","v":{"$error":"#REF!"}},{"$f":"#REF!","v":{"$error":"#REF!"}},{"$f":"#REF!","v":{"$error":"#REF!"}},{"$f":"AU16*$G$16","v":0},null,{"$f":"(AU16*$F$16)*#REF!","v":{"$error":"#REF!"}},{"$error":"#REF!"},{"$error":"#REF!"},{"$error":"#REF!"},null,null,null,"Матільда "]
[null,null,"Корпус кухонний секцiя верхня 50В/360 1дв Aventos Pro Blum",356,496,1,0.17657600000000001,0,1968,null,0,null,{"$f":"(L17*$F$17)*#REF!","v":{"$error":"#REF!"}},{"$f":"#REF!","v":{"$error":"#REF!"}},{"$f":"#REF!","v":{"$error":"#REF!"}},{"$f":"#REF!","v":{"$error":"#REF!"}},{"$error":"#REF!"},{"$error":"#REF!"},{"$error":"#REF!"},{"$f":"#REF!","v":{"$error":"#REF!"}},{"$f":"#REF!","v":{"$error":"#REF!"}},{"$f":"#REF!","v":{"$error":"#REF!"}},{"$f":"X17*$G$17","v":0},null,{"$f":"(X17*$F$17)*#REF!","v":{"$error":"#REF!"}},{"$error":"#REF!"},{"$error":"#REF!"},{"$error":"#REF!"},{"$f":"#REF!","v":{"$error":"#REF!"}},{"$f":"#REF!","v":{"$error":"#REF!"}},{"$f":"#REF!","v":{"$error":"#REF!"}},{"$f":"AG17*$G$17","v":0},null,null,{"$error":"#REF!"},{"$error":"#REF!"},{"$error":"#REF!"},{"$f":"#REF!","v":{"$error":"#REF!"}},{"$f":"AN17*$G$17","v":0},null,{"$f":"(AN17*$F$17)*#REF!","v":{"$error":"#REF!"}},{"$error":"#REF!"},{"$f":"#REF!","v":{"$error":"#REF!"}},{"$f":"#REF!","v":{"$error":"#REF!"}},{"$f":"#REF!","v":{"$error":"#REF!"}},{"$f":"AU17*$G$17","v":0},null,{"$f":"(AU17*$F$17)*#REF!","v":{"$error":"#REF!"}},{"$error":"#REF!"},{"$error":"#REF!"},{"$error":"#REF!"},null,null,null,"Вілсон"]
[null,null,"Корпус кухонний секцiя верхня 50В/360 1дв Aventos Pro Blum",356,496,1,0.17657600000000001,0,2147,null,0,null,{"$f":"(L18*$F$18)*#REF!","v":{"$error":"#REF!"}},{"$f":"#REF!","v":{"$error":"#REF!"}},{"$f":"#REF!","v":{"$error":"#REF!"}},{"$f":"#REF!","v":{"$error":"#REF!"}},{"$error":"#REF!"},{"$error":"#REF!"},{"$error":"#REF!"},{"$f":"#REF!","v":{"$error":"#REF!"}},{"$f":"#REF!","v":{"$error":"#REF!"}},{"$f":"#REF!","v":{"$error":"#REF!"}},{"$f":"X18*$G$18","v":0},null,{"$f":"(X18*$F$18)*#REF!","v":{"$error":"#REF!"}},{"$error":"#REF!"},{"$error":"#REF!"},{"$error":"#REF!"},{"$f":"#REF!","v":{"$error":"#REF!"}},{"$f":"#REF!","v":{"$error":"#REF!"}},{"$f":"#REF!","v":{"$error":"#REF!"}},{"$f":"AG18*$G$18","v":0},null,null,{"$error":"#REF!"},{"$error":"#REF!"},{"$error":"#REF!"},{"$f":"#REF!","v":{"$error":"#REF!"}},{"$f":"AN18*$G$18","v":0},null,{"$f":"(AN18*$F$18)*#REF!","v":{"$error":"#REF!"}},{"$error":"#REF!"},{"$f":"#REF!","v":{"$error":"#REF!"}},{"$f":"#REF!","v":{"$error":"#REF!"}},{"$f":"#REF!","v":{"$error":"#REF!"}},{"$f":"AU18*$G$18","v":0},null,{"$f":"(AU18*$F$18)*#REF!","v":{"$error":"#REF!"}},{"$error":"#REF!"},{"$error":"#REF!"},{"$error":"#REF!"}]
[null,null,"Корпус кухонний секцiя верхня 50В/450 1дв Aventos Pro Blum",446,496,1,0.221216,0]
[null,null,"Корпус кухонний секцiя верхня 50В/720 1дв Pro Blum",715,496,1,0.35464000000000001,0,1075,null,0,null,{"$f":"(L20*$F$20)*#REF!","v":{"$error":"#REF!"}},{"$f":"#REF!","v":{"$error":"#REF!"}},{"$f":"#REF!","v":{"$error":"#REF!"}},{"$f":"#REF!","v":{"$error":"#REF!"}},{"$error":"#REF!"},{"$error":"#REF!"},{"$error":"#REF!"},{"$f":"#REF!","v":{"$error":"#REF!"}},{"$f":"#REF!","v":{"$error":"#REF!"}},{"$f":"#REF!","v":{"$error":"#REF!"}},{"$f":"X20*$G$20","v":0},null,{"$f":"(X20*$F$20)*#REF!","v":{"$error":"#REF!"}},{"$error":"#REF!"},{"$error":"#REF!"},{"$error":"#REF!"},{"$f":"#REF!","v":{"$error":"#REF!"}},{"$f":"#REF!","v":{"$error":"#REF!"}},{"$f":"#REF!","v":{"$error":"#REF!"}},{"$f":"AG20*$G$20","v":0},null,null,{"$error":"#REF!"},{"$error":"#REF!"},{"$error":"#REF!"},{"$f":"#REF!","v":{"$error":"#REF!"}},{"$f":"AN20*$G$20","v":0},null,{"$f":"(AN20*$F$20)*#REF!","v":{"$error":"#REF!"}},{"$error":"#REF!"},{"$f":"#REF!","v":{"$error":"#REF!"}},{"$f":"#REF!","v":{"$error":"#REF!"}},{"$f":"#REF!","v":{"$error":"#REF!"}},{"$f":"AU20*$G$20","v":0},null,{"$f":"(AU20*$F$20)*#REF!","v":{"$error":"#REF!"}},{"$error":"#REF!"},{"$error":"#REF!"},{"$error":"#REF!"}]
[null,null,"Корпус кухонний секцiя верхня 50В/900 1дв Pro Blum",895,496,1,0.44391999999999998,0,1166,null,0,null,{"$f":"(L21*$F$21)*#REF!","v":{"$error":"#REF!"}},{"$f":"#REF!","v":{"$error":"#REF!"}},{"$f":"#REF!","v":{"$error":"#REF!"}},{"$f":"#REF!","v":{"$error":"#REF!"}},{"$error":"#REF!"},{"$error":"#REF!"},{"$error":"#REF!"},{"$f":"#REF!","v":{"$error":"#REF!"}},{"$f":"#REF!","v":{"$error":"#REF!"}},{"$f":"#REF!","v":{"$error":"#REF!"}},{"$f":"X21*$G$21","v":0},null,{"$f":"(X21*$F$21)*#REF!","v":{"$error":"#REF!"}},{"$error":"#REF!"},{"$error":"#REF!"},{"$error":"#REF!"},{"$f":"#REF!","v":{"$error":"#REF!"}},{"$f":"#REF!","v":{"$error":"#REF!"}},{"$f":"#REF!","v":{"$error":"#REF!"}},{"$f":"AG21*$G$21","v":0},null,null,{"$error":"#REF!"},{"$error":"#REF!"},{"$error":"#REF!"},{"$f":"#REF!","v":{"$error":"#REF!"}},{"$f":"AN21*$G$21","v":0},null,{"$f":"(AN21*$F$21)*#REF!","v":{"$error":"#REF!"}},{"$error":"#REF!"},{"$f":"#REF!","v":{"$error":"#REF!"}},{"$f":"#REF!","v":{"$error":"#REF!"}},{"$f":"#REF!","v":{"$error":"#REF!"}},{"$f":"AU21*$G$21","v":0},null,{"$f":"(AU21*$F$21)*#REF!","v":{"$error":"#REF!"}},{"$error":"#REF!"},{"$error":"#REF!"},{"$error":"#REF!"}]
[null,null,"Корпус кухонний секцiя верхня 60ВА/360 1дв Антресоль Газ Ліфт",356,596,1,0.212176,0,2192,null,0,null,{"$f":"(L22*$F$22)*#REF!","v":{"$error":"#REF!"}},{"$f":"#REF!","v":{"$error":"#REF!"}},{"$f":"#REF!","v":{"$error":"#REF!"}},{"$f":"#REF!","v":{"$error":"#REF!"}},{"$error":"#REF!"},{"$error":"#REF!"},{"$error":"#REF!"},{"$f":"#REF!","v":{"$error":"#REF!"}},{"$f":"#REF!","v":{"$error":"#REF!"}},{"$f":"#REF!","v":{"$error":"#REF!"}},{"$f":"X22*$G$22","v":0},null,{"$f":"(X22*$F$22)*#REF!","v":{"$error":"#REF!"}},{"$error":"#REF!"},{"$error":"#REF!"},{"$error":"#REF!"},{"$f":"#REF!","v":{"$error":"#REF!"}},{"$f":"#REF!","v":{"$error":"#REF!"}},{"$f":"#REF!","v":{"$error":"#REF!"}},{"$f":"AG22*$G$22","v":0},null,null,{"$error":"#REF!"},{"$error":"#REF!"},{"$error":"#REF!"},{"$f":"#REF!","v":{"$error":"#REF!"}},{"$f":"AN22*$G$22","v":0},null,{"$f":"(AN22*$F$22)*#REF!","v":{"$error":"#REF!"}},{"$error":"#REF!"},{"$f":"#REF!","v":{"$error":"#REF!"}},{"$f":"#REF!","v":{"$error":"#REF!"}},{"$f":"#REF!","v":{"$error":"#REF!"}},{"$f":"AU22*$G$22","v":0},null,{"$f":"(AU22*$F$22)*#REF!","v":{"$error":"#REF!"}},{"$error":"#REF!"},{"$error":"#REF!"},{"$error":"#REF!"}]
[null,null,"Корпус кухонний секцiя верхня 60В/360 1дв Aventos Pro Blum",356,596,1,0.212176,0,2014,null,0,null,{"$f":"(L23*$F$23)*#REF!","v":{"$error":"#REF!"}},{"$f":"#REF!","v":{"$error":"#REF!"}},{"$f":"#REF!","v":{"$error":"#REF!"}},{"$f":"#REF!","v":{"$error":"#REF!"}},{"$error":"#REF!"},{"$error":"#REF!"},{"$error":"#REF!"},{"$f":"#REF!","v":{"$error":"#REF!"}},{"$f":"#REF!","v":{"$error":"#REF!"}},{"$f":"#REF!","v":{"$error":"#REF!"}},{"$f":"X23*$G$23","v":0},null,{"$f":"(X23*$F$23)*#REF!","v":{"$error":"#REF!"}},{"$error":"#REF!"},{"$error":"#REF!"},{"$error":"#REF!"},{"$f":"#REF!","v":{"$error":"#REF!"}},{"$f":"#REF!","v":{"$error":"#REF!"}},{"$f":"#REF!","v":{"$error":"#REF!"}},{"$f":"AG23*$G$23","v":0},null,null,{"$error":"#REF!"},{"$error":"#REF!"},{"$error":"#REF!"},{"$f":"#REF!","v":{"$error":"#REF!"}},{"$f":"AN23*$G$23","v":0},null,{"$f":"(AN23*$F$23)*#REF!","v":{"$error":"#REF!"}},{"$error":"#REF!"},{"$f":"#REF!","v":{"$error":"#REF!"}},{"$f":"#REF!","v":{"$error":"#REF!"}},{"$f":"#REF!","v":{"$error":"#REF!"}},{"$f":"AU23*$G$23","v":0},null,{"$f":"(AU23*$F$23)*#REF!","v":{"$error":"#REF!"}},{"$error":"#REF!"},{"$error":"#REF!"},{"$error":"#REF!"}]
[null,null,"Корпус кухонний секцiя верхня 60В/450 1дв Aventos Pro Blum",446,596,1,0.265816,0]
[null,null,"Корпус кухонний секцiя верхня 60ВВТ/510 1дв Витяжка Телескоп",505,596,1]
[null,null,"Корпус кухонний секцiя верхня 60ВВТ/690 1дв Витяжка Телескоп Pro Blum",685,596,1]
[null,null,"Корпус кухонний секцiя верхня 60В/720 1дв Pro Blum",715,596,1,0.42614000000000002,0,1208,null,0,null,{"$f":"(L27*$F$27)*#REF!","v":{"$error":"#REF!"}},{"$f":"#REF!","v":{"$error":"#REF!"}},{"$f":"#REF!","v":{"$error":"#REF!"}},{"$f":"#REF!","v":{"$error":"#REF!"}},{"$error":"#REF!"},{"$error":"#REF!"},{"$error":"#REF!"},{"$f":"#REF!","v":{"$error":"#REF!"}},{"$f":"#REF!","v":{"$error":"#REF!"}},{"$f":"#REF!","v":{"$error":"#REF!"}},{"$f":"X27*$G$27","v":0},null,{"$f":"(X27*$F$27)*#REF!","v":{"$error":"#REF!"}},{"$error":"#REF!"},{"$error":"#REF!"},{"$error":"#REF!"},{"$f":"#REF!","v":{"$error":"#REF!"}},{"$f":"#REF!","v":{"$error":"#REF!"}},{"$f":"#REF!","v":{"$error":"#REF!"}},{"$f":"AG27*$G$27","v":0},null,null,{"$error":"#REF!"},{"$error":"#REF!"},{"$error":"#REF!"},{"$f":"#REF!","v":{"$error":"#REF!"}},{"$f":"AN27*$G$27","v":0},null,{"$f":"(AN27*$F$27)*#REF!","v":{"$error":"#REF!"}},{"$error":"#REF!"},{"$f":"#REF!","v":{"$error":"#REF!"}},{"$f":"#REF!","v":{"$error":"#REF!"}},{"$f":"#REF!","v":{"$error":"#REF!"}},{"$f":"AU27*$G$27","v":0},null,{"$f":"(AU27*$F$27)*#REF!","v":{"$error":"#REF!"}},{"$error":"#REF!"},{"$error":"#REF!"},{"$error":"#REF!"}]
[null,null,"Корпус кухонний секцiя верхня 60В/900 1дв Pro Blum",895,596,1,0.53342000000000001,0,1345,null,0,null,{"$f":"(L28*$F$28)*#REF!","v":{"$error":"#REF!"}},{"$f":"#REF!","v":{"$error":"#REF!"}},{"$f":"#REF!","v":{"$error":"#REF!"}},{"$f":"#REF!","v":{"$error":"#REF!"}},{"$error":"#REF!"},{"$error":"#REF!"},{"$error":"#REF!"},{"$f":"#REF!","v":{"$error":"#REF!"}},{"$f":"#REF!","v":{"$error":"#REF!"}},{"$f":"#REF!","v":{"$error":"#REF!"}},{"$f":"X28*$G$28","v":0},null,{"$f":"(X28*$F$28)*#REF!","v":{"$error":"#REF!"}},{"$error":"#REF!"},{"$error":"#REF!"},{"$error":"#REF!"},{"$f":"#REF!","v":{"$error":"#REF!"}},{"$f":"#REF!","v":{"$error":"#REF!"}},{"$f":"#REF!","v":{"$error":"#REF!"}},{"$f":"AG28*$G$28","v":0},null,null,{"$error":"#REF!"},{"$error":"#REF!"},{"$error":"#REF!"},{"$f":"#REF!","v":{"$error":"#REF!"}},{"$f":"AN28*$G$28","v":0},null,{"$f":"(AN28*$F$28)*#REF!","v":{"$error":"#REF!"}},{"$error":"#REF!"},{"$f":"#REF!","v":{"$error":"#REF!"}},{"$f":"#REF!","v":{"$error":"#REF!"}},{"$f":"#REF!","v":{"$error":"#REF!"}},{"$f":"AU28*$G$28","v":0},null,{"$f":"(AU28*$F$28)*#REF!","v":{"$error":"#REF!"}},{"$error":"#REF!"},{"$error":"#REF!"},{"$error":"#REF!"}]
[null,null,"Корпус кухонний секцiя верхня 60В/900 2дв Aventos Pro Blum",446,596,2]
[null,null,"Корпус кухонний секцiя верхня 60В/900 1дв Вітрина Pro Blum",895,596,1,0.53342000000000001,0,1345,null,0,null,{"$f":"(L30*$F$30)*#REF!","v":{"$error":"#REF!"}},{"$f":"#REF!*1.5","v":{"$error":"#REF!"}},{"$f":"#REF!*1.5","v":{"$error":"#REF!"}},{"$f":"#REF!*1.5","v":{"$error":"#REF!"}},{"$error":"#REF!"},{"$error":"#REF!"},{"$error":"#REF!"},{"$f":"#REF!*1.5","v":{"$error":"#REF!"}},{"$f":"#REF!*1.5","v":{"$error":"#REF!"}},{"$f":"#REF!*1.5","v":{"$error":"#REF!"}},{"$f":"X30*$G$30","v":0},null,{"$f":"(X30*$F$30)*#REF!","v":{"$error":"#REF!"}},{"$error":"#REF!"},{"$error":"#REF!"},{"$error":"#REF!"},{"$f":"#REF!*1.5","v":{"$error":"#REF!"}},{"$f":"#REF!*1.5","v":{"$error":"#REF!"}},{"$f":"#REF!*1.5","v":{"$error":"#REF!"}},{"$f":"AG30*$G$30","v":0},null,null,{"$error":"#REF!"},{"$error":"#REF!"},{"$error":"#REF!"},{"$f":"#REF!*1.5","v":{"$error":"#REF!"}},{"$f":"AN30*$G$30","v":0},null,{"$f":"(AN30*$F$30)*#REF!","v":{"$error":"#REF!"}},{"$error":"#REF!"},{"$f":"#REF!*1.5","v":{"$error":"#REF!"}},{"$f":"#REF!*1.5","v":{"$error":"#REF!"}},{"$f":"#REF!*1.5","v":{"$error":"#REF!"}},{"$f":"AU30*$G$30","v":0},null,{"$f":"(AU30*$F$30)*#REF!","v":{"$error":"#REF!"}},{"$error":"#REF!"},{"$error":"#REF!"},{"$error":"#REF!"}]
[null,null,"Корпус кухонний секцiя верхня 60ВС/720 2дв Сушка Pro Blum+Rejs",715,296,2]
[null,null,"Корпус кухонний секцiя верхня 60В/720 2дв Pro Blum",715,296,2,0.42327999999999999,0,1478,null,{"$f":"(I32*1)*J32","v":0},null,{"$f":"(L32*$F$32)*#REF!","v":{"$error":"#REF!"}},{"$f":"#REF!","v":{"$error":"#REF!"}},{"$f":"#REF!","v":{"$error":"#REF!"}},{"$f":"#REF!","v":{"$error":"#REF!"}},{"$error":"#REF!"},{"$error":"#REF!"},{"$error":"#REF!"},{"$f":"#REF!","v":{"$error":"#REF!"}},{"$f":"#REF!","v":{"$error":"#REF!"}},{"$f":"#REF!","v":{"$error":"#REF!"}},{"$f":"X32*$G$32","v":0},null,{"$f":"(X32*$F$32)*#REF!","v":{"$error":"#REF!"}},{"$error":"#REF!"},{"$error":"#REF!"},{"$error":"#REF!"},{"$f":"#REF!","v":{"$error":"#REF!"}},{"$f":"#REF!","v":{"$error":"#REF!"}},{"$f":"#REF!","v":{"$error":"#REF!"}},{"$f":"AG32*$G$32","v":0},null,null,{"$error":"#REF!"},{"$error":"#REF!"},{"$error":"#REF!"},{"$f":"#REF!","v":{"$error":"#REF!"}},{"$f":"AN32*$G$32","v":0},null,{"$f":"(AN32*$F$32)*#REF!","v":{"$error":"#REF!"}},{"$error":"#REF!"},{"$f":"#REF!","v":{"$error":"#REF!"}},{"$f":"#REF!","v":{"$error":"#REF!"}},{"$f":"#REF!","v":{"$error":"#REF!"}},{"$f":"AU32*$G$32","v":0},null,{"$f":"(AU32*$F$32)*#REF!","v":{"$error":"#REF!"}},{"$error":"#REF!"},{"$error":"#REF!"},{"$error":"#REF!"}]
[null,null,"Корпус кухонний секцiя верхня 60ВС/900 2дв Сушка Pro Blum+Rejs",895,296,2]
[null,null,"Корпус кухонний секцiя верхня 60В/900 2дв Pro Blum",895,296,2,0.52983999999999998,0,1653,null,{"$f":"(I34*1)*J34","v":0},null,{"$f":"(L34*$F$34)*#REF!","v":{"$error":"#REF!"}},{"$f":"#REF!","v":{"$error":"#REF!"}},{"$f":"#REF!","v":{"$error":"#REF!"}},{"$f":"#REF!","v":{"$error":"#REF!"}},{"$error":"#REF!"},{"$error":"#REF!"},{"$error":"#REF!"},{"$f":"#REF!","v":{"$error":"#REF!"}},{"$f":"#REF!","v":{"$error":"#REF!"}},{"$f":"#REF!","v":{"$error":"#REF!"}},{"$f":"X34*$G$34","v":0},null,{"$f":"(X34*$F$34)*#REF!","v":{"$error":"#REF!"}},{"$error":"#REF!"},{"$error":"#REF!"},{"$error":"#REF!"},{"$f":"#REF!","v":{"$error":"#REF!"}},{"$f":"#REF!","v":{"$error":"#REF!"}},{"$f":"#REF!","v":{"$error":"#REF!"}},{"$f":"AG34*$G$34","v":0},null,null,{"$error":"#REF!"},{"$error":"#REF!"},{"$error":"#REF!"},{"$f":"#REF!","v":{"$error":"#REF!"}},{"$f":"AN34*$G$34","v":0},null,{"$f":"(AN34*$F$34)*#REF!","v":{"$error":"#REF!"}},{"$error":"#REF!"},{"$f":"#REF!","v":{"$error":"#REF!"}},{"$f":"#REF!","v":{"$error":"#REF!"}},{"$f":"#REF!","v":{"$error":"#REF!"}},{"$f":"AU34*$G$34","v":0},null,{"$f":"(AU34*$F$34)*#REF!","v":{"$error":"#REF!"}},{"$error":"#REF!"},{"$error":"#REF!"},{"$error":"#REF!"}]
[null,null,"Корпус кухонний секцiя верхня 60В/720 2дв Aventos Pro Blum",356,596,2,0.42435200000000001,0,5400,null,0,null,{"$f":"(L35*$F$35)*#REF!","v":{"$error":"#REF!"}},{"$f":"#REF!","v":{"$error":"#REF!"}},{"$f":"#REF!","v":{"$error":"#REF!"}},{"$f":"#REF!","v":{"$error":"#REF!"}},{"$error":"#REF!"},{"$error":"#REF!"},{"$error":"#REF!"},{"$f":"#REF!","v":{"$error":"#REF!"}},{"$f":"#REF!","v":{"$error":"#REF!"}},{"$f":"#REF!","v":{"$error":"#REF!"}},{"$f":"X35*$G$35","v":0},null,{"$f":"(X35*$F$35)*#REF!","v":{"$error":"#REF!"}},{"$error":"#REF!"},{"$error":"#REF!"},{"$error":"#REF!"},{"$f":"#REF!","v":{"$error":"#REF!"}},{"$f":"#REF!","v":{"$error":"#REF!"}},{"$f":"#REF!","v":{"$error":"#REF!"}},{"$f":"AG35*$G$35","v":0},null,null,{"$error":"#REF!"},{"$error":"#REF!"},{"$error":"#REF!"},{"$f":"#REF!","v":{"$error":"#REF!"}},{"$f":"AN35*$G$35","v":0},null,{"$f":"(AN35*$F$35)*#REF!","v":{"$error":"#REF!"}},{"$error":"#REF!"},{"$f":"#REF!","v":{"$error":"#REF!"}},{"$f":"#REF!","v":{"$error":"#REF!"}},{"$f":"#REF!","v":{"$error":"#REF!"}},{"$f":"AU35*$G$35","v":0},null,{"$f":"(AU35*$F$35)*#REF!","v":{"$error":"#REF!"}},{"$error":"#REF!"},{"$error":"#REF!"},{"$error":"#REF!"}]
[null,null,"Корпус кухонний секцiя верхня 80ВА/360 1дв Антресоль Газ Ліфт",356,796,1,0.28337600000000002,0,2280,null,0,null,{"$f":"(L36*$F$36)*#REF!","v":{"$error":"#REF!"}},{"$f":"#REF!","v":{"$error":"#REF!"}},{"$f":"#REF!","v":{"$error":"#REF!"}},{"$f":"#REF!","v":{"$error":"#REF!"}},{"$error":"#REF!"},{"$error":"#REF!"},{"$error":"#REF!"},{"$f":"#REF!","v":{"$error":"#REF!"}},{"$f":"#REF!","v":{"$error":"#REF!"}},{"$f":"#REF!","v":{"$error":"#REF!"}},{"$f":"X36*$G$36","v":0},null,{"$f":"(X36*$F$36)*#REF!","v":{"$error":"#REF!"}},{"$error":"#REF!"},{"$error":"#REF!"},{"$error":"#REF!"},{"$f":"#REF!","v":{"$error":"#REF!"}},{"$f":"#REF!","v":{"$error":"#REF!"}},{"$f":"#REF!","v":{"$error":"#REF!"}},{"$f":"AG36*$G$36","v":0},null,null,{"$error":"#REF!"},{"$error":"#REF!"},{"$error":"#REF!"},{"$f":"#REF!","v":{"$error":"#REF!"}},{"$f":"AN36*$G$36","v":0},null,{"$f":"(AN36*$F$36)*#REF!","v":{"$error":"#REF!"}},{"$error":"#REF!"},{"$f":"#REF!","v":{"$error":"#REF!"}},{"$f":"#REF!","v":{"$error":"#REF!"}},{"$f":"#REF!","v":{"$error":"#REF!"}},{"$f":"AU36*$G$36","v":0},null,{"$f":"(AU36*$F$36)*#REF!","v":{"$error":"#REF!"}},{"$error":"#REF!"},{"$error":"#REF!"},{"$error":"#REF!"}]
[null,null,"Корпус кухонний секцiя верхня 80В/360 1дв Aventos Pro Blum",356,796,1,0.28337600000000002,0,2147,null,0,null,{"$f":"(L37*$F$37)*#REF!","v":{"$error":"#REF!"}},{"$f":"#REF!","v":{"$error":"#REF!"}},{"$f":"#REF!","v":{"$error":"#REF!"}},{"$f":"#REF!","v":{"$error":"#REF!"}},{"$error":"#REF!"},{"$error":"#REF!"},{"$error":"#REF!"},{"$f":"#REF!","v":{"$error":"#REF!"}},{"$f":"#REF!","v":{"$error":"#REF!"}},{"$f":"#REF!","v":{"$error":"#REF!"}},{"$f":"X37*$G$37","v":0},null,{"$f":"(X37*$F$37)*#REF!","v":{"$error":"#REF!"}},{"$error":"#REF!"},{"$error":"#REF!"},{"$error":"#REF!"},{"$f":"#REF!","v":{"$error":"#REF!"}},{"$f":"#REF!","v":{"$error":"#REF!"}},{"$f":"#REF!","v":{"$error":"#REF!"}},{"$f":"AG37*$G$37","v":0},null,null,{"$error":"#REF!"},{"$error":"#REF!"},{"$error":"#REF!"},{"$f":"#REF!","v":{"$error":"#REF!"}},{"$f":"AN37*$G$37","v":0},null,{"$f":"(AN37*$F$37)*#REF!","v":{"$error":"#REF!"}},{"$error":"#REF!"},{"$f":"#REF!","v":{"$error":"#REF!"}},{"$f":"#REF!","v":{"$error":"#REF!"}},{"$f":"#REF!","v":{"$error":"#REF!"}},{"$f":"AU37*$G$37","v":0},null,{"$f":"(AU37*$F$37)*#REF!","v":{"$error":"#REF!"}},{"$error":"#REF!"},{"$error":"#REF!"},{"$error":"#REF!"}]
[null,null,"Корпус кухонний секцiя верхня Кут 90°/360 Антресоль Обманка",356,72,1,2.5631999999999999E-2,0]
[null,null,null,356,90,1,3.2039999999999999E-2,0]
[null,null,"Корпус кухонний секцiя верхня 80В/450 1дв Aventos Pro Blum",446,796,1,0.355016,0]
[null,null,"Корпус кухонний секцiя верхня 80В/720 2дв Pro Blum",715,396,2,0.56628000000000001,0,1565,null,0,null,{"$f":"(L41*$F$41)*#REF!","v":{"$error":"#REF!"}},{"$f":"#REF!","v":{"$error":"#REF!"}},{"$f":"#REF!","v":{"$error":"#REF!"}},{"$f":"#REF!","v":{"$error":"#REF!"}},{"$error":"#REF!"},{"$error":"#REF!"},{"$error":"#REF!"},{"$f":"#REF!","v":{"$error":"#REF!"}},{"$f":"#REF!","v":{"$error":"#REF!"}},{"$f":"#REF!","v":{"$error":"#REF!"}},{"$f":"X41*$G$41","v":0},null,{"$f":"(X41*$F$41)*#REF!","v":{"$error":"#REF!"}},{"$error":"#REF!"},{"$error":"#REF!"},{"$error":"#REF!"},{"$f":"#REF!","v":{"$error":"#REF!"}},{"$f":"#REF!","v":{"$error":"#REF!"}},{"$f":"#REF!","v":{"$error":"#REF!"}},{"$f":"AG41*$G$41","v":0},null,null,{"$error":"#REF!"},{"$error":"#REF!"},{"$error":"#REF!"},{"$f":"#REF!","v":{"$error":"#REF!"}},{"$f":"AN41*$G$41","v":0},null,{"$f":"(AN41*$F$41)*#REF!","v":{"$error":"#REF!"}},{"$error":"#REF!"},{"$f":"#REF!","v":{"$error":"#REF!"}},{"$f":"#REF!","v":{"$error":"#REF!"}},{"$f":"#REF!","v":{"$error":"#REF!"}},{"$f":"AU41*$G$41","v":0},null,{"$f":"(AU41*$F$41)*#REF!","v":{"$error":"#REF!"}},{"$error":"#REF!"},{"$error":"#REF!"},{"$error":"#REF!"}]
[null,null,"Корпус кухонний секцiя верхня 80ВС/720 2дв Сушка Pro Blum+Rejs",715,396,2,0.56628000000000001,0]
[null,null,"Корпус кухонний секцiя верхня 80В/900 2дв Aventos Pro Blum",446,796,2,0.710032,0]
[null,null,"Корпус кухонний секцiя верхня 80В/900 2дв Pro Blum",895,396,2,0.70884000000000003,0,1789,null,0,null,{"$f":"(L44*$F$44)*#REF!","v":{"$error":"#REF!"}},{"$f":"#REF!","v":{"$error":"#REF!"}},{"$f":"#REF!","v":{"$error":"#REF!"}},{"$f":"#REF!","v":{"$error":"#REF!"}},{"$error":"#REF!"},{"$error":"#REF!"},{"$error":"#REF!"},{"$f":"#REF!","v":{"$error":"#REF!"}},{"$f":"#REF!","v":{"$error":"#REF!"}},{"$f":"#REF!","v":{"$error":"#REF!"}},{"$f":"X44*$G$44","v":0},null,{"$f":"(X44*$F$44)*#REF!","v":{"$error":"#REF!"}},{"$error":"#REF!"},{"$error":"#REF!"},{"$error":"#REF!"},{"$f":"#REF!","v":{"$error":"#REF!"}},{"$f":"#REF!","v":{"$error":"#REF!"}},{"$f":"#REF!","v":{"$error":"#REF!"}},{"$f":"AG44*$G$44","v":0},null,null,{"$error":"#REF!"},{"$error":"#REF!"},{"$error":"#REF!"},{"$f":"#REF!","v":{"$error":"#REF!"}},{"$f":"AN44*$G$44","v":0},null,{"$f":"(AN44*$F$44)*#REF!","v":{"$error":"#REF!"}},{"$error":"#REF!"},{"$f":"#REF!","v":{"$error":"#REF!"}},{"$f":"#REF!","v":{"$error":"#REF!"}},{"$f":"#REF!","v":{"$error":"#REF!"}},{"$f":"AU44*$G$44","v":0},null,{"$f":"(AU44*$F$44)*#REF!","v":{"$error":"#REF!"}},{"$error":"#REF!"},{"$error":"#REF!"},{"$error":"#REF!"}]
[null,null,"Корпус кухонний секцiя верхня 80ВС/900 2дв Сушка Pro Blum+Rejs",895,396,2]
[null,null,"Корпус кухонний секцiя верхня 80В/720 2дв Aventos Pro Blum",356,796,2,0.56675200000000003,0,5537,null,0,null,{"$f":"(L46*$F$46)*#REF!","v":{"$error":"#REF!"}},{"$f":"#REF!","v":{"$error":"#REF!"}},{"$f":"#REF!","v":{"$error":"#REF!"}},{"$f":"#REF!","v":{"$error":"#REF!"}},{"$error":"#REF!"},{"$error":"#REF!"},{"$error":"#REF!"},{"$f":"#REF!","v":{"$error":"#REF!"}},{"$f":"#REF!","v":{"$error":"#REF!"}},{"$f":"#REF!","v":{"$error":"#REF!"}},{"$f":"X46*$G$46","v":0},null,{"$f":"(X46*$F$46)*#REF!","v":{"$error":"#REF!"}},{"$error":"#REF!"},{"$error":"#REF!"},{"$error":"#REF!"},{"$f":"#REF!","v":{"$error":"#REF!"}},{"$f":"#REF!","v":{"$error":"#REF!"}},{"$f":"#REF!","v":{"$error":"#REF!"}},{"$f":"AG46*$G$46","v":0},null,null,{"$error":"#REF!"},{"$error":"#REF!"},{"$error":"#REF!"},{"$f":"#REF!","v":{"$error":"#REF!"}},{"$f":"AN46*$G$46","v":0},null,{"$f":"(AN46*$F$46)*#REF!","v":{"$error":"#REF!"}},{"$error":"#REF!"},{"$f":"#REF!","v":{"$error":"#REF!"}},{"$f":"#REF!","v":{"$error":"#REF!"}},{"$f":"#REF!","v":{"$error":"#REF!"}},{"$f":"AU46*$G$46","v":0},null,{"$f":"(AU46*$F$46)*#REF!","v":{"$error":"#REF!"}},{"$error":"#REF!"},{"$error":"#REF!"},{"$error":"#REF!"}]
[null,null,"Корпус кухонний секцiя верхня 80В/900 2дв Вітрина Pro Blum",895,396,2,0.70884000000000003,0,2858,null,0,null,{"$f":"(L47*$F$47)*#REF!","v":{"$error":"#REF!"}},{"$f":"#REF!*1.5","v":{"$error":"#REF!"}},{"$f":"#REF!*1.5","v":{"$error":"#REF!"}},{"$f":"#REF!*1.5","v":{"$error":"#REF!"}},{"$error":"#REF!"},{"$error":"#REF!"},{"$error":"#REF!"},{"$f":"#REF!*1.5","v":{"$error":"#REF!"}},{"$f":"#REF!*1.5","v":{"$error":"#REF!"}},{"$f":"#REF!*1.5","v":{"$error":"#REF!"}},{"$f":"X47*$G$47","v":0},null,{"$f":"(X47*$F$47)*#REF!","v":{"$error":"#REF!"}},{"$error":"#REF!"},{"$error":"#REF!"},{"$error":"#REF!"},{"$f":"#REF!*1.5","v":{"$error":"#REF!"}},{"$f":"#REF!*1.5","v":{"$error":"#REF!"}},{"$f":"#REF!*1.5","v":{"$error":"#REF!"}},{"$f":"AG47*$G$47","v":0},null,null,{"$error":"#REF!"},{"$error":"#REF!"},{"$error":"#REF!"},{"$f":"#REF!*1.5","v":{"$error":"#REF!"}},{"$f":"AN47*$G$47","v":0},null,{"$f":"(AN47*$F$47)*#REF!","v":{"$error":"#REF!"}},{"$error":"#REF!"},{"$f":"#REF!*1.5","v":{"$error":"#REF!"}},{"$f":"#REF!*1.5","v":{"$error":"#REF!"}},{"$f":"#REF!*1.5","v":{"$error":"#REF!"}},{"$f":"AU47*$G$47","v":0},null,{"$f":"(AU47*$F$47)*#REF!","v":{"$error":"#REF!"}},{"$error":"#REF!"},{"$error":"#REF!"},{"$error":"#REF!"}]
[null,null,"Корпус кухонний секцiя верхня 30ВЗР/720 1дв Закінчення Радіусне Pro Blum",715,464,1,0.33176,0]
[null,null,"Корпус кухонний секцiя верхня 30ВЗР/900 1дв Закінчення Радіусне Pro Blum",895,464,1,0.41527999999999998,0]
[null,null,"Корпус кухонний секцiя верхня КутВ 45°/720 1дв Pro Blum",715,428,1,0.30602000000000001,0,1548,null,0,null,{"$f":"(L50*$F$50)*#REF!","v":{"$error":"#REF!"}},{"$f":"#REF!","v":{"$error":"#REF!"}},{"$f":"#REF!","v":{"$error":"#REF!"}},{"$f":"#REF!","v":{"$error":"#REF!"}},{"$error":"#REF!"},{"$error":"#REF!"},{"$error":"#REF!"},{"$f":"#REF!","v":{"$error":"#REF!"}},{"$f":"#REF!","v":{"$error":"#REF!"}},{"$f":"#REF!","v":{"$error":"#REF!"}},{"$f":"X50*$G$50","v":0},null,{"$f":"(X50*$F$50)*#REF!","v":{"$error":"#REF!"}},{"$error":"#REF!"},{"$error":"#REF!"},{"$error":"#REF!"},{"$f":"#REF!","v":{"$error":"#REF!"}},{"$f":"#REF!","v":{"$error":"#REF!"}},{"$f":"#REF!","v":{"$error":"#REF!"}},{"$f":"AG50*$G$50","v":0},null,null,{"$error":"#REF!"},{"$error":"#REF!"},{"$error":"#REF!"},{"$f":"#REF!","v":{"$error":"#REF!"}},{"$f":"AN50*$G$50","v":0},null,{"$f":"(AN50*$F$50)*#REF!","v":{"$error":"#REF!"}},{"$error":"#REF!"},{"$f":"#REF!","v":{"$error":"#REF!"}},{"$f":"#REF!","v":{"$error":"#REF!"}},{"$f":"#REF!","v":{"$error":"#REF!"}},{"$f":"AU50*$G$50","v":0},null,{"$f":"(AU50*$F$50)*#REF!","v":{"$error":"#REF!"}},{"$error":"#REF!"},{"$error":"#REF!"},{"$error":"#REF!"}]
[null,null,"Корпус кухонний секцiя верхня КутВ 45°/900 1дв Pro Blum",895,428,1,0.38306000000000001,0,1762,null,0,null,{"$f":"(L51*$F$51)*#REF!","v":{"$error":"#REF!"}},{"$f":"#REF!","v":{"$error":"#REF!"}},{"$f":"#REF!","v":{"$error":"#REF!"}},{"$f":"#REF!","v":{"$error":"#REF!"}},{"$error":"#REF!"},{"$error":"#REF!"},{"$error":"#REF!"},{"$f":"#REF!","v":{"$error":"#REF!"}},{"$f":"#REF!","v":{"$error":"#REF!"}},{"$f":"#REF!","v":{"$error":"#REF!"}},{"$f":"X51*$G$51","v":0},null,{"$f":"(X51*$F$51)*#REF!","v":{"$error":"#REF!"}},{"$error":"#REF!"},{"$error":"#REF!"},{"$error":"#REF!"},{"$f":"#REF!","v":{"$error":"#REF!"}},{"$f":"#REF!","v":{"$error":"#REF!"}},{"$f":"#REF!","v":{"$error":"#REF!"}},{"$f":"AG51*$G$51","v":0},null,null,{"$error":"#REF!"},{"$error":"#REF!"},{"$error":"#REF!"},{"$f":"#REF!","v":{"$error":"#REF!"}},{"$f":"AN51*$G$51","v":0},null,{"$f":"(AN51*$F$51)*#REF!","v":{"$error":"#REF!"}},{"$error":"#REF!"},{"$f":"#REF!","v":{"$error":"#REF!"}},{"$f":"#REF!","v":{"$error":"#REF!"}},{"$f":"#REF!","v":{"$error":"#REF!"}},{"$f":"AU51*$G$51","v":0},null,{"$f":"(AU51*$F$51)*#REF!","v":{"$error":"#REF!"}},{"$error":"#REF!"},{"$error":"#REF!"},{"$error":"#REF!"}]
[null,null,"Корпус кухонний секцiя верхня КутВ 90°/360 2дв Pro Blum",356,308,1,0.109648,0]
[null,null,null,356,298,1]
[null,null,"Корпус кухонний секцiя верхня КутВ 90°/450 2дв Pro Blum",446,308,1]
[null,null,null,446,298,1]
[null,null,"Корпус кухонний секцiя верхня КутВ 90°/720 2дв Pro Blum",715,308,1]
[null,null,null,715,298,1,0.21307000000000001,0,1835,null,0,null,{"$f":"(L57*$F$57)*#REF!","v":{"$error":"#REF!"}},{"$f":"#REF!","v":{"$error":"#REF!"}},{"$f":"#REF!","v":{"$error":"#REF!"}},{"$f":"#REF!","v":{"$error":"#REF!"}},{"$error":"#REF!"},{"$error":"#REF!"},{"$error":"#REF!"},{"$f":"#REF!","v":{"$error":"#REF!"}},{"$f":"#REF!","v":{"$error":"#REF!"}},{"$f":"#REF!","v":{"$error":"#REF!"}},{"$f":"X57*$G$57","v":0},null,{"$f":"(X57*$F$57)*#REF!","v":{"$error":"#REF!"}},{"$error":"#REF!"},{"$error":"#REF!"},{"$error":"#REF!"},{"$f":"#REF!","v":{"$error":"#REF!"}},{"$f":"#REF!","v":{"$error":"#REF!"}},{"$f":"#REF!","v":{"$error":"#REF!"}},{"$f":"AG57*$G$57","v":0},null,null,{"$error":"#REF!"},{"$error":"#REF!"},{"$error":"#REF!"},{"$f":"#REF!","v":{"$error":"#REF!"}},{"$f":"AN57*$G$57","v":0},null,{"$f":"(AN57*$F$57)*#REF!","v":{"$error":"#REF!"}},{"$error":"#REF!"},{"$f":"#REF!","v":{"$error":"#REF!"}},{"$f":"#REF!","v":{"$error":"#REF!"}},{"$f":"#REF!","v":{"$error":"#REF!"}},{"$f":"AU57*$G$57","v":0},null,{"$f":"(AU57*$F$57)*#REF!","v":{"$error":"#REF!"}},{"$error":"#REF!"},{"$error":"#REF!"},{"$error":"#REF!"}]
[null,null,"Корпус кухонний секцiя верхня КутВ 90°/900 2дв Pro Blum",895,308,1]
[null,null,null,895,298,1,0.26671,0,2101,null,0,null,{"$f":"(L59*$F$59)*#REF!","v":{"$error":"#REF!"}},{"$f":"#REF!","v":{"$error":"#REF!"}},{"$f":"#REF!","v":{"$error":"#REF!"}},{"$f":"#REF!","v":{"$error":"#REF!"}},{"$error":"#REF!"},{"$error":"#REF!"},{"$error":"#REF!"},{"$f":"#REF!","v":{"$error":"#REF!"}},{"$f":"#REF!","v":{"$error":"#REF!"}},{"$f":"#REF!","v":{"$error":"#REF!"}},{"$f":"X59*$G$59","v":0},null,{"$f":"(X59*$F$59)*#REF!","v":{"$error":"#REF!"}},{"$error":"#REF!"},{"$error":"#REF!"},{"$error":"#REF!"},{"$f":"#REF!","v":{"$error":"#REF!"}},{"$f":"#REF!","v":{"$error":"#REF!"}},{"$f":"#REF!","v":{"$error":"#REF!"}},{"$f":"AG59*$G$59","v":0},null,null,{"$error":"#REF!"},{"$error":"#REF!"},{"$error":"#REF!"},{"$f":"#REF!","v":{"$error":"#REF!"}},{"$f":"AN59*$G$59","v":0},null,{"$f":"(AN59*$F$59)*#REF!","v":{"$error":"#REF!"}},{"$error":"#REF!"},{"$f":"#REF!","v":{"$error":"#REF!"}},{"$f":"#REF!","v":{"$error":"#REF!"}},{"$f":"#REF!","v":{"$error":"#REF!"}},{"$f":"AU59*$G$59","v":0},null,{"$f":"(AU59*$F$59)*#REF!","v":{"$error":"#REF!"}},{"$error":"#REF!"},{"$error":"#REF!"},{"$error":"#REF!"}]
[null,"Нижні секції","Корпус кухонний секція нижня 20НК/820 Карго Pro Rejs",715,196,1,0.14013999999999999,0,3526,null,0,null,{"$f":"(L60*$F$60)*#REF!","v":{"$error":"#REF!"}},{"$f":"#REF!","v":{"$error":"#REF!"}},{"$f":"#REF!","v":{"$error":"#REF!"}},{"$f":"#REF!","v":{"$error":"#REF!"}},{"$error":"#REF!"},{"$error":"#REF!"},{"$error":"#REF!"},{"$f":"#REF!","v":{"$error":"#REF!"}},{"$f":"#REF!","v":{"$error":"#REF!"}},{"$f":"#REF!","v":{"$error":"#REF!"}},{"$f":"X60*$G$60","v":0},null,{"$f":"(X60*$F$60)*#REF!","v":{"$error":"#REF!"}},{"$error":"#REF!"},{"$error":"#REF!"},{"$error":"#REF!"},{"$f":"#REF!","v":{"$error":"#REF!"}},{"$f":"#REF!","v":{"$error":"#REF!"}},{"$f":"#REF!","v":{"$error":"#REF!"}},{"$f":"AG60*$G$60","v":0},null,null,{"$error":"#REF!"},{"$error":"#REF!"},{"$error":"#REF!"},{"$f":"#REF!","v":{"$error":"#REF!"}},{"$f":"AN60*$G$60","v":0},null,{"$f":"(AN60*$F$60)*#REF!","v":{"$error":"#REF!"}},{"$error":"#REF!"},{"$f":"#REF!","v":{"$error":"#REF!"}},{"$f":"#REF!","v":{"$error":"#REF!"}},{"$f":"#REF!","v":{"$error":"#REF!"}},{"$f":"AU60*$G$60","v":0},null,{"$f":"(AU60*$F$60)*#REF!","v":{"$error":"#REF!"}},{"$error":"#REF!"},{"$error":"#REF!"},{"$error":"#REF!"}]
[null,null,"Корпус кухонний секція нижня 20Н/820 1дв Pro Blum",715,196,1]
[null,null,"Корпус кухонний секція нижня 30Н/820 1дв Pro Blum",715,296,1,0.21163999999999999,0,1030,null,0,null,{"$f":"(L62*$F$62)*#REF!","v":{"$error":"#REF!"}},{"$f":"#REF!","v":{"$error":"#REF!"}},{"$f":"#REF!","v":{"$error":"#REF!"}},{"$f":"#REF!","v":{"$error":"#REF!"}},{"$error":"#REF!"},{"$error":"#REF!"},{"$error":"#REF!"},{"$f":"#REF!","v":{"$error":"#REF!"}},{"$f":"#REF!","v":{"$error":"#REF!"}},{"$f":"#REF!","v":{"$error":"#REF!"}},{"$f":"X62*$G$62","v":0},null,{"$f":"(X62*$F$62)*#REF!","v":{"$error":"#REF!"}},{"$error":"#REF!"},{"$error":"#REF!"},{"$error":"#REF!"},{"$f":"#REF!","v":{"$error":"#REF!"}},{"$f":"#REF!","v":{"$error":"#REF!"}},{"$f":"#REF!","v":{"$error":"#REF!"}},{"$f":"AG62*$G$62","v":0},null,null,{"$error":"#REF!"},{"$error":"#REF!"},{"$error":"#REF!"},{"$f":"#REF!","v":{"$error":"#REF!"}},{"$f":"AN62*$G$62","v":0},null,{"$f":"(AN62*$F$62)*#REF!","v":{"$error":"#REF!"}},{"$error":"#REF!"},{"$f":"#REF!","v":{"$error":"#REF!"}},{"$f":"#REF!","v":{"$error":"#REF!"}},{"$f":"#REF!","v":{"$error":"#REF!"}},{"$f":"AU62*$G$62","v":0},null,{"$f":"(AU62*$F$62)*#REF!","v":{"$error":"#REF!"}},{"$error":"#REF!"},{"$error":"#REF!"},{"$error":"#REF!"}]
[null,null,"Корпус кухонний секція нижня 40Н/820 1дв Pro Blum",715,396,1,0.28314,0,1086,null,0,null,{"$f":"(L63*$F$63)*#REF!","v":{"$error":"#REF!"}},{"$f":"#REF!","v":{"$error":"#REF!"}},{"$f":"#REF!","v":{"$error":"#REF!"}},{"$f":"#REF!","v":{"$error":"#REF!"}},{"$error":"#REF!"},{"$error":"#REF!"},{"$error":"#REF!"},{"$f":"#REF!","v":{"$error":"#REF!"}},{"$f":"#REF!","v":{"$error":"#REF!"}},{"$f":"#REF!","v":{"$error":"#REF!"}},{"$f":"X63*$G$63","v":0},null,{"$f":"(X63*$F$63)*#REF!","v":{"$error":"#REF!"}},{"$error":"#REF!"},{"$error":"#REF!"},{"$error":"#REF!"},{"$f":"#REF!","v":{"$error":"#REF!"}},{"$f":"#REF!","v":{"$error":"#REF!"}},{"$f":"#REF!","v":{"$error":"#REF!"}},{"$f":"AG63*$G$63","v":0},null,null,{"$error":"#REF!"},{"$error":"#REF!"},{"$error":"#REF!"},{"$f":"#REF!","v":{"$error":"#REF!"}},{"$f":"AN63*$G$63","v":0},null,{"$f":"(AN63*$F$63)*#REF!","v":{"$error":"#REF!"}},{"$error":"#REF!"},{"$f":"#REF!","v":{"$error":"#REF!"}},{"$f":"#REF!","v":{"$error":"#REF!"}},{"$f":"#REF!","v":{"$error":"#REF!"}},{"$f":"AU63*$G$63","v":0},null,{"$f":"(AU63*$F$63)*#REF!","v":{"$error":"#REF!"}},{"$error":"#REF!"},{"$error":"#REF!"},{"$error":"#REF!"}]
[null,null,"Корпус кухонний секція нижня 40Н3ШХ/820 Pro Hettich",176,396,1,6.9695999999999994E-2,0]
[null,null,null,266,396,2]
[null,null,"Корпус кухонний секція нижня 45Н/820 1дв Pro Blum",715,446,1,0.31889000000000001,0,1124,null,0,null,{"$f":"(L66*$F$66)*#REF!","v":{"$error":"#REF!"}},{"$f":"#REF!","v":{"$error":"#REF!"}},{"$f":"#REF!","v":{"$error":"#REF!"}},{"$f":"#REF!","v":{"$error":"#REF!"}},{"$error":"#REF!"},{"$error":"#REF!"},{"$error":"#REF!"},{"$f":"#REF!","v":{"$error":"#REF!"}},{"$f":"#REF!","v":{"$error":"#REF!"}},{"$f":"#REF!","v":{"$error":"#REF!"}},{"$f":"X66*$G$66","v":0},null,{"$f":"(X66*$F$66)*#REF!","v":{"$error":"#REF!"}},{"$error":"#REF!"},{"$error":"#REF!"},{"$error":"#REF!"},{"$f":"#REF!","v":{"$error":"#REF!"}},{"$f":"#REF!","v":{"$error":"#REF!"}},{"$f":"#REF!","v":{"$error":"#REF!"}},{"$f":"AG66*$G$66","v":0},null,null,{"$error":"#REF!"},{"$error":"#REF!"},{"$error":"#REF!"},{"$f":"#REF!","v":{"$error":"#REF!"}},{"$f":"AN66*$G$66","v":0},null,{"$f":"(AN66*$F$66)*#REF!","v":{"$error":"#REF!"}},{"$error":"#REF!"},{"$f":"#REF!","v":{"$error":"#REF!"}},{"$f":"#REF!","v":{"$error":"#REF!"}},{"$f":"#REF!","v":{"$error":"#REF!"}},{"$f":"AU66*$G$66","v":0},null,{"$f":"(AU66*$F$66)*#REF!","v":{"$error":"#REF!"}},{"$error":"#REF!"},{"$error":"#REF!"},{"$error":"#REF!"}]
[null,null,"Корпус кухонний секція нижня 50Н/820 1дв Pro Blum",715,496,1,0.35464000000000001,0,1163,null,0,null,{"$f":"(L67*$F$67)*#REF!","v":{"$error":"#REF!"}},{"$f":"#REF!","v":{"$error":"#REF!"}},{"$f":"#REF!","v":{"$error":"#REF!"}},{"$f":"#REF!","v":{"$error":"#REF!"}},{"$error":"#REF!"},{"$error":"#REF!"},{"$error":"#REF!"},{"$f":"#REF!","v":{"$error":"#REF!"}},{"$f":"#REF!","v":{"$error":"#REF!"}},{"$f":"#REF!","v":{"$error":"#REF!"}},{"$f":"X67*$G$67","v":0},null,{"$f":"(X67*$F$67)*#REF!","v":{"$error":"#REF!"}},{"$error":"#REF!"},{"$error":"#REF!"},{"$error":"#REF!"},{"$f":"#REF!","v":{"$error":"#REF!"}},{"$f":"#REF!","v":{"$error":"#REF!"}},{"$f":"#REF!","v":{"$error":"#REF!"}},{"$f":"AG67*$G$67","v":0},null,null,{"$error":"#REF!"},{"$error":"#REF!"},{"$error":"#REF!"},{"$f":"#REF!","v":{"$error":"#REF!"}},{"$f":"AN67*$G$67","v":0},null,{"$f":"(AN67*$F$67)*#REF!","v":{"$error":"#REF!"}},{"$error":"#REF!"},{"$f":"#REF!","v":{"$error":"#REF!"}},{"$f":"#REF!","v":{"$error":"#REF!"}},{"$f":"#REF!","v":{"$error":"#REF!"}},{"$f":"AU67*$G$67","v":0},null,{"$f":"(AU67*$F$67)*#REF!","v":{"$error":"#REF!"}},{"$error":"#REF!"},{"$error":"#REF!"},{"$error":"#REF!"}]
[null,null,"Корпус кухонний секція нижня 60НДШ/820 Телескоп",110,596,1,6.5559999999999993E-2,0,2395,null,0,null,{"$f":"(L68*$F$68)*#REF!","v":{"$error":"#REF!"}},{"$f":"#REF!","v":{"$error":"#REF!"}},{"$f":"#REF!","v":{"$error":"#REF!"}},{"$f":"#REF!","v":{"$error":"#REF!"}},{"$error":"#REF!"},{"$error":"#REF!"},{"$error":"#REF!"},{"$f":"#REF!","v":{"$error":"#REF!"}},{"$f":"#REF!","v":{"$error":"#REF!"}},{"$f":"#REF!","v":{"$error":"#REF!"}},{"$f":"X68*$G$68","v":0},null,{"$f":"(X68*$F$68)*#REF!","v":{"$error":"#REF!"}},{"$error":"#REF!"},{"$error":"#REF!"},{"$error":"#REF!"},{"$f":"#REF!","v":{"$error":"#REF!"}},{"$f":"#REF!","v":{"$error":"#REF!"}},{"$f":"#REF!","v":{"$error":"#REF!"}},{"$f":"AG68*$G$68","v":0},null,null,null,null,null,{"$f":"#REF!","v":{"$error":"#REF!"}},{"$f":"AN68*$G$68","v":0},null,null,null,{"$f":"#REF!","v":{"$error":"#REF!"}},{"$f":"#REF!","v":{"$error":"#REF!"}},{"$f":"#REF!","v":{"$error":"#REF!"}},{"$f":"AU68*$G$68","v":0},null,{"$f":"(AU68*$F$68)*#REF!","v":{"$error":"#REF!"}},{"$error":"#REF!"},{"$error":"#REF!"},{"$error":"#REF!"}]
[null,null,"Корпус кухонний секція нижня 60Н/820 1дв Pro Blum",715,596,1,0.42614000000000002,0,1250,null,0,null,{"$f":"(L69*$F$69)*#REF!","v":{"$error":"#REF!"}},{"$f":"#REF!","v":{"$error":"#REF!"}},{"$f":"#REF!","v":{"$error":"#REF!"}},{"$f":"#REF!","v":{"$error":"#REF!"}},{"$error":"#REF!"},{"$error":"#REF!"},{"$error":"#REF!"},{"$f":"#REF!","v":{"$error":"#REF!"}},{"$f":"#REF!","v":{"$error":"#REF!"}},{"$f":"#REF!","v":{"$error":"#REF!"}},{"$f":"X69*$G$69","v":0},null,{"$f":"(X69*$F$69)*#REF!","v":{"$error":"#REF!"}},{"$error":"#REF!"},{"$error":"#REF!"},{"$error":"#REF!"},{"$f":"#REF!","v":{"$error":"#REF!"}},{"$f":"#REF!","v":{"$error":"#REF!"}},{"$f":"#REF!","v":{"$error":"#REF!"}},{"$f":"AG69*$G$69","v":0},null,null,{"$error":"#REF!"},{"$error":"#REF!"},{"$error":"#REF!"},{"$f":"#REF!","v":{"$error":"#REF!"}},{"$f":"AN69*$G$69","v":0},null,{"$f":"(AN69*$F$69)*#REF!","v":{"$error":"#REF!"}},{"$error":"#REF!"},{"$f":"#REF!","v":{"$error":"#REF!"}},{"$f":"#REF!","v":{"$error":"#REF!"}},{"$f":"#REF!","v":{"$error":"#REF!"}},{"$f":"AU69*$G$69","v":0},null,{"$f":"(AU69*$F$69)*#REF!","v":{"$error":"#REF!"}},{"$error":"#REF!"},{"$error":"#REF!"},{"$error":"#REF!"}]
[null,null,"Корпус кухонний секція нижня 60Н/820 2дв Pro Blum",715,296,2,0.42327999999999999,0,1520,null,0,null,{"$f":"(L70*$F$70)*#REF!","v":{"$error":"#REF!"}},{"$f":"#REF!","v":{"$error":"#REF!"}},{"$f":"#REF!","v":{"$error":"#REF!"}},{"$f":"#REF!","v":{"$error":"#REF!"}},{"$error":"#REF!"},{"$error":"#REF!"},{"$error":"#REF!"},{"$f":"#REF!","v":{"$error":"#REF!"}},{"$f":"#REF!","v":{"$error":"#REF!"}},{"$f":"#REF!","v":{"$error":"#REF!"}},{"$f":"X70*$G$70","v":0},null,{"$f":"(X70*$F$70)*#REF!","v":{"$error":"#REF!"}},{"$error":"#REF!"},{"$error":"#REF!"},{"$error":"#REF!"},{"$f":"#REF!","v":{"$error":"#REF!"}},{"$f":"#REF!","v":{"$error":"#REF!"}},{"$f":"#REF!","v":{"$error":"#REF!"}},{"$f":"AG70*$G$70","v":0},null,null,{"$error":"#REF!"},{"$error":"#REF!"},{"$error":"#REF!"},{"$f":"#REF!","v":{"$error":"#REF!"}},{"$f":"AN70*$G$70","v":0},null,{"$f":"(AN70*$F$70)*#REF!","v":{"$error":"#REF!"}},{"$error":"#REF!"},{"$f":"#REF!","v":{"$error":"#REF!"}},{"$f":"#REF!","v":{"$error":"#REF!"}},{"$f":"#REF!","v":{"$error":"#REF!"}},{"$f":"AU70*$G$70","v":0},null,{"$f":"(AU70*$F$70)*#REF!","v":{"$error":"#REF!"}},{"$error":"#REF!"},{"$error":"#REF!"},{"$error":"#REF!"}]
[null,null,"Корпус кухонний секція нижня 60НМ/820 2дв Мийка Pro Blum",715,296,2,0.42327999999999999,0,2371,null,0,null,{"$f":"(L71*$F$71)*#REF!","v":{"$error":"#REF!"}},{"$f":"#REF!","v":{"$error":"#REF!"}},{"$f":"#REF!","v":{"$error":"#REF!"}},{"$f":"#REF!","v":{"$error":"#REF!"}},{"$error":"#REF!"},{"$error":"#REF!"},{"$error":"#REF!"},{"$f":"#REF!","v":{"$error":"#REF!"}},{"$f":"#REF!","v":{"$error":"#REF!"}},{"$f":"#REF!","v":{"$error":"#REF!"}},{"$f":"X71*$G$71","v":0},null,{"$f":"(X71*$F$71)*#REF!","v":{"$error":"#REF!"}},{"$error":"#REF!"},{"$error":"#REF!"},{"$error":"#REF!"},{"$f":"#REF!","v":{"$error":"#REF!"}},{"$f":"#REF!","v":{"$error":"#REF!"}},{"$f":"#REF!","v":{"$error":"#REF!"}},{"$f":"AG71*$G$71","v":0},null,null,{"$error":"#REF!"},{"$error":"#REF!"},{"$error":"#REF!"},{"$f":"#REF!","v":{"$error":"#REF!"}},{"$f":"AN71*$G$71","v":0},null,{"$f":"(AN71*$F$71)*#REF!","v":{"$error":"#REF!"}},{"$error":"#REF!"},{"$f":"#REF!","v":{"$error":"#REF!"}},{"$f":"#REF!","v":{"$error":"#REF!"}},{"$f":"#REF!","v":{"$error":"#REF!"}},{"$f":"AU71*$G$71","v":0},null,{"$f":"(AU71*$F$71)*#REF!","v":{"$error":"#REF!"}},{"$error":"#REF!"},{"$error":"#REF!"},{"$error":"#REF!"}]
[null,null,"Корпус кухонний секція нижня 60Н2ШХ/820 Pro Hettich",356,596,2,0.42435200000000001,0,3709,null,0,null,{"$f":"(L72*$F$72)*#REF!","v":{"$error":"#REF!"}},{"$f":"#REF!","v":{"$error":"#REF!"}},{"$f":"#REF!","v":{"$error":"#REF!"}},{"$f":"#REF!","v":{"$error":"#REF!"}},{"$error":"#REF!"},{"$error":"#REF!"},{"$error":"#REF!"},{"$f":"#REF!","v":{"$error":"#REF!"}},{"$f":"#REF!","v":{"$error":"#REF!"}},{"$f":"#REF!","v":{"$error":"#REF!"}},{"$f":"X72*$G$72","v":0},null,{"$f":"(X72*$F$72)*#REF!","v":{"$error":"#REF!"}},{"$error":"#REF!"},{"$error":"#REF!"},{"$error":"#REF!"},{"$f":"#REF!","v":{"$error":"#REF!"}},{"$f":"#REF!","v":{"$error":"#REF!"}},{"$f":"#REF!","v":{"$error":"#REF!"}},{"$f":"AG72*$G$72","v":0},null,null,{"$error":"#REF!"},{"$error":"#REF!"},{"$error":"#REF!"},{"$f":"#REF!","v":{"$error":"#REF!"}},{"$f":"AN72*$G$72","v":0},null,{"$f":"(AN72*$F$72)*#REF!","v":{"$error":"#REF!"}},{"$error":"#REF!"},{"$f":"#REF!","v":{"$error":"#REF!"}},{"$f":"#REF!","v":{"$error":"#REF!"}},{"$f":"#REF!","v":{"$error":"#REF!"}},{"$f":"AU72*$G$72","v":0},null,{"$f":"(AU72*$F$72)*#REF!","v":{"$error":"#REF!"}},{"$error":"#REF!"},{"$error":"#REF!"},{"$error":"#REF!"}]
[null,null,"Корпус кухонний секція нижня 60Н3ШХ/820 Pro Hettich",176,596,1,0.104896,{"$f":"(G73+G74)*L73","v":0},4868,null,{"$f":"(I73*1)*J73","v":0},null,{"$f":"(L73*$F$73)*#REF!","v":{"$error":"#REF!"}},{"$f":"#REF!","v":{"$error":"#REF!"}},{"$f":"#REF!","v":{"$error":"#REF!"}},{"$f":"#REF!","v":{"$error":"#REF!"}},{"$error":"#REF!"},{"$error":"#REF!"},{"$error":"#REF!"},{"$f":"#REF!","v":{"$error":"#REF!"}},{"$f":"#REF!","v":{"$error":"#REF!"}},{"$f":"#REF!","v":{"$error":"#REF!"}},{"$f":"X73*($G$73+$G$74)","v":0},null,{"$f":"(X73*$F$73)*#REF!","v":{"$error":"#REF!"}},{"$error":"#REF!"},{"$error":"#REF!"},{"$error":"#REF!"},{"$f":"#REF!","v":{"$error":"#REF!"}},{"$f":"#REF!","v":{"$error":"#REF!"}},{"$f":"#REF!","v":{"$error":"#REF!"}},{"$f":"AG73*($G$73+$G$74)","v":0},null,null,{"$error":"#REF!"},{"$error":"#REF!"},{"$error":"#REF!"},{"$f":"#REF!","v":{"$error":"#REF!"}},{"$f":"AN73*($G$73+$G$74)","v":0},null,{"$f":"(AN73*$F$73)*#REF!","v":{"$error":"#REF!"}},{"$error":"#REF!"},{"$f":"#REF!","v":{"$error":"#REF!"}},{"$f":"#REF!","v":{"$error":"#REF!"}},{"$f":"#REF!","v":{"$error":"#REF!"}},{"$f":"AU73*($G$73+$G$74)","v":0},null,{"$f":"(AU73*$F$73)*#REF!","v":{"$error":"#REF!"}},{"$error":"#REF!"},{"$error":"#REF!"},{"$error":"#REF!"}]
[null,null,null,266,596,2,0.31707200000000002,null,null,null,null,null,{"$f":"(L73*$F$74)*#REF!","v":{"$error":"#REF!"}},{"$f":"#REF!","v":{"$error":"#REF!"}},{"$f":"#REF!","v":{"$error":"#REF!"}},{"$f":"#REF!","v":{"$error":"#REF!"}},null,null,null,{"$f":"#REF!","v":{"$error":"#REF!"}},{"$f":"#REF!","v":{"$error":"#REF!"}},{"$f":"#REF!","v":{"$error":"#REF!"}},null,null,{"$f":"(X73*$F$74)*#REF!","v":{"$error":"#REF!"}},{"$error":"#REF!"},{"$error":"#REF!"},{"$error":"#REF!"},{"$f":"#REF!","v":{"$error":"#REF!"}},{"$f":"#REF!","v":{"$error":"#REF!"}},{"$f":"#REF!","v":{"$error":"#REF!"}},null,null,null,{"$error":"#REF!"},{"$error":"#REF!"},{"$error":"#REF!"},{"$f":"#REF!","v":{"$error":"#REF!"}},null,null,{"$f":"(AN73*$F$74)*#REF!","v":{"$error":"#REF!"}},{"$error":"#REF!"},{"$f":"#REF!","v":{"$error":"#REF!"}},{"$f":"#REF!","v":{"$error":"#REF!"}},{"$f":"#REF!","v":{"$error":"#REF!"}},null,null,{"$f":"(AU73*$F$74)*#REF!","v":{"$error":"#REF!"}},{"$error":"#REF!"},{"$error":"#REF!"},{"$error":"#REF!"}]
[null,null,"Корпус кухонний секція нижня 80Н/820 2дв Pro Blum",715,396,2,{"$f":"(D75*E75)/1000000*F75","v":0.56628000000000001},0,1608,null,{"$f":"(I75*1)*J75","v":0},null,{"$f":"(L75*$F$75)*#REF!","v":{"$error":"#REF!"}},{"$f":"#REF!","v":{"$error":"#REF!"}},{"$f":"#REF!","v":{"$error":"#REF!"}},{"$f":"#REF!","v":{"$error":"#REF!"}},{"$error":"#REF!"},{"$error":"#REF!"},{"$error":"#REF!"},{"$f":"#REF!","v":{"$error":"#REF!"}},{"$f":"#REF!","v":{"$error":"#REF!"}},{"$f":"#REF!","v":{"$error":"#REF!"}},{"$f":"X75*$G$75","v":0},null,{"$f":"(X75*$F$75)*#REF!","v":{"$error":"#REF!"}},{"$f":"T75*W75","v":{"$error":"#REF!"}},{"$f":"U75*W75","v":{"$error":"#REF!"}},{"$f":"V75*W75","v":{"$error":"#REF!"}},{"$f":"#REF!","v":{"$error":"#REF!"}},{"$f":"#REF!","v":{"$error":"#REF!"}},{"$f":"#REF!","v":{"$error":"#REF!"}},{"$f":"AG75*$G$75","v":0},null,null,{"$f":"AC75*AF75","v":{"$error":"#REF!"}},{"$f":"AD75*AF75","v":{"$error":"#REF!"}},{"$f":"AE75*AF75","v":{"$error":"#REF!"}},{"$f":"#REF!","v":{"$error":"#REF!"}},{"$f":"AN75*$G$75","v":0},null,{"$f":"(AN75*$F$75)*#REF!","v":{"$error":"#REF!"}},{"$f":"AM75*AL75","v":{"$error":"#REF!"}},{"$f":"#REF!","v":{"$error":"#REF!"}},{"$f":"#REF!","v":{"$error":"#REF!"}},{"$f":"#REF!","v":{"$error":"#REF!"}},{"$f":"AU75*$G$75","v":0},null,{"$f":"(AU75*$F$75)*#REF!","v":{"$error":"#REF!"}},{"$error":"#REF!"},{"$error":"#REF!"},{"$error":"#REF!"}]
[null,null,"Корпус кухонний секція нижня 80НМ/820 2дв Мийка Pro Blum",715,396,2,0.56628000000000001,0,2770,null,{"$f":"(I76*1)*J76","v":0},null,{"$f":"(L76*$F$76)*#REF!","v":{"$error":"#REF!"}},{"$f":"#REF!","v":{"$error":"#REF!"}},{"$f":"#REF!","v":{"$error":"#REF!"}},{"$f":"#REF!","v":{"$error":"#REF!"}},{"$error":"#REF!"},{"$error":"#REF!"},{"$error":"#REF!"},{"$f":"#REF!","v":{"$error":"#REF!"}},{"$f":"#REF!","v":{"$error":"#REF!"}},{"$f":"#REF!","v":{"$error":"#REF!"}},{"$f":"X76*$G$76","v":0},null,{"$f":"(X76*$F$76)*#REF!","v":{"$error":"#REF!"}},{"$error":"#REF!"},{"$error":"#REF!"},{"$error":"#REF!"},{"$f":"#REF!","v":{"$error":"#REF!"}},{"$f":"#REF!","v":{"$error":"#REF!"}},{"$f":"#REF!","v":{"$error":"#REF!"}},{"$f":"AG76*$G$76","v":0},null,null,{"$error":"#REF!"},{"$error":"#REF!"},{"$error":"#REF!"},{"$f":"#REF!","v":{"$error":"#REF!"}},{"$f":"AN76*$G$76","v":0},null,{"$f":"(AN76*$F$76)*#REF!","v":{"$error":"#REF!"}},{"$error":"#REF!"},{"$f":"#REF!","v":{"$error":"#REF!"}},{"$f":"#REF!","v":{"$error":"#REF!"}},{"$f":"#REF!","v":{"$error":"#REF!"}},{"$f":"AU76*$G$76","v":0},null,{"$f":"(AU76*$F$76)*#REF!","v":{"$error":"#REF!"}},{"$error":"#REF!"},{"$error":"#REF!"},{"$error":"#REF!"}]
[null,null,"Корпус кухонний секція нижня 80Н2ШХ/820 Pro Hettich",356,796,2,0.56675200000000003,0,3842,null,0,null,{"$f":"(L77*$F$77)*#REF!","v":{"$error":"#REF!"}},{"$f":"#REF!","v":{"$error":"#REF!"}},{"$f":"#REF!","v":{"$error":"#REF!"}},{"$f":"#REF!","v":{"$error":"#REF!"}},{"$error":"#REF!"},{"$error":"#REF!"},{"$error":"#REF!"},{"$f":"#REF!","v":{"$error":"#REF!"}},{"$f":"#REF!","v":{"$error":"#REF!"}},{"$f":"#REF!","v":{"$error":"#REF!"}},{"$f":"X77*$G$77","v":0},null,{"$f":"(X77*$F$77)*#REF!","v":{"$error":"#REF!"}},{"$error":"#REF!"},{"$error":"#REF!"},{"$error":"#REF!"},{"$f":"#REF!","v":{"$error":"#REF!"}},{"$f":"#REF!","v":{"$error":"#REF!"}},{"$f":"#REF!","v":{"$error":"#REF!"}},{"$f":"AG77*$G$77","v":0},null,null,{"$error":"#REF!"},{"$error":"#REF!"},{"$error":"#REF!"},{"$f":"#REF!","v":{"$error":"#REF!"}},{"$f":"AN77*$G$77","v":0},null,{"$f":"(AN77*$F$77)*#REF!","v":{"$error":"#REF!"}},{"$error":"#REF!"},{"$f":"#REF!","v":{"$error":"#REF!"}},{"$f":"#REF!","v":{"$error":"#REF!"}},{"$f":"#REF!","v":{"$error":"#REF!"}},{"$f":"AU77*$G$77","v":0},null,{"$f":"(AU77*$F$77)*#REF!","v":{"$error":"#REF!"}},{"$error":"#REF!"},{"$error":"#REF!"},{"$error":"#REF!"}]
[null,null,"Корпус кухонний секція нижня 80Н3ШХ/820 Pro Hettich",176,796,1,0.140096,{"$f":"(G78+G79)*L78","v":0},4724,null,0,null,{"$f":"(L78*$F$78)*#REF!","v":{"$error":"#REF!"}},{"$f":"#REF!","v":{"$error":"#REF!"}},{"$f":"#REF!","v":{"$error":"#REF!"}},{"$f":"#REF!","v":{"$error":"#REF!"}},{"$f":"N78*H78","v":{"$error":"#REF!"}},{"$f":"O78*H78","v":{"$error":"#REF!"}},{"$f":"P78*H78","v":{"$error":"#REF!"}},{"$f":"#REF!","v":{"$error":"#REF!"}},{"$f":"#REF!","v":{"$error":"#REF!"}},{"$f":"#REF!","v":{"$error":"#REF!"}},{"$f":"X78*($G$78+$G$79)","v":0},null,{"$f":"(X78*$F$78)*#REF!","v":{"$error":"#REF!"}},{"$error":"#REF!"},{"$error":"#REF!"},{"$error":"#REF!"},{"$f":"#REF!","v":{"$error":"#REF!"}},{"$f":"#REF!","v":{"$error":"#REF!"}},{"$f":"#REF!","v":{"$error":"#REF!"}},{"$f":"AG78*($G$78+$G$79)","v":0},null,null,{"$error":"#REF!"},{"$error":"#REF!"},{"$error":"#REF!"},{"$f":"#REF!","v":{"$error":"#REF!"}},{"$f":"AN78*($G$78+$G$79)","v":0},null,{"$f":"(AN78*$F$78)*#REF!","v":{"$error":"#REF!"}},{"$error":"#REF!"},{"$f":"#REF!","v":{"$error":"#REF!"}},{"$f":"#REF!","v":{"$error":"#REF!"}},{"$f":"#REF!","v":{"$error":"#REF!"}},{"$f":"AU78*($G$78+$G$79)","v":0},null,{"$f":"(AU78*$F$78)*#REF!","v":{"$error":"#REF!"}},{"$error":"#REF!"},{"$error":"#REF!"},{"$error":"#REF!"}]
[null,null,null,266,796,2,0.42347200000000002,null,null,null,null,null,{"$f":"(L78*$F$79)*#REF!","v":{"$error":"#REF!"}},{"$f":"#REF!","v":{"$error":"#REF!"}},{"$f":"#REF!","v":{"$error":"#REF!"}},{"$f":"#REF!","v":{"$error":"#REF!"}},null,null,null,{"$f":"#REF!","v":{"$error":"#REF!"}},{"$f":"#REF!","v":{"$error":"#REF!"}},{"$f":"#REF!","v":{"$error":"#REF!"}},null,null,{"$f":"(X78*$F$79)*#REF!","v":{"$error":"#REF!"}},{"$error":"#REF!"},{"$error":"#REF!"},{"$error":"#REF!"},{"$f":"#REF!","v":{"$error":"#REF!"}},{"$f":"#REF!","v":{"$error":"#REF!"}},{"$f":"#REF!","v":{"$error":"#REF!"}},null,null,null,{"$error":"#REF!"},{"$error":"#REF!"},{"$error":"#REF!"},{"$f":"#REF!","v":{"$error":"#REF!"}},null,null,{"$f":"(AN78*$F$79)*#REF!","v":{"$error":"#REF!"}},{"$error":"#REF!"},{"$f":"#REF!","v":{"$error":"#REF!"}},{"$f":"#REF!","v":{"$error":"#REF!"}},{"$f":"#REF!","v":{"$error":"#REF!"}},null,null,{"$f":"(AU78*$F$79)*#REF!","v":{"$error":"#REF!"}},{"$error":"#REF!"},{"$error":"#REF!"},{"$error":"#REF!"}]
[null,null,"Корпус кухонний секція нижня 90Н2ШХ/820 Pro Hettich",356,896,2,0.63795199999999996]
[null,null,"Корпус кухонний секцiя нижня КутН 90°/820 2дв Pro Blum",715,478,1,0.34177000000000002]
[null,null,null,715,468,1,0.33461999999999997]
[null,null,"Корпус кухонний секцiя нижня КутН 90°/820 Обманка",715,72,1,5.1479999999999998E-2]
[null,null,null,715,90,1]
[null,null,"Корпус кухонний секцiя нижня КутН 90°/820 1дв Pro Blum",715,396,1,0.28314,{"$f":"G85*L85","v":0},1965,null,{"$f":"(I85*1)*J85","v":0},null,{"$f":"(L85*$F$85)*#REF!","v":{"$error":"#REF!"}},{"$f":"#REF!","v":{"$error":"#REF!"}},{"$f":"#REF!","v":{"$error":"#REF!"}},{"$f":"#REF!","v":{"$error":"#REF!"}},{"$f":"N85*H85","v":{"$error":"#REF!"}},{"$error":"#REF!"},{"$error":"#REF!"},{"$f":"#REF!","v":{"$error":"#REF!"}},{"$f":"#REF!","v":{"$error":"#REF!"}},{"$f":"#REF!","v":{"$error":"#REF!"}},{"$f":"X85*$G$85","v":0},null,{"$f":"(X85*$F$85)*#REF!","v":{"$error":"#REF!"}},{"$error":"#REF!"},{"$error":"#REF!"},{"$error":"#REF!"},{"$f":"#REF!","v":{"$error":"#REF!"}},{"$f":"#REF!","v":{"$error":"#REF!"}},{"$f":"#REF!","v":{"$error":"#REF!"}},{"$f":"AG85*$G$85","v":0},null,null,{"$error":"#REF!"},{"$error":"#REF!"},{"$error":"#REF!"},{"$f":"#REF!","v":{"$error":"#REF!"}},{"$f":"AN85*$G$85","v":0},null,{"$f":"(AN85*$F$85)*#REF!","v":{"$error":"#REF!"}},{"$error":"#REF!"},{"$f":"#REF!","v":{"$error":"#REF!"}},{"$f":"#REF!","v":{"$error":"#REF!"}},{"$f":"#REF!","v":{"$error":"#REF!"}},{"$f":"AU85*$G$85","v":0},null,{"$f":"(AU85*$F$85)*#REF!","v":{"$error":"#REF!"}},{"$error":"#REF!"},{"$error":"#REF!"},{"$error":"#REF!"}]
[null,null,null,715,72,1,5.1479999999999998E-2,{"$f":"G86*L85","v":0},null,null,null,null,{"$f":"(L86*$F$86)*#REF!","v":{"$error":"#REF!"}},{"$f":"#REF!","v":{"$error":"#REF!"}},{"$f":"#REF!","v":{"$error":"#REF!"}},{"$f":"#REF!","v":{"$error":"#REF!"}},{"$f":"N86*H86","v":{"$error":"#REF!"}},{"$error":"#REF!"},{"$error":"#REF!"},{"$f":"#REF!","v":{"$error":"#REF!"}},{"$f":"#REF!","v":{"$error":"#REF!"}},{"$f":"#REF!","v":{"$error":"#REF!"}},{"$f":"X85*$G$86","v":0},null,{"$f":"(X86*$F$86)*#REF!","v":{"$error":"#REF!"}},{"$error":"#REF!"},{"$error":"#REF!"},{"$error":"#REF!"},{"$f":"#REF!","v":{"$error":"#REF!"}},{"$f":"#REF!","v":{"$error":"#REF!"}},{"$f":"#REF!","v":{"$error":"#REF!"}},{"$f":"AG85*$G$86","v":0},null,null,{"$error":"#REF!"},{"$error":"#REF!"},{"$error":"#REF!"},{"$f":"#REF!","v":{"$error":"#REF!"}},{"$f":"AN85*$G$86","v":0},null,{"$f":"(AN86*$F$86)*#REF!","v":{"$error":"#REF!"}},{"$error":"#REF!"},{"$f":"#REF!","v":{"$error":"#REF!"}},{"$f":"#REF!","v":{"$error":"#REF!"}},{"$f":"#REF!","v":{"$error":"#REF!"}},{"$f":"AU85*$G$86","v":0},null,{"$f":"(AU86*$F$86)*#REF!","v":{"$error":"#REF!"}},{"$error":"#REF!"},{"$error":"#REF!"},{"$error":"#REF!"}]
[null,null,null,715,235,1,0.16802500000000001,{"$f":"G87*L85","v":0},null,null,null,null,{"$f":"(L87*$F$87)*#REF!","v":{"$error":"#REF!"}},{"$f":"#REF!","v":{"$error":"#REF!"}},{"$f":"#REF!","v":{"$error":"#REF!"}},{"$f":"#REF!","v":{"$error":"#REF!"}},{"$error":"#REF!"},{"$error":"#REF!"},{"$error":"#REF!"},{"$f":"#REF!","v":{"$error":"#REF!"}},{"$f":"#REF!","v":{"$error":"#REF!"}},{"$f":"#REF!","v":{"$error":"#REF!"}},{"$f":"X85*$G$87","v":0},null,{"$f":"(X87*$F$87)*#REF!","v":{"$error":"#REF!"}},{"$error":"#REF!"},{"$error":"#REF!"},{"$error":"#REF!"},{"$f":"#REF!","v":{"$error":"#REF!"}},{"$f":"#REF!","v":{"$error":"#REF!"}},{"$f":"#REF!","v":{"$error":"#REF!"}},{"$f":"AG85*$G$87","v":0},null,null,{"$error":"#REF!"},{"$error":"#REF!"},{"$error":"#REF!"},{"$f":"#REF!","v":{"$error":"#REF!"}},{"$f":"AN85*$G$87","v":0},null,{"$f":"(AN87*$F$87)*#REF!","v":{"$error":"#REF!"}},{"$error":"#REF!"},{"$f":"#REF!","v":{"$error":"#REF!"}},{"$f":"#REF!","v":{"$error":"#REF!"}},{"$f":"#REF!","v":{"$error":"#REF!"}},{"$f":"AU85*$G$87","v":0},null,{"$f":"(AU87*$F$87)*#REF!","v":{"$error":"#REF!"}},{"$error":"#REF!"},{"$error":"#REF!"},{"$error":"#REF!"}]
[null,"Пенали","Корпус кухонний секція пенал 40П/2140 Pro Blum",1316,396,1,0.52113600000000004]
[null,null,null,715,396,1]
[null,null,"Корпус кухонний секція пенал 60ПД/2140 Духовка Pro Blum",715,596,2]
[null,null,"Корпус кухонний секція пенал 60П/1420 Pro Blum",1316,596,1]
[null,null,"Корпус кухонний секція пенал 60ПД/1420 Духовка Pro Blum",715,596,1]
[null,null,"Корпус кухонний секція пенал 60ПД/2320 Духовка Pro Blum",895,596,1,0.53342000000000001,{"$f":"(G93+G94)*L93","v":0},3068,null,{"$f":"(I93*1)*J93","v":0},null,{"$f":"(L93*$F$93)*#REF!","v":{"$error":"#REF!"}},{"$f":"#REF!","v":{"$error":"#REF!"}},{"$f":"#REF!","v":{"$error":"#REF!"}},{"$f":"#REF!","v":{"$error":"#REF!"}},{"$f":"N93*H93","v":{"$error":"#REF!"}},{"$f":"O93*H93","v":{"$error":"#REF!"}},{"$f":"P93*H93","v":{"$error":"#REF!"}},{"$f":"#REF!","v":{"$error":"#REF!"}},{"$f":"#REF!","v":{"$error":"#REF!"}},{"$f":"#REF!","v":{"$error":"#REF!"}},{"$f":"X93*($G$93+$G$94)","v":0},null,{"$f":"(X93*$F$93)*#REF!","v":{"$error":"#REF!"}},{"$error":"#REF!"},{"$error":"#REF!"},{"$error":"#REF!"},{"$f":"#REF!","v":{"$error":"#REF!"}},{"$f":"#REF!","v":{"$error":"#REF!"}},{"$f":"#REF!","v":{"$error":"#REF!"}},{"$f":"AG93*($G$93+$G$94)","v":0},null,null,{"$error":"#REF!"},{"$error":"#REF!"},{"$error":"#REF!"},{"$f":"#REF!","v":{"$error":"#REF!"}},{"$f":"AN93*($G$93+$G$94)","v":0},null,{"$f":"(AN93*$F$93)*#REF!","v":{"$error":"#REF!"}},{"$error":"#REF!"},{"$f":"#REF!","v":{"$error":"#REF!"}},{"$f":"#REF!","v":{"$error":"#REF!"}},{"$f":"#REF!","v":{"$error":"#REF!"}},{"$f":"AU93*($G$93+$G$94)","v":0},null,{"$f":"(AU93*$F$93)*#REF!","v":{"$error":"#REF!"}},{"$error":"#REF!"},{"$error":"#REF!"},{"$error":"#REF!"}]
[null,null,null,715,596,1,0.42614000000000002,null,null,null,null,null,{"$f":"(L93*$F$94)*#REF!","v":{"$error":"#REF!"}},{"$f":"#REF!","v":{"$error":"#REF!"}},{"$f":"#REF!","v":{"$error":"#REF!"}},{"$f":"#REF!","v":{"$error":"#REF!"}},null,null,null,{"$f":"#REF!","v":{"$error":"#REF!"}},{"$f":"#REF!","v":{"$error":"#REF!"}},{"$f":"#REF!","v":{"$error":"#REF!"}},null,null,{"$f":"(X93*$F$94)*#REF!","v":{"$error":"#REF!"}},{"$error":"#REF!"},{"$error":"#REF!"},{"$error":"#REF!"},{"$f":"#REF!","v":{"$error":"#REF!"}},{"$f":"#REF!","v":{"$error":"#REF!"}},{"$f":"#REF!","v":{"$error":"#REF!"}},null,null,null,{"$error":"#REF!"},{"$error":"#REF!"},{"$error":"#REF!"},{"$f":"#REF!","v":{"$error":"#REF!"}},null,null,{"$f":"(AN93*$F$94)*#REF!","v":{"$error":"#REF!"}},{"$error":"#REF!"},{"$f":"#REF!","v":{"$error":"#REF!"}},{"$f":"#REF!","v":{"$error":"#REF!"}},{"$f":"#REF!","v":{"$error":"#REF!"}},null,null,{"$f":"(AU93*$F$94)*#REF!","v":{"$error":"#REF!"}},{"$error":"#REF!"},{"$error":"#REF!"},{"$error":"#REF!"}]
[null,null,"Корпус кухонний секція пенал 60ПДМ1ШХ/2140 Духовка+Мікрохвильовка Pro Blum+Hettich",715,596,1,0.42614000000000002,{"$f":"(G95+G96)*L95","v":0},3709,null,0,null,{"$f":"(L95*$F$95)*#REF!","v":{"$error":"#REF!"}},{"$f":"#REF!","v":{"$error":"#REF!"}},{"$f":"#REF!","v":{"$error":"#REF!"}},{"$f":"#REF!","v":{"$error":"#REF!"}},{"$f":"N95*H95","v":{"$error":"#REF!"}},{"$f":"O95*H95","v":{"$error":"#REF!"}},{"$f":"P95*H95","v":{"$error":"#REF!"}},{"$f":"#REF!","v":{"$error":"#REF!"}},{"$f":"#REF!","v":{"$error":"#REF!"}},{"$f":"#REF!","v":{"$error":"#REF!"}},{"$f":"X95*($G$95+$G$96)","v":0},null,{"$f":"(X95*$F$95)*#REF!","v":{"$error":"#REF!"}},{"$error":"#REF!"},{"$error":"#REF!"},{"$error":"#REF!"},{"$f":"#REF!","v":{"$error":"#REF!"}},{"$f":"#REF!","v":{"$error":"#REF!"}},{"$f":"#REF!","v":{"$error":"#REF!"}},{"$f":"AG95*($G$95+$G$96)","v":0},null,null,{"$error":"#REF!"},{"$error":"#REF!"},{"$error":"#REF!"},{"$f":"#REF!","v":{"$error":"#REF!"}},{"$f":"AN95*($G$95+$G$96)","v":0},null,{"$f":"(AN95*$F$95)*#REF!","v":{"$error":"#REF!"}},{"$error":"#REF!"},{"$f":"#REF!","v":{"$error":"#REF!"}},{"$f":"#REF!","v":{"$error":"#REF!"}},{"$f":"#REF!","v":{"$error":"#REF!"}},{"$f":"AU95*($G$95+$G$96)","v":0},null,{"$f":"(AU95*$F$95)*#REF!","v":{"$error":"#REF!"}},{"$error":"#REF!"},{"$error":"#REF!"},{"$error":"#REF!"}]
[null,null,null,336,596,1,0.20025599999999999,null,null,null,null,null,{"$f":"(L95*$F$96)*#REF!","v":{"$error":"#REF!"}},{"$f":"#REF!","v":{"$error":"#REF!"}},{"$f":"#REF!","v":{"$error":"#REF!"}},{"$f":"#REF!","v":{"$error":"#REF!"}},null,null,null,{"$f":"#REF!","v":{"$error":"#REF!"}},{"$f":"#REF!","v":{"$error":"#REF!"}},{"$f":"#REF!","v":{"$error":"#REF!"}},null,null,{"$f":"(X95*$F$96)*#REF!","v":{"$error":"#REF!"}},{"$error":"#REF!"},{"$error":"#REF!"},{"$error":"#REF!"},{"$f":"#REF!","v":{"$error":"#REF!"}},{"$f":"#REF!","v":{"$error":"#REF!"}},{"$f":"#REF!","v":{"$error":"#REF!"}},null,null,null,{"$error":"#REF!"},{"$error":"#REF!"},{"$error":"#REF!"},{"$f":"#REF!","v":{"$error":"#REF!"}},null,null,{"$f":"(AN95*$F$96)*#REF!","v":{"$error":"#REF!"}},{"$error":"#REF!"},{"$f":"#REF!","v":{"$error":"#REF!"}},{"$f":"#REF!","v":{"$error":"#REF!"}},{"$f":"#REF!","v":{"$error":"#REF!"}},null,null,{"$f":"(AU95*$F$96)*#REF!","v":{"$error":"#REF!"}},{"$error":"#REF!"},{"$error":"#REF!"},{"$error":"#REF!"}]
[null,null,"Корпус кухонний секція пенал 60ПДМ1ШХ/2320 Духовка+Мікрохвильовка Pro Blum+Hettich",895,596,1,0.53342000000000001,{"$f":"(G97+G98)*L97","v":0},4101,null,0,null,{"$f":"(L97*$F$97)*#REF!","v":{"$error":"#REF!"}},{"$f":"#REF!","v":{"$error":"#REF!"}},{"$f":"#REF!","v":{"$error":"#REF!"}},{"$f":"#REF!","v":{"$error":"#REF!"}},{"$error":"#REF!"},{"$error":"#REF!"},{"$error":"#REF!"},{"$f":"#REF!","v":{"$error":"#REF!"}},{"$f":"#REF!","v":{"$error":"#REF!"}},{"$f":"#REF!","v":{"$error":"#REF!"}},{"$f":"X97*($G$97+$G$98)","v":0},null,{"$f":"(X97*$F$97)*#REF!","v":{"$error":"#REF!"}},{"$error":"#REF!"},{"$error":"#REF!"},{"$error":"#REF!"},{"$f":"#REF!","v":{"$error":"#REF!"}},{"$f":"#REF!","v":{"$error":"#REF!"}},{"$f":"#REF!","v":{"$error":"#REF!"}},{"$f":"AG97*($G$97+$G$98)","v":0},null,null,{"$error":"#REF!"},{"$error":"#REF!"},{"$error":"#REF!"},{"$f":"#REF!","v":{"$error":"#REF!"}},{"$f":"AN97*($G$97+$G$98)","v":0},null,{"$f":"(AN97*$F$97)*#REF!","v":{"$error":"#REF!"}},{"$error":"#REF!"},{"$f":"#REF!","v":{"$error":"#REF!"}},{"$f":"#REF!","v":{"$error":"#REF!"}},{"$f":"#REF!","v":{"$error":"#REF!"}},{"$f":"AU97*($G$97+$G$98)","v":0},null,{"$f":"(AU97*$F$97)*#REF!","v":{"$error":"#REF!"}},{"$error":"#REF!"},{"$error":"#REF!"},{"$error":"#REF!"}]
[null,null,null,336,596,1,0.20025599999999999,null,null,null,null,null,{"$f":"(L97*$F$98)*#REF!","v":{"$error":"#REF!"}},{"$f":"#REF!","v":{"$error":"#REF!"}},{"$f":"#REF!","v":{"$error":"#REF!"}},{"$f":"#REF!","v":{"$error":"#REF!"}},null,null,null,{"$f":"#REF!","v":{"$error":"#REF!"}},{"$f":"#REF!","v":{"$error":"#REF!"}},{"$f":"#REF!","v":{"$error":"#REF!"}},null,null,{"$f":"(X97*$F$98)*#REF!","v":{"$error":"#REF!"}},{"$error":"#REF!"},{"$error":"#REF!"},{"$error":"#REF!"},{"$f":"#REF!","v":{"$error":"#REF!"}},{"$f":"#REF!","v":{"$error":"#REF!"}},{"$f":"#REF!","v":{"$error":"#REF!"}},null,null,null,{"$error":"#REF!"},{"$error":"#REF!"},{"$error":"#REF!"},{"$f":"#REF!","v":{"$error":"#REF!"}},null,null,{"$f":"(AN97*$F$98)*#REF!","v":{"$error":"#REF!"}},{"$error":"#REF!"},{"$f":"#REF!","v":{"$error":"#REF!"}},{"$f":"#REF!","v":{"$error":"#REF!"}},{"$f":"#REF!","v":{"$error":"#REF!"}},null,null,{"$f":"(AU97*$F$98)*#REF!","v":{"$error":"#REF!"}},{"$error":"#REF!"},{"$error":"#REF!"},{"$error":"#REF!"}]
[null,null,"Корпус кухонний секція пенал 60П/2320 Pro Blum",1496,596,1,0.89161599999999996,{"$f":"(G99+G100)*L99","v":0},3099,null,0,null,{"$f":"(L99*$F$99)*#REF!","v":{"$error":"#REF!"}},{"$f":"#REF!","v":{"$error":"#REF!"}},{"$f":"#REF!","v":{"$error":"#REF!"}},{"$f":"#REF!","v":{"$error":"#REF!"}},{"$f":"N99*H99","v":{"$error":"#REF!"}},{"$f":"O99*H99","v":{"$error":"#REF!"}},{"$f":"P99*H99","v":{"$error":"#REF!"}},{"$f":"#REF!","v":{"$error":"#REF!"}},{"$f":"#REF!","v":{"$error":"#REF!"}},{"$f":"#REF!","v":{"$error":"#REF!"}},{"$f":"X99*($G$99+$G$100)","v":0},null,{"$f":"(X99*$F$99)*#REF!","v":{"$error":"#REF!"}},{"$error":"#REF!"},{"$error":"#REF!"},{"$error":"#REF!"},{"$f":"#REF!","v":{"$error":"#REF!"}},{"$f":"#REF!","v":{"$error":"#REF!"}},{"$f":"#REF!","v":{"$error":"#REF!"}},{"$f":"AG99*($G$99+$G$100)","v":0},null,null,{"$error":"#REF!"},{"$error":"#REF!"},{"$error":"#REF!"},{"$f":"#REF!","v":{"$error":"#REF!"}},{"$f":"AN99*($G$99+$G$100)","v":0},null,{"$f":"(AN99*$F$99)*#REF!","v":{"$error":"#REF!"}},{"$error":"#REF!"},{"$f":"#REF!","v":{"$error":"#REF!"}},{"$f":"#REF!","v":{"$error":"#REF!"}},{"$f":"#REF!","v":{"$error":"#REF!"}},{"$f":"AU99*($G$99+$G$100)","v":0},null,{"$f":"(AU99*$F$99)*#REF!","v":{"$error":"#REF!"}},{"$error":"#REF!"},{"$error":"#REF!"},{"$error":"#REF!"}]
[null,null,null,715,596,1,0.42614000000000002,null,null,null,null,null,{"$f":"(L99*$F$100)*#REF!","v":{"$error":"#REF!"}},{"$f":"#REF!","v":{"$error":"#REF!"}},{"$f":"#REF!","v":{"$error":"#REF!"}},{"$f":"#REF!","v":{"$error":"#REF!"}},null,null,null,{"$f":"#REF!","v":{"$error":"#REF!"}},{"$f":"#REF!","v":{"$error":"#REF!"}},{"$f":"#REF!","v":{"$error":"#REF!"}},null,null,{"$f":"(X99*$F$100)*#REF!","v":{"$error":"#REF!"}},{"$error":"#REF!"},{"$error":"#REF!"},{"$error":"#REF!"},{"$f":"#REF!","v":{"$error":"#REF!"}},{"$f":"#REF!","v":{"$error":"#REF!"}},{"$f":"#REF!","v":{"$error":"#REF!"}},null,null,null,{"$error":"#REF!"},{"$error":"#REF!"},{"$error":"#REF!"},{"$f":"#REF!","v":{"$error":"#REF!"}},null,null,{"$f":"(AN99*$F$100)*#REF!","v":{"$error":"#REF!"}},{"$error":"#REF!"},{"$f":"#REF!","v":{"$error":"#REF!"}},{"$f":"#REF!","v":{"$error":"#REF!"}},{"$f":"#REF!","v":{"$error":"#REF!"}},null,null,{"$f":"(AU99*$F$100)*#REF!","v":{"$error":"#REF!"}},{"$error":"#REF!"},{"$error":"#REF!"},{"$error":"#REF!"}]
[null,null,"Корпус кухонний секція пенал 60ПХ/2140 Холодильник Pro Blum",1316,596,1,0.78433600000000003,{"$f":"(G101+G102)*L101","v":0},1688,null,0,null,{"$f":"(L101*$F$101)*#REF!","v":{"$error":"#REF!"}},{"$f":"#REF!","v":{"$error":"#REF!"}},{"$f":"#REF!","v":{"$error":"#REF!"}},{"$f":"#REF!","v":{"$error":"#REF!"}},{"$f":"N101*H101","v":{"$error":"#REF!"}},{"$f":"O101*H101","v":{"$error":"#REF!"}},{"$f":"P101*H101","v":{"$error":"#REF!"}},{"$f":"#REF!","v":{"$error":"#REF!"}},{"$f":"#REF!","v":{"$error":"#REF!"}},{"$f":"#REF!","v":{"$error":"#REF!"}},{"$f":"X101*($G$101+$G$102)","v":0},null,{"$f":"(X101*$F$101)*#REF!","v":{"$error":"#REF!"}},{"$error":"#REF!"},{"$error":"#REF!"},{"$error":"#REF!"},{"$f":"#REF!","v":{"$error":"#REF!"}},{"$f":"#REF!","v":{"$error":"#REF!"}},{"$f":"#REF!","v":{"$error":"#REF!"}},{"$f":"AG101*($G$101+$G$102)","v":0},null,null,{"$error":"#REF!"},{"$error":"#REF!"},{"$error":"#REF!"},{"$f":"#REF!","v":{"$error":"#REF!"}},{"$f":"AN101*($G$101+$G$102)","v":0},null,{"$f":"(AN101*$F$101)*#REF!","v":{"$error":"#REF!"}},{"$error":"#REF!"},{"$f":"#REF!","v":{"$error":"#REF!"}},{"$f":"#REF!","v":{"$error":"#REF!"}},{"$f":"#REF!","v":{"$error":"#REF!"}},{"$f":"AU101*($G$101+$G$102)","v":0},null,{"$f":"(AU101*$F$101)*#REF!","v":{"$error":"#REF!"}},{"$error":"#REF!"},{"$error":"#REF!"},{"$error":"#REF!"}]
[null,null,null,715,596,1,0.42614000000000002,null,null,null,null,null,{"$f":"(L101*$F$102)*#REF!","v":{"$error":"#REF!"}},{"$f":"#REF!","v":{"$error":"#REF!"}},{"$f":"#REF!","v":{"$error":"#REF!"}},{"$f":"#REF!","v":{"$error":"#REF!"}},null,null,null,{"$f":"#REF!","v":{"$error":"#REF!"}},{"$f":"#REF!","v":{"$error":"#REF!"}},{"$f":"#REF!","v":{"$error":"#REF!"}},null,null,{"$f":"(X101*$F$102)*#REF!","v":{"$error":"#REF!"}},{"$error":"#REF!"},{"$error":"#REF!"},{"$error":"#REF!"},{"$f":"#REF!","v":{"$error":"#REF!"}},{"$f":"#REF!","v":{"$error":"#REF!"}},{"$f":"#REF!","v":{"$error":"#REF!"}},null,null,null,{"$error":"#REF!"},{"$error":"#REF!"},{"$error":"#REF!"},{"$f":"#REF!","v":{"$error":"#REF!"}},null,null,{"$f":"(AN101*$F$102)*#REF!","v":{"$error":"#REF!"}},{"$error":"#REF!"},{"$f":"#REF!","v":{"$error":"#REF!"}},{"$f":"#REF!","v":{"$error":"#REF!"}},{"$f":"#REF!","v":{"$error":"#REF!"}},null,null,{"$f":"(AU101*$F$102)*#REF!","v":{"$error":"#REF!"}},{"$error":"#REF!"},{"$error":"#REF!"},{"$error":"#REF!"}]
[null,null,"Корпус кухонний секція пенал 60ПХ/2320 Холодильник Pro Blum",1496,596,1,0.89161599999999996,{"$f":"(G103+G104)*L103","v":0},2101,null,0,null,{"$f":"(L103*$F$103)*#REF!","v":{"$error":"#REF!"}},{"$f":"#REF!","v":{"$error":"#REF!"}},{"$f":"#REF!","v":{"$error":"#REF!"}},{"$f":"#REF!","v":{"$error":"#REF!"}},{"$f":"N103*H103","v":{"$error":"#REF!"}},{"$f":"O103*H103","v":{"$error":"#REF!"}},{"$f":"P103*H103","v":{"$error":"#REF!"}},{"$f":"#REF!","v":{"$error":"#REF!"}},{"$f":"#REF!","v":{"$error":"#REF!"}},{"$f":"#REF!","v":{"$error":"#REF!"}},{"$f":"X103*($G$103+$G$104)","v":0},null,{"$f":"(X103*$F$103)*#REF!","v":{"$error":"#REF!"}},{"$error":"#REF!"},{"$error":"#REF!"},{"$error":"#REF!"},{"$f":"#REF!","v":{"$error":"#REF!"}},{"$f":"#REF!","v":{"$error":"#REF!"}},{"$f":"#REF!","v":{"$error":"#REF!"}},{"$f":"AG103*($G$103+$G$104)","v":0},null,null,{"$error":"#REF!"},{"$error":"#REF!"},{"$error":"#REF!"},{"$f":"#REF!","v":{"$error":"#REF!"}},{"$f":"AN103*($G$103+$G$104)","v":0},null,{"$f":"(AN103*$F$103)*#REF!","v":{"$error":"#REF!"}},{"$error":"#REF!"},{"$f":"#REF!","v":{"$error":"#REF!"}},{"$f":"#REF!","v":{"$error":"#REF!"}},{"$f":"#REF!","v":{"$error":"#REF!"}},{"$f":"AU103*($G$103+$G$104)","v":0},null,{"$f":"(AU103*$F$103)*#REF!","v":{"$error":"#REF!"}},{"$error":"#REF!"},{"$error":"#REF!"},{"$error":"#REF!"}]
[null,null,null,715,596,1,0.42614000000000002,null,null,null,null,null,{"$f":"(L103*$F$104)*#REF!","v":{"$error":"#REF!"}},{"$f":"#REF!","v":{"$error":"#REF!"}},{"$f":"#REF!","v":{"$error":"#REF!"}},{"$f":"#REF!","v":{"$error":"#REF!"}},null,null,null,{"$f":"#REF!","v":{"$error":"#REF!"}},{"$f":"#REF!","v":{"$error":"#REF!"}},{"$f":"#REF!","v":{"$error":"#REF!"}},null,null,{"$f":"(X103*$F$104)*#REF!","v":{"$error":"#REF!"}},{"$error":"#REF!"},{"$error":"#REF!"},{"$error":"#REF!"},{"$f":"#REF!","v":{"$error":"#REF!"}},{"$f":"#REF!","v":{"$error":"#REF!"}},{"$f":"#REF!","v":{"$error":"#REF!"}},null,null,null,{"$error":"#REF!"},{"$error":"#REF!"},{"$error":"#REF!"},{"$f":"#REF!","v":{"$error":"#REF!"}},null,null,{"$f":"(AN103*$F$104)*#REF!","v":{"$error":"#REF!"}},{"$error":"#REF!"},{"$f":"#REF!","v":{"$error":"#REF!"}},{"$f":"#REF!","v":{"$error":"#REF!"}},{"$f":"#REF!","v":{"$error":"#REF!"}},null,null,{"$f":"(AU103*$F$104)*#REF!","v":{"$error":"#REF!"}},{"$error":"#REF!"},{"$error":"#REF!"},{"$error":"#REF!"}]
[null,null,"Корпус кухонний секція пенал 60П/2140 Pro Blum",1316,596,1,0.78433600000000003,{"$f":"(G105+G106)*L105","v":0},2728,null,{"$f":"(I105*1)*J105","v":0},null,{"$f":"(L105*$F$105)*#REF!","v":{"$error":"#REF!"}},{"$f":"#REF!","v":{"$error":"#REF!"}},{"$f":"#REF!","v":{"$error":"#REF!"}},{"$f":"#REF!","v":{"$error":"#REF!"}},{"$f":"N105*H105","v":{"$error":"#REF!"}},{"$f":"O105*H105","v":{"$error":"#REF!"}},{"$f":"P105*H105","v":{"$error":"#REF!"}},{"$f":"#REF!","v":{"$error":"#REF!"}},{"$f":"#REF!","v":{"$error":"#REF!"}},{"$f":"#REF!","v":{"$error":"#REF!"}},{"$f":"X105*($G$105+$G$106)","v":0},null,{"$f":"(X105*$F$105)*#REF!","v":{"$error":"#REF!"}},{"$error":"#REF!"},{"$error":"#REF!"},{"$error":"#REF!"},{"$f":"#REF!","v":{"$error":"#REF!"}},{"$f":"#REF!","v":{"$error":"#REF!"}},{"$f":"#REF!","v":{"$error":"#REF!"}},{"$f":"AG105*($G$105+$G$106)","v":0},null,null,{"$error":"#REF!"},{"$error":"#REF!"},{"$error":"#REF!"},{"$f":"#REF!","v":{"$error":"#REF!"}},{"$f":"AN105*($G$105+$G$106)","v":0},null,{"$f":"(AN105*$F$105)*#REF!","v":{"$error":"#REF!"}},{"$error":"#REF!"},{"$f":"#REF!","v":{"$error":"#REF!"}},{"$f":"#REF!","v":{"$error":"#REF!"}},{"$f":"#REF!","v":{"$error":"#REF!"}},{"$f":"AU105*($G$105+$G$106)","v":0},null,{"$f":"(AU105*$F$105)*#REF!","v":{"$error":"#REF!"}},{"$error":"#REF!"},{"$error":"#REF!"},{"$error":"#REF!"}]
[null,null,null,715,596,1,0.42614000000000002,null,null,null,null,null,{"$f":"(L105*$F$106)*#REF!","v":{"$error":"#REF!"}},{"$f":"#REF!","v":{"$error":"#REF!"}},{"$f":"#REF!","v":{"$error":"#REF!"}},{"$f":"#REF!","v":{"$error":"#REF!"}},null,null,null,{"$f":"#REF!","v":{"$error":"#REF!"}},{"$f":"#REF!","v":{"$error":"#REF!"}},{"$f":"#REF!","v":{"$error":"#REF!"}},null,null,{"$f":"(X105*$F$106)*#REF!","v":{"$error":"#REF!"}},{"$error":"#REF!"},{"$error":"#REF!"},{"$error":"#REF!"},{"$f":"#REF!","v":{"$error":"#REF!"}},{"$f":"#REF!","v":{"$error":"#REF!"}},{"$f":"#REF!","v":{"$error":"#REF!"}},null,null,null,{"$error":"#REF!"},{"$error":"#REF!"},{"$error":"#REF!"},{"$f":"#REF!","v":{"$error":"#REF!"}},null,null,{"$f":"(AN105*$F$106)*#REF!","v":{"$error":"#REF!"}},{"$error":"#REF!"},{"$f":"#REF!","v":{"$error":"#REF!"}},{"$f":"#REF!","v":{"$error":"#REF!"}},{"$f":"#REF!","v":{"$error":"#REF!"}},null,null,{"$f":"(AU105*$F$106)*#REF!","v":{"$error":"#REF!"}},{"$error":"#REF!"},{"$error":"#REF!"},{"$error":"#REF!"}]
[null,"Інше","Фасад кухонний 45Н/720 Посудомийка",715,446,1,0.31889000000000001,{"$f":"G107*L107","v":0},null,null,{"$f":"(I107*1)*J107","v":0},null,{"$f":"(L107*$F$107)*#REF!","v":{"$error":"#REF!"}},{"$f":"#REF!","v":{"$error":"#REF!"}},{"$f":"#REF!","v":{"$error":"#REF!"}},{"$f":"#REF!","v":{"$error":"#REF!"}},{"$f":"N107*H107","v":{"$error":"#REF!"}},{"$f":"O107*H107","v":{"$error":"#REF!"}},{"$f":"P107*H107","v":{"$error":"#REF!"}},{"$f":"#REF!","v":{"$error":"#REF!"}},{"$f":"#REF!","v":{"$error":"#REF!"}},{"$f":"#REF!","v":{"$error":"#REF!"}},{"$f":"X107*$G$107","v":0},null,{"$f":"(X107*$F$107)*#REF!","v":{"$error":"#REF!"}},{"$error":"#REF!"},{"$error":"#REF!"},{"$error":"#REF!"},{"$f":"#REF!","v":{"$error":"#REF!"}},{"$f":"#REF!","v":{"$error":"#REF!"}},{"$f":"#REF!","v":{"$error":"#REF!"}},{"$f":"AG107*$G$107","v":0},null,null,{"$error":"#REF!"},{"$error":"#REF!"},{"$error":"#REF!"},{"$f":"#REF!","v":{"$error":"#REF!"}},{"$f":"AN107*$G$107","v":0},null,{"$f":"(AN107*$F$107)*#REF!","v":{"$error":"#REF!"}},{"$error":"#REF!"},{"$f":"#REF!","v":{"$error":"#REF!"}},{"$f":"#REF!","v":{"$error":"#REF!"}},{"$f":"#REF!","v":{"$error":"#REF!"}},{"$f":"AU107*$G$107","v":0},null,{"$f":"(AU107*$F$107)*#REF!","v":{"$error":"#REF!"}},{"$error":"#REF!"},{"$error":"#REF!"},{"$error":"#REF!"}]
[null,null,"Фасад кухонний 60Н/720 Посудомийка",715,596,1,0.42614000000000002,0,null,null,{"$f":"(I108*1)*J108","v":0},null,{"$f":"(L108*$F$108)*#REF!","v":{"$error":"#REF!"}},{"$f":"#REF!","v":{"$error":"#REF!"}},{"$f":"#REF!","v":{"$error":"#REF!"}},{"$f":"#REF!","v":{"$error":"#REF!"}},{"$f":"N108*H108","v":{"$error":"#REF!"}},{"$error":"#REF!"},{"$error":"#REF!"},{"$f":"#REF!","v":{"$error":"#REF!"}},{"$f":"#REF!","v":{"$error":"#REF!"}},{"$f":"#REF!","v":{"$error":"#REF!"}},{"$f":"X108*$G$108","v":0},null,{"$f":"(X108*$F$108)*#REF!","v":{"$error":"#REF!"}},{"$error":"#REF!"},{"$error":"#REF!"},{"$error":"#REF!"},{"$f":"#REF!","v":{"$error":"#REF!"}},{"$f":"#REF!","v":{"$error":"#REF!"}},{"$f":"#REF!","v":{"$error":"#REF!"}},{"$f":"AG108*$G$108","v":0},null,null,{"$error":"#REF!"},{"$error":"#REF!"},{"$error":"#REF!"},{"$f":"#REF!","v":{"$error":"#REF!"}},{"$f":"AN108*$G$108","v":0},null,{"$f":"(AN108*$F$108)*#REF!","v":{"$error":"#REF!"}},{"$error":"#REF!"},{"$f":"#REF!","v":{"$error":"#REF!"}},{"$f":"#REF!","v":{"$error":"#REF!"}},{"$f":"#REF!","v":{"$error":"#REF!"}},{"$f":"AU108*$G$108","v":0},null,{"$f":"(AU108*$F$108)*#REF!","v":{"$error":"#REF!"}},{"$error":"#REF!"},{"$error":"#REF!"},{"$error":"#REF!"}]
[null,null,"Бічна панель верхня 720мм",720,350,1,0.252]
[null,null,"Бічна панель верхня 900мм",900,350,1,0.315]
[null,null,"Бічна панель нижня 820мм",820,580,1,0.47560000000000002]
[null,null,"Бічна панель острів 820мм",820,1160,1,0.95120000000000005]
[null,null,"Бічна панель пенал 1420мм",1420,580,1,0.8236]
[null,null,"Бічна панель пенал 2140мм",2140,580,1,1.2412000000000001]
[null,null,"Бічна панель пенал 2320мм",2320,580,1,1.3455999999999999]
[null,null,"Корпус кухонний секція нижня 5НП/820 Пілястра",715,50,1,3.5749999999999997E-2]
[null,null,"Корпус кухонний секція верхня 5ВП/900 Пілястра",895,50,1,4.4749999999999998E-2,0,null,null,null,null,null,{"$f":"#REF!","v":{"$error":"#REF!"}},{"$f":"#REF!","v":{"$error":"#REF!"}},{"$f":"#REF!","v":{"$error":"#REF!"}},{"$error":"#REF!"},{"$error":"#REF!"},{"$error":"#REF!"},{"$f":"#REF!","v":{"$error":"#REF!"}},{"$f":"#REF!","v":{"$error":"#REF!"}},{"$f":"#REF!","v":{"$error":"#REF!"}},{"$f":"X117*$G$117","v":0},null,null,{"$error":"#REF!"},{"$error":"#REF!"},{"$error":"#REF!"},{"$f":"#REF!","v":{"$error":"#REF!"}},{"$f":"#REF!","v":{"$error":"#REF!"}},{"$f":"#REF!","v":{"$error":"#REF!"}},{"$f":"AG117*$G$117","v":0},null,null,{"$error":"#REF!"},{"$error":"#REF!"},{"$error":"#REF!"},{"$f":"#REF!","v":{"$error":"#REF!"}},{"$f":"AN117*$G$117","v":0},null,null,{"$error":"#REF!"},{"$f":"#REF!","v":{"$error":"#REF!"}},{"$f":"#REF!","v":{"$error":"#REF!"}},{"$f":"#REF!","v":{"$error":"#REF!"}},{"$f":"AU117*$G$117","v":0},null,null,{"$error":"#REF!"},{"$error":"#REF!"},{"$error":"#REF!"}]
[null,null,"Корпус кухонний секція верхня 5ВП/720 Пілястра",715,50,1,3.5749999999999997E-2,0,null,null,{"$f":"(I118*1)*J118","v":0},null,null,{"$f":"#REF!","v":{"$error":"#REF!"}},{"$f":"#REF!","v":{"$error":"#REF!"}},{"$f":"#REF!","v":{"$error":"#REF!"}},{"$error":"#REF!"},{"$error":"#REF!"},{"$error":"#REF!"},{"$f":"#REF!","v":{"$error":"#REF!"}},{"$f":"#REF!","v":{"$error":"#REF!"}},{"$f":"#REF!","v":{"$error":"#REF!"}},{"$f":"X118*$G$118","v":0},null,null,{"$error":"#REF!"},{"$error":"#REF!"},{"$error":"#REF!"},{"$f":"#REF!","v":{"$error":"#REF!"}},{"$f":"#REF!","v":{"$error":"#REF!"}},{"$f":"#REF!","v":{"$error":"#REF!"}},{"$f":"AG118*$G$118","v":0},null,null,{"$error":"#REF!"},{"$error":"#REF!"},{"$error":"#REF!"},{"$f":"#REF!","v":{"$error":"#REF!"}},{"$f":"AN118*$G$118","v":0},null,null,{"$error":"#REF!"},{"$f":"#REF!","v":{"$error":"#REF!"}},{"$f":"#REF!","v":{"$error":"#REF!"}},{"$f":"#REF!","v":{"$error":"#REF!"}},{"$f":"AU118*$G$118","v":0},null,null,{"$error":"#REF!"},{"$error":"#REF!"},{"$error":"#REF!"}]